BEGIN:VCALENDAR
VERSION:2.0
PRODID:-//destination.one//NONSGML destination.meta API//DE
X-WR-CALDESC:A calendar powered by destination.meta
X-WR-CALNAME:teutonavigator Kalender via destination.meta
BEGIN:VEVENT
CATEGORIES:Sonstiges
CATEGORIES:Führung/Besichtigung
DESCRIPTION:\n\nmehr Informationen unter http://pages.destination.one/de/te
 utonavigator/streaming/detail/Event/e_101160834/im-bann-der-hexen-wer-ins-
 visir-geriet
DTEND;TZID=Europe/Berlin:20260710T183000
DTSTAMP:20260421T140601Z
DTSTART;TZID=Europe/Berlin:20260710T170000
GEO:52.287836;8.918405
LOCATION:Tourist-Information der Minden Marketing GmbH\, Kleiner Domhof 17\
 , Minden
ORGANIZER;CN=Tourist-Information der Minden Marketing GmbH:mailto:info@mind
 enmarketing.de
RRULE:FREQ=WEEKLY;UNTIL=20260710T220000;BYDAY=FR
SEQUENCE:0
SUMMARY:Im Bann der Hexen - Wer ins Visir geriet
UID:e_101160834_iv0
URL:http://pages.destination.one/de/teutonavigator/streaming/detail/Event/e
 _101160834/im-bann-der-hexen-wer-ins-visir-geriet
END:VEVENT
BEGIN:VEVENT
CATEGORIES:Sonstiges
CATEGORIES:Führung/Besichtigung
DESCRIPTION:\n\nmehr Informationen unter http://pages.destination.one/de/te
 utonavigator/streaming/detail/Event/e_101160834/im-bann-der-hexen-wer-ins-
 visir-geriet
DTEND;TZID=Europe/Berlin:20260904T183000
DTSTAMP:20260421T140601Z
DTSTART;TZID=Europe/Berlin:20260904T170000
GEO:52.287836;8.918405
LOCATION:Tourist-Information der Minden Marketing GmbH\, Kleiner Domhof 17\
 , Minden
ORGANIZER;CN=Tourist-Information der Minden Marketing GmbH:mailto:info@mind
 enmarketing.de
RRULE:FREQ=WEEKLY;UNTIL=20260904T220000;BYDAY=FR
SEQUENCE:0
SUMMARY:Im Bann der Hexen - Wer ins Visir geriet
UID:e_101160834_iv1
URL:http://pages.destination.one/de/teutonavigator/streaming/detail/Event/e
 _101160834/im-bann-der-hexen-wer-ins-visir-geriet
END:VEVENT
BEGIN:VEVENT
CATEGORIES:Sonstiges
CATEGORIES:Führung/Besichtigung
DESCRIPTION:\n\nmehr Informationen unter http://pages.destination.one/de/te
 utonavigator/streaming/detail/Event/e_101160834/im-bann-der-hexen-wer-ins-
 visir-geriet
DTEND;TZID=Europe/Berlin:20261002T183000
DTSTAMP:20260421T140601Z
DTSTART;TZID=Europe/Berlin:20261002T170000
GEO:52.287836;8.918405
LOCATION:Tourist-Information der Minden Marketing GmbH\, Kleiner Domhof 17\
 , Minden
ORGANIZER;CN=Tourist-Information der Minden Marketing GmbH:mailto:info@mind
 enmarketing.de
RRULE:FREQ=WEEKLY;UNTIL=20261002T220000;BYDAY=FR
SEQUENCE:0
SUMMARY:Im Bann der Hexen - Wer ins Visir geriet
UID:e_101160834_iv2
URL:http://pages.destination.one/de/teutonavigator/streaming/detail/Event/e
 _101160834/im-bann-der-hexen-wer-ins-visir-geriet
END:VEVENT
BEGIN:VEVENT
CATEGORIES:Sonstiges
CATEGORIES:Führung/Besichtigung
DESCRIPTION:\n\nmehr Informationen unter http://pages.destination.one/de/te
 utonavigator/streaming/detail/Event/e_101160834/im-bann-der-hexen-wer-ins-
 visir-geriet
DTEND;TZID=Europe/Berlin:20261113T183000
DTSTAMP:20260421T140601Z
DTSTART;TZID=Europe/Berlin:20261113T170000
GEO:52.287836;8.918405
LOCATION:Tourist-Information der Minden Marketing GmbH\, Kleiner Domhof 17\
 , Minden
ORGANIZER;CN=Tourist-Information der Minden Marketing GmbH:mailto:info@mind
 enmarketing.de
RRULE:FREQ=WEEKLY;UNTIL=20261113T230000;BYDAY=FR
SEQUENCE:0
SUMMARY:Im Bann der Hexen - Wer ins Visir geriet
UID:e_101160834_iv3
URL:http://pages.destination.one/de/teutonavigator/streaming/detail/Event/e
 _101160834/im-bann-der-hexen-wer-ins-visir-geriet
END:VEVENT
BEGIN:VEVENT
CATEGORIES:Sonstiges
CATEGORIES:Führung/Besichtigung
DESCRIPTION:\n\nmehr Informationen unter http://pages.destination.one/de/te
 utonavigator/streaming/detail/Event/e_101160834/im-bann-der-hexen-wer-ins-
 visir-geriet
DTEND;TZID=Europe/Berlin:20261204T183000
DTSTAMP:20260421T140601Z
DTSTART;TZID=Europe/Berlin:20261204T170000
GEO:52.287836;8.918405
LOCATION:Tourist-Information der Minden Marketing GmbH\, Kleiner Domhof 17\
 , Minden
ORGANIZER;CN=Tourist-Information der Minden Marketing GmbH:mailto:info@mind
 enmarketing.de
RRULE:FREQ=WEEKLY;UNTIL=20261204T230000;BYDAY=FR
SEQUENCE:0
SUMMARY:Im Bann der Hexen - Wer ins Visir geriet
UID:e_101160834_iv4
URL:http://pages.destination.one/de/teutonavigator/streaming/detail/Event/e
 _101160834/im-bann-der-hexen-wer-ins-visir-geriet
END:VEVENT
BEGIN:VTIMEZONE
TZID:Europe/Berlin
X-LIC-LOCATION:Europe/Berlin
BEGIN:DAYLIGHT
DTSTART:19700329T020000
RRULE:FREQ=YEARLY;BYDAY=-1SU;BYMONTH=3
TZNAME:CEST
TZOFFSETFROM:+0100
TZOFFSETTO:+0200
END:DAYLIGHT
BEGIN:STANDARD
DTSTART:19701025T030000
RRULE:FREQ=YEARLY;BYDAY=-1SU;BYMONTH=10
TZNAME:CET
TZOFFSETFROM:+0200
TZOFFSETTO:+0100
END:STANDARD
END:VTIMEZONE
END:VCALENDAR
