BEGIN:VCALENDAR
VERSION:2.0
PRODID:-//destination.one//NONSGML destination.meta API//DE
X-WR-CALDESC:A calendar powered by destination.meta
X-WR-CALNAME:teutonavigator Kalender via destination.meta
BEGIN:VEVENT
CATEGORIES:Sonstiges
CATEGORIES:Führung/Besichtigung
DESCRIPTION:\n\nmehr Informationen unter http://pages.destination.one/de/te
 utonavigator/streaming/detail/Event/e_101160823/vom-alten-friedhof-zum-bot
 anischen-garten
DTEND;TZID=Europe/Berlin:20260307T173000
DTSTAMP:20260421T181628Z
DTSTART;TZID=Europe/Berlin:20260307T160000
GEO:52.287836;8.918405
LOCATION:Tourist-Information der Minden Marketing GmbH\, Kleiner Domhof 17\
 , Minden
ORGANIZER;CN=Tourist-Information der Minden Marketing GmbH:mailto:info@mind
 enmarketing.de
RRULE:FREQ=WEEKLY;UNTIL=20260307T230000;BYDAY=FR,SA
SEQUENCE:0
SUMMARY:Vom Alten Friedhof zum Botanischen Garten
UID:e_101160823_iv0
URL:http://pages.destination.one/de/teutonavigator/streaming/detail/Event/e
 _101160823/vom-alten-friedhof-zum-botanischen-garten
END:VEVENT
BEGIN:VEVENT
CATEGORIES:Sonstiges
CATEGORIES:Führung/Besichtigung
DESCRIPTION:\n\nmehr Informationen unter http://pages.destination.one/de/te
 utonavigator/streaming/detail/Event/e_101160823/vom-alten-friedhof-zum-bot
 anischen-garten
DTEND;TZID=Europe/Berlin:20260410T173000
DTSTAMP:20260421T181628Z
DTSTART;TZID=Europe/Berlin:20260410T160000
GEO:52.287836;8.918405
LOCATION:Tourist-Information der Minden Marketing GmbH\, Kleiner Domhof 17\
 , Minden
ORGANIZER;CN=Tourist-Information der Minden Marketing GmbH:mailto:info@mind
 enmarketing.de
RRULE:FREQ=WEEKLY;UNTIL=20260410T220000;BYDAY=FR,SA
SEQUENCE:0
SUMMARY:Vom Alten Friedhof zum Botanischen Garten
UID:e_101160823_iv1
URL:http://pages.destination.one/de/teutonavigator/streaming/detail/Event/e
 _101160823/vom-alten-friedhof-zum-botanischen-garten
END:VEVENT
BEGIN:VEVENT
CATEGORIES:Sonstiges
CATEGORIES:Führung/Besichtigung
DESCRIPTION:\n\nmehr Informationen unter http://pages.destination.one/de/te
 utonavigator/streaming/detail/Event/e_101160823/vom-alten-friedhof-zum-bot
 anischen-garten
DTEND;TZID=Europe/Berlin:20260529T173000
DTSTAMP:20260421T181628Z
DTSTART;TZID=Europe/Berlin:20260529T160000
GEO:52.287836;8.918405
LOCATION:Tourist-Information der Minden Marketing GmbH\, Kleiner Domhof 17\
 , Minden
ORGANIZER;CN=Tourist-Information der Minden Marketing GmbH:mailto:info@mind
 enmarketing.de
RRULE:FREQ=WEEKLY;UNTIL=20260529T220000;BYDAY=FR,SA
SEQUENCE:0
SUMMARY:Vom Alten Friedhof zum Botanischen Garten
UID:e_101160823_iv2
URL:http://pages.destination.one/de/teutonavigator/streaming/detail/Event/e
 _101160823/vom-alten-friedhof-zum-botanischen-garten
END:VEVENT
BEGIN:VEVENT
CATEGORIES:Sonstiges
CATEGORIES:Führung/Besichtigung
DESCRIPTION:\n\nmehr Informationen unter http://pages.destination.one/de/te
 utonavigator/streaming/detail/Event/e_101160823/vom-alten-friedhof-zum-bot
 anischen-garten
DTEND;TZID=Europe/Berlin:20260703T193000
DTSTAMP:20260421T181628Z
DTSTART;TZID=Europe/Berlin:20260703T180000
GEO:52.287836;8.918405
LOCATION:Tourist-Information der Minden Marketing GmbH\, Kleiner Domhof 17\
 , Minden
ORGANIZER;CN=Tourist-Information der Minden Marketing GmbH:mailto:info@mind
 enmarketing.de
RRULE:FREQ=WEEKLY;UNTIL=20260703T220000;BYDAY=FR
SEQUENCE:0
SUMMARY:Vom Alten Friedhof zum Botanischen Garten
UID:e_101160823_iv3
URL:http://pages.destination.one/de/teutonavigator/streaming/detail/Event/e
 _101160823/vom-alten-friedhof-zum-botanischen-garten
END:VEVENT
BEGIN:VEVENT
CATEGORIES:Sonstiges
CATEGORIES:Führung/Besichtigung
DESCRIPTION:\n\nmehr Informationen unter http://pages.destination.one/de/te
 utonavigator/streaming/detail/Event/e_101160823/vom-alten-friedhof-zum-bot
 anischen-garten
DTEND;TZID=Europe/Berlin:20260821T180000
DTSTAMP:20260421T181628Z
DTSTART;TZID=Europe/Berlin:20260821T163000
GEO:52.287836;8.918405
LOCATION:Tourist-Information der Minden Marketing GmbH\, Kleiner Domhof 17\
 , Minden
ORGANIZER;CN=Tourist-Information der Minden Marketing GmbH:mailto:info@mind
 enmarketing.de
RRULE:FREQ=WEEKLY;UNTIL=20260821T220000;BYDAY=FR
SEQUENCE:0
SUMMARY:Vom Alten Friedhof zum Botanischen Garten
UID:e_101160823_iv4
URL:http://pages.destination.one/de/teutonavigator/streaming/detail/Event/e
 _101160823/vom-alten-friedhof-zum-botanischen-garten
END:VEVENT
BEGIN:VEVENT
CATEGORIES:Sonstiges
CATEGORIES:Führung/Besichtigung
DESCRIPTION:\n\nmehr Informationen unter http://pages.destination.one/de/te
 utonavigator/streaming/detail/Event/e_101160823/vom-alten-friedhof-zum-bot
 anischen-garten
DTEND;TZID=Europe/Berlin:20261002T173000
DTSTAMP:20260421T181628Z
DTSTART;TZID=Europe/Berlin:20261002T160000
GEO:52.287836;8.918405
LOCATION:Tourist-Information der Minden Marketing GmbH\, Kleiner Domhof 17\
 , Minden
ORGANIZER;CN=Tourist-Information der Minden Marketing GmbH:mailto:info@mind
 enmarketing.de
RRULE:FREQ=WEEKLY;UNTIL=20261002T220000;BYDAY=FR,SA
SEQUENCE:0
SUMMARY:Vom Alten Friedhof zum Botanischen Garten
UID:e_101160823_iv5
URL:http://pages.destination.one/de/teutonavigator/streaming/detail/Event/e
 _101160823/vom-alten-friedhof-zum-botanischen-garten
END:VEVENT
BEGIN:VTIMEZONE
TZID:Europe/Berlin
X-LIC-LOCATION:Europe/Berlin
BEGIN:DAYLIGHT
DTSTART:19700329T020000
RRULE:FREQ=YEARLY;BYDAY=-1SU;BYMONTH=3
TZNAME:CEST
TZOFFSETFROM:+0100
TZOFFSETTO:+0200
END:DAYLIGHT
BEGIN:STANDARD
DTSTART:19701025T030000
RRULE:FREQ=YEARLY;BYDAY=-1SU;BYMONTH=10
TZNAME:CET
TZOFFSETFROM:+0200
TZOFFSETTO:+0100
END:STANDARD
END:VTIMEZONE
END:VCALENDAR
