BEGIN:VCALENDAR
VERSION:2.0
PRODID:-//destination.one//NONSGML destination.meta API//DE
X-WR-CALDESC:A calendar powered by destination.meta
X-WR-CALNAME:teutonavigator Kalender via destination.meta
BEGIN:VEVENT
CATEGORIES:Sonstiges
CATEGORIES:Führung/Besichtigung
DESCRIPTION:\n\nmehr Informationen unter http://pages.destination.one/de/te
 utonavigator/streaming/detail/Event/e_101160818/weserrenaissance-architekt
 onische-bl-tezeit-in-minden
DTEND;TZID=Europe/Berlin:20260510T121500
DTSTAMP:20260421T155009Z
DTSTART;TZID=Europe/Berlin:20260510T110000
GEO:52.287836;8.918405
LOCATION:Tourist-Information der Minden Marketing GmbH\, Kleiner Domhof 17\
 , Minden
ORGANIZER;CN=Tourist-Information der Minden Marketing GmbH:mailto:info@mind
 enmarketing.de
RRULE:FREQ=WEEKLY;UNTIL=20260510T220000;BYDAY=SU
SEQUENCE:0
SUMMARY:Weserrenaissance - Architektonische Blütezeit in Minden
UID:e_101160818_iv0
URL:http://pages.destination.one/de/teutonavigator/streaming/detail/Event/e
 _101160818/weserrenaissance-architektonische-bl-tezeit-in-minden
END:VEVENT
BEGIN:VEVENT
CATEGORIES:Sonstiges
CATEGORIES:Führung/Besichtigung
DESCRIPTION:\n\nmehr Informationen unter http://pages.destination.one/de/te
 utonavigator/streaming/detail/Event/e_101160818/weserrenaissance-architekt
 onische-bl-tezeit-in-minden
DTEND;TZID=Europe/Berlin:20260802T121500
DTSTAMP:20260421T155009Z
DTSTART;TZID=Europe/Berlin:20260802T110000
GEO:52.287836;8.918405
LOCATION:Tourist-Information der Minden Marketing GmbH\, Kleiner Domhof 17\
 , Minden
ORGANIZER;CN=Tourist-Information der Minden Marketing GmbH:mailto:info@mind
 enmarketing.de
RRULE:FREQ=WEEKLY;UNTIL=20260802T220000;BYDAY=SU
SEQUENCE:0
SUMMARY:Weserrenaissance - Architektonische Blütezeit in Minden
UID:e_101160818_iv1
URL:http://pages.destination.one/de/teutonavigator/streaming/detail/Event/e
 _101160818/weserrenaissance-architektonische-bl-tezeit-in-minden
END:VEVENT
BEGIN:VTIMEZONE
TZID:Europe/Berlin
X-LIC-LOCATION:Europe/Berlin
BEGIN:DAYLIGHT
DTSTART:19700329T020000
RRULE:FREQ=YEARLY;BYDAY=-1SU;BYMONTH=3
TZNAME:CEST
TZOFFSETFROM:+0100
TZOFFSETTO:+0200
END:DAYLIGHT
BEGIN:STANDARD
DTSTART:19701025T030000
RRULE:FREQ=YEARLY;BYDAY=-1SU;BYMONTH=10
TZNAME:CET
TZOFFSETFROM:+0200
TZOFFSETTO:+0100
END:STANDARD
END:VTIMEZONE
END:VCALENDAR
