BEGIN:VCALENDAR
VERSION:2.0
PRODID:-//destination.one//NONSGML destination.meta API//DE
X-WR-CALDESC:A calendar powered by destination.meta
X-WR-CALNAME:teutonavigator Kalender via destination.meta
BEGIN:VEVENT
CATEGORIES:Sonstiges
CATEGORIES:Führung/Besichtigung
DESCRIPTION:\n\nmehr Informationen unter http://pages.destination.one/de/te
 utonavigator/streaming/detail/Event/e_101160817/mindens-verborgene-sch-tze
DTEND;TZID=Europe/Berlin:20260121T200000
DTSTAMP:20260421T140314Z
DTSTART;TZID=Europe/Berlin:20260121T183000
GEO:52.287836;8.918405
LOCATION:Tourist-Information der Minden Marketing GmbH\, Kleiner Domhof 17\
 , Minden
ORGANIZER;CN=Tourist-Information der Minden Marketing GmbH:mailto:info@mind
 enmarketing.de
RRULE:FREQ=WEEKLY;UNTIL=20260121T230000;BYDAY=WE
SEQUENCE:0
SUMMARY:Mindens verborgene Schätze
UID:e_101160817_iv0
URL:http://pages.destination.one/de/teutonavigator/streaming/detail/Event/e
 _101160817/mindens-verborgene-sch-tze
END:VEVENT
BEGIN:VEVENT
CATEGORIES:Sonstiges
CATEGORIES:Führung/Besichtigung
DESCRIPTION:\n\nmehr Informationen unter http://pages.destination.one/de/te
 utonavigator/streaming/detail/Event/e_101160817/mindens-verborgene-sch-tze
DTEND;TZID=Europe/Berlin:20260325T200000
DTSTAMP:20260421T140314Z
DTSTART;TZID=Europe/Berlin:20260325T183000
GEO:52.287836;8.918405
LOCATION:Tourist-Information der Minden Marketing GmbH\, Kleiner Domhof 17\
 , Minden
ORGANIZER;CN=Tourist-Information der Minden Marketing GmbH:mailto:info@mind
 enmarketing.de
RRULE:FREQ=WEEKLY;UNTIL=20260325T230000;BYDAY=WE
SEQUENCE:0
SUMMARY:Mindens verborgene Schätze
UID:e_101160817_iv1
URL:http://pages.destination.one/de/teutonavigator/streaming/detail/Event/e
 _101160817/mindens-verborgene-sch-tze
END:VEVENT
BEGIN:VEVENT
CATEGORIES:Sonstiges
CATEGORIES:Führung/Besichtigung
DESCRIPTION:\n\nmehr Informationen unter http://pages.destination.one/de/te
 utonavigator/streaming/detail/Event/e_101160817/mindens-verborgene-sch-tze
DTEND;TZID=Europe/Berlin:20260513T200000
DTSTAMP:20260421T140314Z
DTSTART;TZID=Europe/Berlin:20260513T183000
GEO:52.287836;8.918405
LOCATION:Tourist-Information der Minden Marketing GmbH\, Kleiner Domhof 17\
 , Minden
ORGANIZER;CN=Tourist-Information der Minden Marketing GmbH:mailto:info@mind
 enmarketing.de
RRULE:FREQ=WEEKLY;UNTIL=20260513T220000;BYDAY=WE
SEQUENCE:0
SUMMARY:Mindens verborgene Schätze
UID:e_101160817_iv2
URL:http://pages.destination.one/de/teutonavigator/streaming/detail/Event/e
 _101160817/mindens-verborgene-sch-tze
END:VEVENT
BEGIN:VEVENT
CATEGORIES:Sonstiges
CATEGORIES:Führung/Besichtigung
DESCRIPTION:\n\nmehr Informationen unter http://pages.destination.one/de/te
 utonavigator/streaming/detail/Event/e_101160817/mindens-verborgene-sch-tze
DTEND;TZID=Europe/Berlin:20260617T200000
DTSTAMP:20260421T140314Z
DTSTART;TZID=Europe/Berlin:20260617T183000
GEO:52.287836;8.918405
LOCATION:Tourist-Information der Minden Marketing GmbH\, Kleiner Domhof 17\
 , Minden
ORGANIZER;CN=Tourist-Information der Minden Marketing GmbH:mailto:info@mind
 enmarketing.de
RRULE:FREQ=WEEKLY;UNTIL=20260617T220000;BYDAY=WE
SEQUENCE:0
SUMMARY:Mindens verborgene Schätze
UID:e_101160817_iv3
URL:http://pages.destination.one/de/teutonavigator/streaming/detail/Event/e
 _101160817/mindens-verborgene-sch-tze
END:VEVENT
BEGIN:VEVENT
CATEGORIES:Sonstiges
CATEGORIES:Führung/Besichtigung
DESCRIPTION:\n\nmehr Informationen unter http://pages.destination.one/de/te
 utonavigator/streaming/detail/Event/e_101160817/mindens-verborgene-sch-tze
DTEND;TZID=Europe/Berlin:20260722T200000
DTSTAMP:20260421T140314Z
DTSTART;TZID=Europe/Berlin:20260722T183000
GEO:52.287836;8.918405
LOCATION:Tourist-Information der Minden Marketing GmbH\, Kleiner Domhof 17\
 , Minden
ORGANIZER;CN=Tourist-Information der Minden Marketing GmbH:mailto:info@mind
 enmarketing.de
RRULE:FREQ=WEEKLY;UNTIL=20260722T220000;BYDAY=WE
SEQUENCE:0
SUMMARY:Mindens verborgene Schätze
UID:e_101160817_iv4
URL:http://pages.destination.one/de/teutonavigator/streaming/detail/Event/e
 _101160817/mindens-verborgene-sch-tze
END:VEVENT
BEGIN:VEVENT
CATEGORIES:Sonstiges
CATEGORIES:Führung/Besichtigung
DESCRIPTION:\n\nmehr Informationen unter http://pages.destination.one/de/te
 utonavigator/streaming/detail/Event/e_101160817/mindens-verborgene-sch-tze
DTEND;TZID=Europe/Berlin:20260909T200000
DTSTAMP:20260421T140314Z
DTSTART;TZID=Europe/Berlin:20260909T183000
GEO:52.287836;8.918405
LOCATION:Tourist-Information der Minden Marketing GmbH\, Kleiner Domhof 17\
 , Minden
ORGANIZER;CN=Tourist-Information der Minden Marketing GmbH:mailto:info@mind
 enmarketing.de
RRULE:FREQ=WEEKLY;UNTIL=20260909T220000;BYDAY=WE
SEQUENCE:0
SUMMARY:Mindens verborgene Schätze
UID:e_101160817_iv5
URL:http://pages.destination.one/de/teutonavigator/streaming/detail/Event/e
 _101160817/mindens-verborgene-sch-tze
END:VEVENT
BEGIN:VEVENT
CATEGORIES:Sonstiges
CATEGORIES:Führung/Besichtigung
DESCRIPTION:\n\nmehr Informationen unter http://pages.destination.one/de/te
 utonavigator/streaming/detail/Event/e_101160817/mindens-verborgene-sch-tze
DTEND;TZID=Europe/Berlin:20261007T200000
DTSTAMP:20260421T140314Z
DTSTART;TZID=Europe/Berlin:20261007T183000
GEO:52.287836;8.918405
LOCATION:Tourist-Information der Minden Marketing GmbH\, Kleiner Domhof 17\
 , Minden
ORGANIZER;CN=Tourist-Information der Minden Marketing GmbH:mailto:info@mind
 enmarketing.de
RRULE:FREQ=WEEKLY;UNTIL=20261007T220000;BYDAY=WE
SEQUENCE:0
SUMMARY:Mindens verborgene Schätze
UID:e_101160817_iv6
URL:http://pages.destination.one/de/teutonavigator/streaming/detail/Event/e
 _101160817/mindens-verborgene-sch-tze
END:VEVENT
BEGIN:VEVENT
CATEGORIES:Sonstiges
CATEGORIES:Führung/Besichtigung
DESCRIPTION:\n\nmehr Informationen unter http://pages.destination.one/de/te
 utonavigator/streaming/detail/Event/e_101160817/mindens-verborgene-sch-tze
DTEND;TZID=Europe/Berlin:20261209T200000
DTSTAMP:20260421T140314Z
DTSTART;TZID=Europe/Berlin:20261209T183000
GEO:52.287836;8.918405
LOCATION:Tourist-Information der Minden Marketing GmbH\, Kleiner Domhof 17\
 , Minden
ORGANIZER;CN=Tourist-Information der Minden Marketing GmbH:mailto:info@mind
 enmarketing.de
RRULE:FREQ=WEEKLY;UNTIL=20261209T230000;BYDAY=WE
SEQUENCE:0
SUMMARY:Mindens verborgene Schätze
UID:e_101160817_iv7
URL:http://pages.destination.one/de/teutonavigator/streaming/detail/Event/e
 _101160817/mindens-verborgene-sch-tze
END:VEVENT
BEGIN:VTIMEZONE
TZID:Europe/Berlin
X-LIC-LOCATION:Europe/Berlin
BEGIN:DAYLIGHT
DTSTART:19700329T020000
RRULE:FREQ=YEARLY;BYDAY=-1SU;BYMONTH=3
TZNAME:CEST
TZOFFSETFROM:+0100
TZOFFSETTO:+0200
END:DAYLIGHT
BEGIN:STANDARD
DTSTART:19701025T030000
RRULE:FREQ=YEARLY;BYDAY=-1SU;BYMONTH=10
TZNAME:CET
TZOFFSETFROM:+0200
TZOFFSETTO:+0100
END:STANDARD
END:VTIMEZONE
END:VCALENDAR
