BEGIN:VCALENDAR
VERSION:2.0
PRODID:-//destination.one//NONSGML destination.meta API//DE
X-WR-CALDESC:A calendar powered by destination.meta
X-WR-CALNAME:teutonavigator Kalender via destination.meta
BEGIN:VEVENT
CATEGORIES:Sonstiges
CATEGORIES:Führung/Besichtigung
DESCRIPTION:\n\nmehr Informationen unter http://pages.destination.one/de/te
 utonavigator/streaming/detail/Event/e_101160179/f-hrung-zur-hexenverfolgun
 g-in-minden
DTEND;TZID=Europe/Berlin:20251203T200000
DTSTAMP:20260421T181219Z
DTSTART;TZID=Europe/Berlin:20251203T183000
GEO:52.287836;8.918405
LOCATION:Tourist-Information der Minden Marketing GmbH\, Kleiner Domhof 17\
 , Minden
ORGANIZER;CN=Tourist-Information der Minden Marketing GmbH:mailto:info@mind
 enmarketing.de
RRULE:FREQ=WEEKLY;UNTIL=20251203T230000;BYDAY=WE
SEQUENCE:0
SUMMARY:Führung zur Hexenverfolgung in Minden
UID:e_101160179_iv0
URL:http://pages.destination.one/de/teutonavigator/streaming/detail/Event/e
 _101160179/f-hrung-zur-hexenverfolgung-in-minden
END:VEVENT
BEGIN:VEVENT
CATEGORIES:Sonstiges
CATEGORIES:Führung/Besichtigung
DESCRIPTION:\n\nmehr Informationen unter http://pages.destination.one/de/te
 utonavigator/streaming/detail/Event/e_101160179/f-hrung-zur-hexenverfolgun
 g-in-minden
DTEND;TZID=Europe/Berlin:20260114T200000
DTSTAMP:20260421T181219Z
DTSTART;TZID=Europe/Berlin:20260114T183000
GEO:52.287836;8.918405
LOCATION:Tourist-Information der Minden Marketing GmbH\, Kleiner Domhof 17\
 , Minden
ORGANIZER;CN=Tourist-Information der Minden Marketing GmbH:mailto:info@mind
 enmarketing.de
RRULE:FREQ=WEEKLY;UNTIL=20260114T230000;BYDAY=WE
SEQUENCE:0
SUMMARY:Führung zur Hexenverfolgung in Minden
UID:e_101160179_iv1
URL:http://pages.destination.one/de/teutonavigator/streaming/detail/Event/e
 _101160179/f-hrung-zur-hexenverfolgung-in-minden
END:VEVENT
BEGIN:VEVENT
CATEGORIES:Sonstiges
CATEGORIES:Führung/Besichtigung
DESCRIPTION:\n\nmehr Informationen unter http://pages.destination.one/de/te
 utonavigator/streaming/detail/Event/e_101160179/f-hrung-zur-hexenverfolgun
 g-in-minden
DTEND;TZID=Europe/Berlin:20260311T200000
DTSTAMP:20260421T181219Z
DTSTART;TZID=Europe/Berlin:20260311T183000
GEO:52.287836;8.918405
LOCATION:Tourist-Information der Minden Marketing GmbH\, Kleiner Domhof 17\
 , Minden
ORGANIZER;CN=Tourist-Information der Minden Marketing GmbH:mailto:info@mind
 enmarketing.de
RRULE:FREQ=WEEKLY;UNTIL=20260311T230000;BYDAY=WE
SEQUENCE:0
SUMMARY:Führung zur Hexenverfolgung in Minden
UID:e_101160179_iv2
URL:http://pages.destination.one/de/teutonavigator/streaming/detail/Event/e
 _101160179/f-hrung-zur-hexenverfolgung-in-minden
END:VEVENT
BEGIN:VEVENT
CATEGORIES:Sonstiges
CATEGORIES:Führung/Besichtigung
DESCRIPTION:\n\nmehr Informationen unter http://pages.destination.one/de/te
 utonavigator/streaming/detail/Event/e_101160179/f-hrung-zur-hexenverfolgun
 g-in-minden
DTEND;TZID=Europe/Berlin:20260429T200000
DTSTAMP:20260421T181219Z
DTSTART;TZID=Europe/Berlin:20260429T183000
GEO:52.287836;8.918405
LOCATION:Tourist-Information der Minden Marketing GmbH\, Kleiner Domhof 17\
 , Minden
ORGANIZER;CN=Tourist-Information der Minden Marketing GmbH:mailto:info@mind
 enmarketing.de
RRULE:FREQ=WEEKLY;UNTIL=20260429T220000;BYDAY=WE
SEQUENCE:0
SUMMARY:Führung zur Hexenverfolgung in Minden
UID:e_101160179_iv3
URL:http://pages.destination.one/de/teutonavigator/streaming/detail/Event/e
 _101160179/f-hrung-zur-hexenverfolgung-in-minden
END:VEVENT
BEGIN:VEVENT
CATEGORIES:Sonstiges
CATEGORIES:Führung/Besichtigung
DESCRIPTION:\n\nmehr Informationen unter http://pages.destination.one/de/te
 utonavigator/streaming/detail/Event/e_101160179/f-hrung-zur-hexenverfolgun
 g-in-minden
DTEND;TZID=Europe/Berlin:20260610T200000
DTSTAMP:20260421T181219Z
DTSTART;TZID=Europe/Berlin:20260610T183000
GEO:52.287836;8.918405
LOCATION:Tourist-Information der Minden Marketing GmbH\, Kleiner Domhof 17\
 , Minden
ORGANIZER;CN=Tourist-Information der Minden Marketing GmbH:mailto:info@mind
 enmarketing.de
RRULE:FREQ=WEEKLY;UNTIL=20260610T220000;BYDAY=WE
SEQUENCE:0
SUMMARY:Führung zur Hexenverfolgung in Minden
UID:e_101160179_iv4
URL:http://pages.destination.one/de/teutonavigator/streaming/detail/Event/e
 _101160179/f-hrung-zur-hexenverfolgung-in-minden
END:VEVENT
BEGIN:VEVENT
CATEGORIES:Sonstiges
CATEGORIES:Führung/Besichtigung
DESCRIPTION:\n\nmehr Informationen unter http://pages.destination.one/de/te
 utonavigator/streaming/detail/Event/e_101160179/f-hrung-zur-hexenverfolgun
 g-in-minden
DTEND;TZID=Europe/Berlin:20260708T200000
DTSTAMP:20260421T181219Z
DTSTART;TZID=Europe/Berlin:20260708T183000
GEO:52.287836;8.918405
LOCATION:Tourist-Information der Minden Marketing GmbH\, Kleiner Domhof 17\
 , Minden
ORGANIZER;CN=Tourist-Information der Minden Marketing GmbH:mailto:info@mind
 enmarketing.de
RRULE:FREQ=WEEKLY;UNTIL=20260708T220000;BYDAY=WE
SEQUENCE:0
SUMMARY:Führung zur Hexenverfolgung in Minden
UID:e_101160179_iv5
URL:http://pages.destination.one/de/teutonavigator/streaming/detail/Event/e
 _101160179/f-hrung-zur-hexenverfolgung-in-minden
END:VEVENT
BEGIN:VEVENT
CATEGORIES:Sonstiges
CATEGORIES:Führung/Besichtigung
DESCRIPTION:\n\nmehr Informationen unter http://pages.destination.one/de/te
 utonavigator/streaming/detail/Event/e_101160179/f-hrung-zur-hexenverfolgun
 g-in-minden
DTEND;TZID=Europe/Berlin:20260805T200000
DTSTAMP:20260421T181219Z
DTSTART;TZID=Europe/Berlin:20260805T183000
GEO:52.287836;8.918405
LOCATION:Tourist-Information der Minden Marketing GmbH\, Kleiner Domhof 17\
 , Minden
ORGANIZER;CN=Tourist-Information der Minden Marketing GmbH:mailto:info@mind
 enmarketing.de
RRULE:FREQ=WEEKLY;UNTIL=20260805T220000;BYDAY=WE
SEQUENCE:0
SUMMARY:Führung zur Hexenverfolgung in Minden
UID:e_101160179_iv6
URL:http://pages.destination.one/de/teutonavigator/streaming/detail/Event/e
 _101160179/f-hrung-zur-hexenverfolgung-in-minden
END:VEVENT
BEGIN:VEVENT
CATEGORIES:Sonstiges
CATEGORIES:Führung/Besichtigung
DESCRIPTION:\n\nmehr Informationen unter http://pages.destination.one/de/te
 utonavigator/streaming/detail/Event/e_101160179/f-hrung-zur-hexenverfolgun
 g-in-minden
DTEND;TZID=Europe/Berlin:20260930T200000
DTSTAMP:20260421T181219Z
DTSTART;TZID=Europe/Berlin:20260930T183000
GEO:52.287836;8.918405
LOCATION:Tourist-Information der Minden Marketing GmbH\, Kleiner Domhof 17\
 , Minden
ORGANIZER;CN=Tourist-Information der Minden Marketing GmbH:mailto:info@mind
 enmarketing.de
RRULE:FREQ=WEEKLY;UNTIL=20260930T220000;BYDAY=WE
SEQUENCE:0
SUMMARY:Führung zur Hexenverfolgung in Minden
UID:e_101160179_iv7
URL:http://pages.destination.one/de/teutonavigator/streaming/detail/Event/e
 _101160179/f-hrung-zur-hexenverfolgung-in-minden
END:VEVENT
BEGIN:VEVENT
CATEGORIES:Sonstiges
CATEGORIES:Führung/Besichtigung
DESCRIPTION:\n\nmehr Informationen unter http://pages.destination.one/de/te
 utonavigator/streaming/detail/Event/e_101160179/f-hrung-zur-hexenverfolgun
 g-in-minden
DTEND;TZID=Europe/Berlin:20261104T200000
DTSTAMP:20260421T181219Z
DTSTART;TZID=Europe/Berlin:20261104T183000
GEO:52.287836;8.918405
LOCATION:Tourist-Information der Minden Marketing GmbH\, Kleiner Domhof 17\
 , Minden
ORGANIZER;CN=Tourist-Information der Minden Marketing GmbH:mailto:info@mind
 enmarketing.de
RRULE:FREQ=WEEKLY;UNTIL=20261104T230000;BYDAY=WE
SEQUENCE:0
SUMMARY:Führung zur Hexenverfolgung in Minden
UID:e_101160179_iv8
URL:http://pages.destination.one/de/teutonavigator/streaming/detail/Event/e
 _101160179/f-hrung-zur-hexenverfolgung-in-minden
END:VEVENT
BEGIN:VTIMEZONE
TZID:Europe/Berlin
X-LIC-LOCATION:Europe/Berlin
BEGIN:DAYLIGHT
DTSTART:19700329T020000
RRULE:FREQ=YEARLY;BYDAY=-1SU;BYMONTH=3
TZNAME:CEST
TZOFFSETFROM:+0100
TZOFFSETTO:+0200
END:DAYLIGHT
BEGIN:STANDARD
DTSTART:19701025T030000
RRULE:FREQ=YEARLY;BYDAY=-1SU;BYMONTH=10
TZNAME:CET
TZOFFSETFROM:+0200
TZOFFSETTO:+0100
END:STANDARD
END:VTIMEZONE
END:VCALENDAR
