BEGIN:VCALENDAR
VERSION:2.0
PRODID:-//destination.one//NONSGML destination.meta API//DE
X-WR-CALDESC:A calendar powered by destination.meta
X-WR-CALNAME:teutonavigator Kalender via destination.meta
BEGIN:VEVENT
CATEGORIES:Klassisch
DESCRIPTION:ARCIS SAXOPHON QUARTETT\nClaus Hierluksch/Sopransaxophon\, Rica
 rda Fuss/Altsaxophon Anna-Marie Schäfer/Tenorsaxophon\, Jure Knez/Baritons
 axophon\n\nmehr Informationen unter http://pages.destination.one/de/teuton
 avigator/streaming/detail/Event/e_101158922/arcis-saxophon-quartett
DTEND;TZID=Europe/Berlin:20260614T235900
DTSTAMP:20260421T140156Z
DTSTART;TZID=Europe/Berlin:20260614T193000
GEO:51.734451;9.025100
LOCATION:Rathaus Bad Driburg\, Rathausplatz 2\, Bad Driburg
ORGANIZER;CN=Musikgesellschaft Bad Driburg e.V.:mailto:seidemusic2020@outlo
 ok.de
SEQUENCE:0
SUMMARY:Arcis Saxophon Quartett
UID:e_101158922_iv0
URL:http://pages.destination.one/de/teutonavigator/streaming/detail/Event/e
 _101158922/arcis-saxophon-quartett
END:VEVENT
BEGIN:VTIMEZONE
TZID:Europe/Berlin
X-LIC-LOCATION:Europe/Berlin
BEGIN:DAYLIGHT
DTSTART:19700329T020000
RRULE:FREQ=YEARLY;BYDAY=-1SU;BYMONTH=3
TZNAME:CEST
TZOFFSETFROM:+0100
TZOFFSETTO:+0200
END:DAYLIGHT
BEGIN:STANDARD
DTSTART:19701025T030000
RRULE:FREQ=YEARLY;BYDAY=-1SU;BYMONTH=10
TZNAME:CET
TZOFFSETFROM:+0200
TZOFFSETTO:+0100
END:STANDARD
END:VTIMEZONE
END:VCALENDAR
