BEGIN:VCALENDAR
VERSION:2.0
PRODID:-//destination.one//NONSGML destination.meta API//DE
X-WR-CALDESC:A calendar powered by destination.meta
X-WR-CALNAME:teutonavigator Kalender via destination.meta
BEGIN:VEVENT
CATEGORIES:Weihnachtsmarkt
DESCRIPTION:Erlebe den Zauber der Adventszeit beim Hegensdorfer Weihnachtsm
 arkt!\n\nmehr Informationen unter http://pages.destination.one/de/teutonav
 igator/streaming/detail/Event/e_101158873/adventsmarkt-in-hegensdorf
DTEND;TZID=Europe/Berlin:20261214T170000
DTSTAMP:20260421T174616Z
DTSTART;TZID=Europe/Berlin:20261213T120000
GEO:51.529438;8.628762
LOCATION:Schützenplatz Hegensdorf\, Hauptstraße 37\, Büren
ORGANIZER;CN=KLJB Katholische Landjugendbewegung Hegensdorf:mailto:kljb@heg
 ensdorf.de
SEQUENCE:0
SUMMARY:Adventsmarkt in Hegensdorf
UID:e_101158873_iv0
URL:http://pages.destination.one/de/teutonavigator/streaming/detail/Event/e
 _101158873/adventsmarkt-in-hegensdorf
END:VEVENT
BEGIN:VTIMEZONE
TZID:Europe/Berlin
X-LIC-LOCATION:Europe/Berlin
BEGIN:DAYLIGHT
DTSTART:19700329T020000
RRULE:FREQ=YEARLY;BYDAY=-1SU;BYMONTH=3
TZNAME:CEST
TZOFFSETFROM:+0100
TZOFFSETTO:+0200
END:DAYLIGHT
BEGIN:STANDARD
DTSTART:19701025T030000
RRULE:FREQ=YEARLY;BYDAY=-1SU;BYMONTH=10
TZNAME:CET
TZOFFSETFROM:+0200
TZOFFSETTO:+0100
END:STANDARD
END:VTIMEZONE
END:VCALENDAR
