BEGIN:VCALENDAR
VERSION:2.0
PRODID:-//destination.one//NONSGML destination.meta API//DE
X-WR-CALDESC:A calendar powered by destination.meta
X-WR-CALNAME:teutonavigator Kalender via destination.meta
BEGIN:VEVENT
CATEGORIES:Führung/Besichtigung
DESCRIPTION:Das Residenzschloss der Fürstbischöfe von Paderborn steht im Mi
 ttelpunkt der öffentlichen Führung\, die der Kreisheimatpfleger Michael Pa
 vlicic für den Verein für Geschichte und Altertumskunde Westfalens anbiete
 t.\n\nmehr Informationen unter http://pages.destination.one/de/teutonaviga
 tor/streaming/detail/Event/e_101157975/schloss-und-altstadtf-hrung
DTEND;TZID=Europe/Berlin:20260503T235900
DTSTAMP:20260421T164314Z
DTSTART;TZID=Europe/Berlin:20260503T143000
GEO:51.746150;8.711536
LOCATION:Schloss- und Auenpark Paderborn \, Im Schloßpark 10\, Paderborn
ORGANIZER;CN=Schlosspark und Lippesee Gesellschaft mbH:mailto:schlosspark.l
 ippesee@paderborn.de
SEQUENCE:0
SUMMARY:Schloss- und Altstadtführung
UID:e_101157975_iv0
URL:http://pages.destination.one/de/teutonavigator/streaming/detail/Event/e
 _101157975/schloss-und-altstadtf-hrung
END:VEVENT
BEGIN:VTIMEZONE
TZID:Europe/Berlin
X-LIC-LOCATION:Europe/Berlin
BEGIN:DAYLIGHT
DTSTART:19700329T020000
RRULE:FREQ=YEARLY;BYDAY=-1SU;BYMONTH=3
TZNAME:CEST
TZOFFSETFROM:+0100
TZOFFSETTO:+0200
END:DAYLIGHT
BEGIN:STANDARD
DTSTART:19701025T030000
RRULE:FREQ=YEARLY;BYDAY=-1SU;BYMONTH=10
TZNAME:CET
TZOFFSETFROM:+0200
TZOFFSETTO:+0100
END:STANDARD
END:VTIMEZONE
END:VCALENDAR
