BEGIN:VCALENDAR
VERSION:2.0
PRODID:-//destination.one//NONSGML destination.meta API//DE
X-WR-CALDESC:A calendar powered by destination.meta
X-WR-CALNAME:teutonavigator Kalender via destination.meta
BEGIN:VEVENT
CATEGORIES:Weihnachtsmarkt
DESCRIPTION:Am Samstag\, 29. November 2025\, verwandelt sich Hövelhof in ei
 n kleines Winterwunderland: Von 10:00 bis 22:00 Uhr senden wir live aus de
 m Studio bei Ingo’s Biomarkt – begleitet von einem stimmungsvollen Advents
 markt direkt vor Ort.\n\nmehr Informationen unter http://pages.destination
 .one/de/teutonavigator/streaming/detail/Event/e_101132066/weihnachts-funke
 ln
DTEND;TZID=Europe/Berlin:20251129T220000
DTSTAMP:20260422T144023Z
DTSTART;TZID=Europe/Berlin:20251129T110000
GEO:51.820205;8.659715
LOCATION:Ingo´s Biomarkt\, Kurze Straße 3\, Hövelhof
ORGANIZER;CN=Radio Holzhaus e.V.:mailto:info@radio-holzhaus.de
SEQUENCE:0
SUMMARY:Weihnachts-Funkeln
UID:e_101132066_iv0
URL:http://pages.destination.one/de/teutonavigator/streaming/detail/Event/e
 _101132066/weihnachts-funkeln
END:VEVENT
BEGIN:VEVENT
CATEGORIES:Weihnachtsmarkt
DESCRIPTION:Am Samstag\, 29. November 2025\, verwandelt sich Hövelhof in ei
 n kleines Winterwunderland: Von 10:00 bis 22:00 Uhr senden wir live aus de
 m Studio bei Ingo’s Biomarkt – begleitet von einem stimmungsvollen Advents
 markt direkt vor Ort.\n\nmehr Informationen unter http://pages.destination
 .one/de/teutonavigator/streaming/detail/Event/e_101132066/weihnachts-funke
 ln
DTEND;TZID=Europe/Berlin:20261128T220000
DTSTAMP:20260422T144023Z
DTSTART;TZID=Europe/Berlin:20261128T100000
GEO:51.820205;8.659715
LOCATION:Ingo´s Biomarkt\, Kurze Straße 3\, Hövelhof
ORGANIZER;CN=Radio Holzhaus e.V.:mailto:info@radio-holzhaus.de
SEQUENCE:0
SUMMARY:Weihnachts-Funkeln
UID:e_101132066_iv1
URL:http://pages.destination.one/de/teutonavigator/streaming/detail/Event/e
 _101132066/weihnachts-funkeln
END:VEVENT
BEGIN:VTIMEZONE
TZID:Europe/Berlin
X-LIC-LOCATION:Europe/Berlin
BEGIN:DAYLIGHT
DTSTART:19700329T020000
RRULE:FREQ=YEARLY;BYDAY=-1SU;BYMONTH=3
TZNAME:CEST
TZOFFSETFROM:+0100
TZOFFSETTO:+0200
END:DAYLIGHT
BEGIN:STANDARD
DTSTART:19701025T030000
RRULE:FREQ=YEARLY;BYDAY=-1SU;BYMONTH=10
TZNAME:CET
TZOFFSETFROM:+0200
TZOFFSETTO:+0100
END:STANDARD
END:VTIMEZONE
END:VCALENDAR
