BEGIN:VCALENDAR
VERSION:2.0
PRODID:-//destination.one//NONSGML destination.meta API//DE
X-WR-CALDESC:A calendar powered by destination.meta
X-WR-CALNAME:teutonavigator Kalender via destination.meta
BEGIN:VEVENT
CATEGORIES:Bühne divers
DESCRIPTION:\n\nmehr Informationen unter http://pages.destination.one/de/te
 utonavigator/streaming/detail/Event/e_101131170/theaterauff-hrung-zimmerth
 eater-anreppen
DTEND;TZID=Europe/Berlin;VALUE=DATE:20251116
DTSTAMP:20260422T100944Z
DTSTART;TZID=Europe/Berlin;VALUE=DATE:20251115
GEO:51.745123;8.591798
LOCATION:Dorfhalle Anreppen\, Im Dorfe 5\, Delbrück
ORGANIZER;CN=Zimmertheater Anreppen:mailto:zimmertheater-anreppen@web.de
SEQUENCE:0
SUMMARY:Theateraufführung Zimmertheater Anreppen
UID:e_101131170_iv0
URL:http://pages.destination.one/de/teutonavigator/streaming/detail/Event/e
 _101131170/theaterauff-hrung-zimmertheater-anreppen
END:VEVENT
BEGIN:VEVENT
CATEGORIES:Bühne divers
DESCRIPTION:\n\nmehr Informationen unter http://pages.destination.one/de/te
 utonavigator/streaming/detail/Event/e_101131170/theaterauff-hrung-zimmerth
 eater-anreppen
DTEND;TZID=Europe/Berlin;VALUE=DATE:20251117
DTSTAMP:20260422T100944Z
DTSTART;TZID=Europe/Berlin;VALUE=DATE:20251116
GEO:51.745123;8.591798
LOCATION:Dorfhalle Anreppen\, Im Dorfe 5\, Delbrück
ORGANIZER;CN=Zimmertheater Anreppen:mailto:zimmertheater-anreppen@web.de
SEQUENCE:0
SUMMARY:Theateraufführung Zimmertheater Anreppen
UID:e_101131170_iv1
URL:http://pages.destination.one/de/teutonavigator/streaming/detail/Event/e
 _101131170/theaterauff-hrung-zimmertheater-anreppen
END:VEVENT
BEGIN:VEVENT
CATEGORIES:Bühne divers
DESCRIPTION:\n\nmehr Informationen unter http://pages.destination.one/de/te
 utonavigator/streaming/detail/Event/e_101131170/theaterauff-hrung-zimmerth
 eater-anreppen
DTEND;TZID=Europe/Berlin;VALUE=DATE:20251120
DTSTAMP:20260422T100944Z
DTSTART;TZID=Europe/Berlin;VALUE=DATE:20251119
GEO:51.745123;8.591798
LOCATION:Dorfhalle Anreppen\, Im Dorfe 5\, Delbrück
ORGANIZER;CN=Zimmertheater Anreppen:mailto:zimmertheater-anreppen@web.de
SEQUENCE:0
SUMMARY:Theateraufführung Zimmertheater Anreppen
UID:e_101131170_iv2
URL:http://pages.destination.one/de/teutonavigator/streaming/detail/Event/e
 _101131170/theaterauff-hrung-zimmertheater-anreppen
END:VEVENT
BEGIN:VEVENT
CATEGORIES:Bühne divers
DESCRIPTION:\n\nmehr Informationen unter http://pages.destination.one/de/te
 utonavigator/streaming/detail/Event/e_101131170/theaterauff-hrung-zimmerth
 eater-anreppen
DTEND;TZID=Europe/Berlin;VALUE=DATE:20251123
DTSTAMP:20260422T100944Z
DTSTART;TZID=Europe/Berlin;VALUE=DATE:20251122
GEO:51.745123;8.591798
LOCATION:Dorfhalle Anreppen\, Im Dorfe 5\, Delbrück
ORGANIZER;CN=Zimmertheater Anreppen:mailto:zimmertheater-anreppen@web.de
SEQUENCE:0
SUMMARY:Theateraufführung Zimmertheater Anreppen
UID:e_101131170_iv3
URL:http://pages.destination.one/de/teutonavigator/streaming/detail/Event/e
 _101131170/theaterauff-hrung-zimmertheater-anreppen
END:VEVENT
BEGIN:VEVENT
CATEGORIES:Bühne divers
DESCRIPTION:\n\nmehr Informationen unter http://pages.destination.one/de/te
 utonavigator/streaming/detail/Event/e_101131170/theaterauff-hrung-zimmerth
 eater-anreppen
DTEND;TZID=Europe/Berlin;VALUE=DATE:20251124
DTSTAMP:20260422T100944Z
DTSTART;TZID=Europe/Berlin;VALUE=DATE:20251123
GEO:51.745123;8.591798
LOCATION:Dorfhalle Anreppen\, Im Dorfe 5\, Delbrück
ORGANIZER;CN=Zimmertheater Anreppen:mailto:zimmertheater-anreppen@web.de
SEQUENCE:0
SUMMARY:Theateraufführung Zimmertheater Anreppen
UID:e_101131170_iv4
URL:http://pages.destination.one/de/teutonavigator/streaming/detail/Event/e
 _101131170/theaterauff-hrung-zimmertheater-anreppen
END:VEVENT
BEGIN:VEVENT
CATEGORIES:Bühne divers
DESCRIPTION:\n\nmehr Informationen unter http://pages.destination.one/de/te
 utonavigator/streaming/detail/Event/e_101131170/theaterauff-hrung-zimmerth
 eater-anreppen
DTEND;TZID=Europe/Berlin;VALUE=DATE:20261114
DTSTAMP:20260422T100944Z
DTSTART;TZID=Europe/Berlin;VALUE=DATE:20261113
GEO:51.745123;8.591798
LOCATION:Dorfhalle Anreppen\, Im Dorfe 5\, Delbrück
ORGANIZER;CN=Zimmertheater Anreppen:mailto:zimmertheater-anreppen@web.de
SEQUENCE:0
SUMMARY:Theateraufführung Zimmertheater Anreppen
UID:e_101131170_iv5
URL:http://pages.destination.one/de/teutonavigator/streaming/detail/Event/e
 _101131170/theaterauff-hrung-zimmertheater-anreppen
END:VEVENT
BEGIN:VEVENT
CATEGORIES:Bühne divers
DESCRIPTION:\n\nmehr Informationen unter http://pages.destination.one/de/te
 utonavigator/streaming/detail/Event/e_101131170/theaterauff-hrung-zimmerth
 eater-anreppen
DTEND;TZID=Europe/Berlin;VALUE=DATE:20261115
DTSTAMP:20260422T100944Z
DTSTART;TZID=Europe/Berlin;VALUE=DATE:20261114
GEO:51.745123;8.591798
LOCATION:Dorfhalle Anreppen\, Im Dorfe 5\, Delbrück
ORGANIZER;CN=Zimmertheater Anreppen:mailto:zimmertheater-anreppen@web.de
SEQUENCE:0
SUMMARY:Theateraufführung Zimmertheater Anreppen
UID:e_101131170_iv6
URL:http://pages.destination.one/de/teutonavigator/streaming/detail/Event/e
 _101131170/theaterauff-hrung-zimmertheater-anreppen
END:VEVENT
BEGIN:VEVENT
CATEGORIES:Bühne divers
DESCRIPTION:\n\nmehr Informationen unter http://pages.destination.one/de/te
 utonavigator/streaming/detail/Event/e_101131170/theaterauff-hrung-zimmerth
 eater-anreppen
DTEND;TZID=Europe/Berlin;VALUE=DATE:20261116
DTSTAMP:20260422T100944Z
DTSTART;TZID=Europe/Berlin;VALUE=DATE:20261115
GEO:51.745123;8.591798
LOCATION:Dorfhalle Anreppen\, Im Dorfe 5\, Delbrück
ORGANIZER;CN=Zimmertheater Anreppen:mailto:zimmertheater-anreppen@web.de
SEQUENCE:0
SUMMARY:Theateraufführung Zimmertheater Anreppen
UID:e_101131170_iv7
URL:http://pages.destination.one/de/teutonavigator/streaming/detail/Event/e
 _101131170/theaterauff-hrung-zimmertheater-anreppen
END:VEVENT
BEGIN:VEVENT
CATEGORIES:Bühne divers
DESCRIPTION:\n\nmehr Informationen unter http://pages.destination.one/de/te
 utonavigator/streaming/detail/Event/e_101131170/theaterauff-hrung-zimmerth
 eater-anreppen
DTEND;TZID=Europe/Berlin;VALUE=DATE:20261119
DTSTAMP:20260422T100944Z
DTSTART;TZID=Europe/Berlin;VALUE=DATE:20261118
GEO:51.745123;8.591798
LOCATION:Dorfhalle Anreppen\, Im Dorfe 5\, Delbrück
ORGANIZER;CN=Zimmertheater Anreppen:mailto:zimmertheater-anreppen@web.de
SEQUENCE:0
SUMMARY:Theateraufführung Zimmertheater Anreppen
UID:e_101131170_iv8
URL:http://pages.destination.one/de/teutonavigator/streaming/detail/Event/e
 _101131170/theaterauff-hrung-zimmertheater-anreppen
END:VEVENT
BEGIN:VEVENT
CATEGORIES:Bühne divers
DESCRIPTION:\n\nmehr Informationen unter http://pages.destination.one/de/te
 utonavigator/streaming/detail/Event/e_101131170/theaterauff-hrung-zimmerth
 eater-anreppen
DTEND;TZID=Europe/Berlin;VALUE=DATE:20261122
DTSTAMP:20260422T100944Z
DTSTART;TZID=Europe/Berlin;VALUE=DATE:20261121
GEO:51.745123;8.591798
LOCATION:Dorfhalle Anreppen\, Im Dorfe 5\, Delbrück
ORGANIZER;CN=Zimmertheater Anreppen:mailto:zimmertheater-anreppen@web.de
SEQUENCE:0
SUMMARY:Theateraufführung Zimmertheater Anreppen
UID:e_101131170_iv9
URL:http://pages.destination.one/de/teutonavigator/streaming/detail/Event/e
 _101131170/theaterauff-hrung-zimmertheater-anreppen
END:VEVENT
BEGIN:VEVENT
CATEGORIES:Bühne divers
DESCRIPTION:\n\nmehr Informationen unter http://pages.destination.one/de/te
 utonavigator/streaming/detail/Event/e_101131170/theaterauff-hrung-zimmerth
 eater-anreppen
DTEND;TZID=Europe/Berlin;VALUE=DATE:20261123
DTSTAMP:20260422T100944Z
DTSTART;TZID=Europe/Berlin;VALUE=DATE:20261122
GEO:51.745123;8.591798
LOCATION:Dorfhalle Anreppen\, Im Dorfe 5\, Delbrück
ORGANIZER;CN=Zimmertheater Anreppen:mailto:zimmertheater-anreppen@web.de
SEQUENCE:0
SUMMARY:Theateraufführung Zimmertheater Anreppen
UID:e_101131170_iv10
URL:http://pages.destination.one/de/teutonavigator/streaming/detail/Event/e
 _101131170/theaterauff-hrung-zimmertheater-anreppen
END:VEVENT
BEGIN:VTIMEZONE
TZID:Europe/Berlin
X-LIC-LOCATION:Europe/Berlin
BEGIN:DAYLIGHT
DTSTART:19700329T020000
RRULE:FREQ=YEARLY;BYDAY=-1SU;BYMONTH=3
TZNAME:CEST
TZOFFSETFROM:+0100
TZOFFSETTO:+0200
END:DAYLIGHT
BEGIN:STANDARD
DTSTART:19701025T030000
RRULE:FREQ=YEARLY;BYDAY=-1SU;BYMONTH=10
TZNAME:CET
TZOFFSETFROM:+0200
TZOFFSETTO:+0100
END:STANDARD
END:VTIMEZONE
END:VCALENDAR
