BEGIN:VCALENDAR
VERSION:2.0
PRODID:-//destination.one//NONSGML destination.meta API//DE
X-WR-CALDESC:A calendar powered by destination.meta
X-WR-CALNAME:teutonavigator Kalender via destination.meta
BEGIN:VEVENT
CATEGORIES:Workshop
CATEGORIES:Brauchtum/Kultur
CATEGORIES:Ausstellung
DESCRIPTION:mit der Künstlerin Xenia Gorzny\n\nmehr Informationen unter htt
 p://pages.destination.one/de/teutonavigator/streaming/detail/Event/e_10111
 9590/sticken-im-museum
DTEND;TZID=Europe/Berlin:20260220T180000
DTSTAMP:20260421T140155Z
DTSTART;TZID=Europe/Berlin:20260220T160000
GEO:52.022500;8.545800
LOCATION:Museum Huelsmann\, Ravensberger Park 3\, Bielefeld
SEQUENCE:0
SUMMARY:Sticken im Museum
UID:e_101119590_iv0
URL:http://pages.destination.one/de/teutonavigator/streaming/detail/Event/e
 _101119590/sticken-im-museum
END:VEVENT
BEGIN:VEVENT
CATEGORIES:Workshop
CATEGORIES:Brauchtum/Kultur
CATEGORIES:Ausstellung
DESCRIPTION:mit der Künstlerin Xenia Gorzny\n\nmehr Informationen unter htt
 p://pages.destination.one/de/teutonavigator/streaming/detail/Event/e_10111
 9590/sticken-im-museum
DTEND;TZID=Europe/Berlin:20260327T180000
DTSTAMP:20260421T140155Z
DTSTART;TZID=Europe/Berlin:20260327T160000
GEO:52.022500;8.545800
LOCATION:Museum Huelsmann\, Ravensberger Park 3\, Bielefeld
SEQUENCE:0
SUMMARY:Sticken im Museum
UID:e_101119590_iv1
URL:http://pages.destination.one/de/teutonavigator/streaming/detail/Event/e
 _101119590/sticken-im-museum
END:VEVENT
BEGIN:VEVENT
CATEGORIES:Workshop
CATEGORIES:Brauchtum/Kultur
CATEGORIES:Ausstellung
DESCRIPTION:mit der Künstlerin Xenia Gorzny\n\nmehr Informationen unter htt
 p://pages.destination.one/de/teutonavigator/streaming/detail/Event/e_10111
 9590/sticken-im-museum
DTEND;TZID=Europe/Berlin:20260417T180000
DTSTAMP:20260421T140155Z
DTSTART;TZID=Europe/Berlin:20260417T160000
GEO:52.022500;8.545800
LOCATION:Museum Huelsmann\, Ravensberger Park 3\, Bielefeld
SEQUENCE:0
SUMMARY:Sticken im Museum
UID:e_101119590_iv2
URL:http://pages.destination.one/de/teutonavigator/streaming/detail/Event/e
 _101119590/sticken-im-museum
END:VEVENT
BEGIN:VTIMEZONE
TZID:Europe/Berlin
X-LIC-LOCATION:Europe/Berlin
BEGIN:DAYLIGHT
DTSTART:19700329T020000
RRULE:FREQ=YEARLY;BYDAY=-1SU;BYMONTH=3
TZNAME:CEST
TZOFFSETFROM:+0100
TZOFFSETTO:+0200
END:DAYLIGHT
BEGIN:STANDARD
DTSTART:19701025T030000
RRULE:FREQ=YEARLY;BYDAY=-1SU;BYMONTH=10
TZNAME:CET
TZOFFSETFROM:+0200
TZOFFSETTO:+0100
END:STANDARD
END:VTIMEZONE
END:VCALENDAR
