BEGIN:VCALENDAR
VERSION:2.0
PRODID:-//destination.one//NONSGML destination.meta API//DE
X-WR-CALDESC:A calendar powered by destination.meta
X-WR-CALNAME:teutonavigator Kalender via destination.meta
BEGIN:VEVENT
CATEGORIES:Vortrag/Lesung
CATEGORIES:Brauchtum/Kultur
CATEGORIES:Ausstellung
DESCRIPTION:\n\nmehr Informationen unter http://pages.destination.one/de/te
 utonavigator/streaming/detail/Event/e_101108107/ffentliche-f-hrung-museum-
 k-nstlerhaus
DTEND;TZID=Europe/Berlin:20260221T163000
DTSTAMP:20260421T131218Z
DTSTART;TZID=Europe/Berlin:20260221T150000
GEO:52.074350;8.441083
LOCATION:Museum Peter August Böckstiegel\, Schloßstraße 111\, Werther (West
 f.)
SEQUENCE:0
SUMMARY:Öffentliche Führung (Museum & Künstlerhaus)
UID:e_101108107_iv0
URL:http://pages.destination.one/de/teutonavigator/streaming/detail/Event/e
 _101108107/ffentliche-f-hrung-museum-k-nstlerhaus
END:VEVENT
BEGIN:VEVENT
CATEGORIES:Vortrag/Lesung
CATEGORIES:Brauchtum/Kultur
CATEGORIES:Ausstellung
DESCRIPTION:\n\nmehr Informationen unter http://pages.destination.one/de/te
 utonavigator/streaming/detail/Event/e_101108107/ffentliche-f-hrung-museum-
 k-nstlerhaus
DTEND;TZID=Europe/Berlin:20260222T163000
DTSTAMP:20260421T131218Z
DTSTART;TZID=Europe/Berlin:20260222T150000
GEO:52.074350;8.441083
LOCATION:Museum Peter August Böckstiegel\, Schloßstraße 111\, Werther (West
 f.)
SEQUENCE:0
SUMMARY:Öffentliche Führung (Museum & Künstlerhaus)
UID:e_101108107_iv1
URL:http://pages.destination.one/de/teutonavigator/streaming/detail/Event/e
 _101108107/ffentliche-f-hrung-museum-k-nstlerhaus
END:VEVENT
BEGIN:VEVENT
CATEGORIES:Vortrag/Lesung
CATEGORIES:Brauchtum/Kultur
CATEGORIES:Ausstellung
DESCRIPTION:\n\nmehr Informationen unter http://pages.destination.one/de/te
 utonavigator/streaming/detail/Event/e_101108107/ffentliche-f-hrung-museum-
 k-nstlerhaus
DTEND;TZID=Europe/Berlin:20260228T163000
DTSTAMP:20260421T131218Z
DTSTART;TZID=Europe/Berlin:20260228T150000
GEO:52.074350;8.441083
LOCATION:Museum Peter August Böckstiegel\, Schloßstraße 111\, Werther (West
 f.)
SEQUENCE:0
SUMMARY:Öffentliche Führung (Museum & Künstlerhaus)
UID:e_101108107_iv2
URL:http://pages.destination.one/de/teutonavigator/streaming/detail/Event/e
 _101108107/ffentliche-f-hrung-museum-k-nstlerhaus
END:VEVENT
BEGIN:VEVENT
CATEGORIES:Vortrag/Lesung
CATEGORIES:Brauchtum/Kultur
CATEGORIES:Ausstellung
DESCRIPTION:\n\nmehr Informationen unter http://pages.destination.one/de/te
 utonavigator/streaming/detail/Event/e_101108107/ffentliche-f-hrung-museum-
 k-nstlerhaus
DTEND;TZID=Europe/Berlin:20260301T163000
DTSTAMP:20260421T131218Z
DTSTART;TZID=Europe/Berlin:20260301T150000
GEO:52.074350;8.441083
LOCATION:Museum Peter August Böckstiegel\, Schloßstraße 111\, Werther (West
 f.)
SEQUENCE:0
SUMMARY:Öffentliche Führung (Museum & Künstlerhaus)
UID:e_101108107_iv3
URL:http://pages.destination.one/de/teutonavigator/streaming/detail/Event/e
 _101108107/ffentliche-f-hrung-museum-k-nstlerhaus
END:VEVENT
BEGIN:VEVENT
CATEGORIES:Vortrag/Lesung
CATEGORIES:Brauchtum/Kultur
CATEGORIES:Ausstellung
DESCRIPTION:\n\nmehr Informationen unter http://pages.destination.one/de/te
 utonavigator/streaming/detail/Event/e_101108107/ffentliche-f-hrung-museum-
 k-nstlerhaus
DTEND;TZID=Europe/Berlin:20260307T163000
DTSTAMP:20260421T131218Z
DTSTART;TZID=Europe/Berlin:20260307T150000
GEO:52.074350;8.441083
LOCATION:Museum Peter August Böckstiegel\, Schloßstraße 111\, Werther (West
 f.)
SEQUENCE:0
SUMMARY:Öffentliche Führung (Museum & Künstlerhaus)
UID:e_101108107_iv4
URL:http://pages.destination.one/de/teutonavigator/streaming/detail/Event/e
 _101108107/ffentliche-f-hrung-museum-k-nstlerhaus
END:VEVENT
BEGIN:VEVENT
CATEGORIES:Vortrag/Lesung
CATEGORIES:Brauchtum/Kultur
CATEGORIES:Ausstellung
DESCRIPTION:\n\nmehr Informationen unter http://pages.destination.one/de/te
 utonavigator/streaming/detail/Event/e_101108107/ffentliche-f-hrung-museum-
 k-nstlerhaus
DTEND;TZID=Europe/Berlin:20260308T163000
DTSTAMP:20260421T131218Z
DTSTART;TZID=Europe/Berlin:20260308T150000
GEO:52.074350;8.441083
LOCATION:Museum Peter August Böckstiegel\, Schloßstraße 111\, Werther (West
 f.)
SEQUENCE:0
SUMMARY:Öffentliche Führung (Museum & Künstlerhaus)
UID:e_101108107_iv5
URL:http://pages.destination.one/de/teutonavigator/streaming/detail/Event/e
 _101108107/ffentliche-f-hrung-museum-k-nstlerhaus
END:VEVENT
BEGIN:VEVENT
CATEGORIES:Vortrag/Lesung
CATEGORIES:Brauchtum/Kultur
CATEGORIES:Ausstellung
DESCRIPTION:\n\nmehr Informationen unter http://pages.destination.one/de/te
 utonavigator/streaming/detail/Event/e_101108107/ffentliche-f-hrung-museum-
 k-nstlerhaus
DTEND;TZID=Europe/Berlin:20260314T163000
DTSTAMP:20260421T131218Z
DTSTART;TZID=Europe/Berlin:20260314T150000
GEO:52.074350;8.441083
LOCATION:Museum Peter August Böckstiegel\, Schloßstraße 111\, Werther (West
 f.)
SEQUENCE:0
SUMMARY:Öffentliche Führung (Museum & Künstlerhaus)
UID:e_101108107_iv6
URL:http://pages.destination.one/de/teutonavigator/streaming/detail/Event/e
 _101108107/ffentliche-f-hrung-museum-k-nstlerhaus
END:VEVENT
BEGIN:VEVENT
CATEGORIES:Vortrag/Lesung
CATEGORIES:Brauchtum/Kultur
CATEGORIES:Ausstellung
DESCRIPTION:\n\nmehr Informationen unter http://pages.destination.one/de/te
 utonavigator/streaming/detail/Event/e_101108107/ffentliche-f-hrung-museum-
 k-nstlerhaus
DTEND;TZID=Europe/Berlin:20260315T163000
DTSTAMP:20260421T131218Z
DTSTART;TZID=Europe/Berlin:20260315T150000
GEO:52.074350;8.441083
LOCATION:Museum Peter August Böckstiegel\, Schloßstraße 111\, Werther (West
 f.)
SEQUENCE:0
SUMMARY:Öffentliche Führung (Museum & Künstlerhaus)
UID:e_101108107_iv7
URL:http://pages.destination.one/de/teutonavigator/streaming/detail/Event/e
 _101108107/ffentliche-f-hrung-museum-k-nstlerhaus
END:VEVENT
BEGIN:VEVENT
CATEGORIES:Vortrag/Lesung
CATEGORIES:Brauchtum/Kultur
CATEGORIES:Ausstellung
DESCRIPTION:\n\nmehr Informationen unter http://pages.destination.one/de/te
 utonavigator/streaming/detail/Event/e_101108107/ffentliche-f-hrung-museum-
 k-nstlerhaus
DTEND;TZID=Europe/Berlin:20260321T163000
DTSTAMP:20260421T131218Z
DTSTART;TZID=Europe/Berlin:20260321T150000
GEO:52.074350;8.441083
LOCATION:Museum Peter August Böckstiegel\, Schloßstraße 111\, Werther (West
 f.)
SEQUENCE:0
SUMMARY:Öffentliche Führung (Museum & Künstlerhaus)
UID:e_101108107_iv8
URL:http://pages.destination.one/de/teutonavigator/streaming/detail/Event/e
 _101108107/ffentliche-f-hrung-museum-k-nstlerhaus
END:VEVENT
BEGIN:VEVENT
CATEGORIES:Vortrag/Lesung
CATEGORIES:Brauchtum/Kultur
CATEGORIES:Ausstellung
DESCRIPTION:\n\nmehr Informationen unter http://pages.destination.one/de/te
 utonavigator/streaming/detail/Event/e_101108107/ffentliche-f-hrung-museum-
 k-nstlerhaus
DTEND;TZID=Europe/Berlin:20260322T163000
DTSTAMP:20260421T131218Z
DTSTART;TZID=Europe/Berlin:20260322T150000
GEO:52.074350;8.441083
LOCATION:Museum Peter August Böckstiegel\, Schloßstraße 111\, Werther (West
 f.)
SEQUENCE:0
SUMMARY:Öffentliche Führung (Museum & Künstlerhaus)
UID:e_101108107_iv9
URL:http://pages.destination.one/de/teutonavigator/streaming/detail/Event/e
 _101108107/ffentliche-f-hrung-museum-k-nstlerhaus
END:VEVENT
BEGIN:VEVENT
CATEGORIES:Vortrag/Lesung
CATEGORIES:Brauchtum/Kultur
CATEGORIES:Ausstellung
DESCRIPTION:\n\nmehr Informationen unter http://pages.destination.one/de/te
 utonavigator/streaming/detail/Event/e_101108107/ffentliche-f-hrung-museum-
 k-nstlerhaus
DTEND;TZID=Europe/Berlin:20260328T163000
DTSTAMP:20260421T131218Z
DTSTART;TZID=Europe/Berlin:20260328T150000
GEO:52.074350;8.441083
LOCATION:Museum Peter August Böckstiegel\, Schloßstraße 111\, Werther (West
 f.)
SEQUENCE:0
SUMMARY:Öffentliche Führung (Museum & Künstlerhaus)
UID:e_101108107_iv10
URL:http://pages.destination.one/de/teutonavigator/streaming/detail/Event/e
 _101108107/ffentliche-f-hrung-museum-k-nstlerhaus
END:VEVENT
BEGIN:VEVENT
CATEGORIES:Vortrag/Lesung
CATEGORIES:Brauchtum/Kultur
CATEGORIES:Ausstellung
DESCRIPTION:\n\nmehr Informationen unter http://pages.destination.one/de/te
 utonavigator/streaming/detail/Event/e_101108107/ffentliche-f-hrung-museum-
 k-nstlerhaus
DTEND;TZID=Europe/Berlin:20260329T163000
DTSTAMP:20260421T131218Z
DTSTART;TZID=Europe/Berlin:20260329T150000
GEO:52.074350;8.441083
LOCATION:Museum Peter August Böckstiegel\, Schloßstraße 111\, Werther (West
 f.)
SEQUENCE:0
SUMMARY:Öffentliche Führung (Museum & Künstlerhaus)
UID:e_101108107_iv11
URL:http://pages.destination.one/de/teutonavigator/streaming/detail/Event/e
 _101108107/ffentliche-f-hrung-museum-k-nstlerhaus
END:VEVENT
BEGIN:VEVENT
CATEGORIES:Vortrag/Lesung
CATEGORIES:Brauchtum/Kultur
CATEGORIES:Ausstellung
DESCRIPTION:\n\nmehr Informationen unter http://pages.destination.one/de/te
 utonavigator/streaming/detail/Event/e_101108107/ffentliche-f-hrung-museum-
 k-nstlerhaus
DTEND;TZID=Europe/Berlin:20260404T163000
DTSTAMP:20260421T131218Z
DTSTART;TZID=Europe/Berlin:20260404T150000
GEO:52.074350;8.441083
LOCATION:Museum Peter August Böckstiegel\, Schloßstraße 111\, Werther (West
 f.)
SEQUENCE:0
SUMMARY:Öffentliche Führung (Museum & Künstlerhaus)
UID:e_101108107_iv12
URL:http://pages.destination.one/de/teutonavigator/streaming/detail/Event/e
 _101108107/ffentliche-f-hrung-museum-k-nstlerhaus
END:VEVENT
BEGIN:VEVENT
CATEGORIES:Vortrag/Lesung
CATEGORIES:Brauchtum/Kultur
CATEGORIES:Ausstellung
DESCRIPTION:\n\nmehr Informationen unter http://pages.destination.one/de/te
 utonavigator/streaming/detail/Event/e_101108107/ffentliche-f-hrung-museum-
 k-nstlerhaus
DTEND;TZID=Europe/Berlin:20260405T163000
DTSTAMP:20260421T131218Z
DTSTART;TZID=Europe/Berlin:20260405T150000
GEO:52.074350;8.441083
LOCATION:Museum Peter August Böckstiegel\, Schloßstraße 111\, Werther (West
 f.)
SEQUENCE:0
SUMMARY:Öffentliche Führung (Museum & Künstlerhaus)
UID:e_101108107_iv13
URL:http://pages.destination.one/de/teutonavigator/streaming/detail/Event/e
 _101108107/ffentliche-f-hrung-museum-k-nstlerhaus
END:VEVENT
BEGIN:VEVENT
CATEGORIES:Vortrag/Lesung
CATEGORIES:Brauchtum/Kultur
CATEGORIES:Ausstellung
DESCRIPTION:\n\nmehr Informationen unter http://pages.destination.one/de/te
 utonavigator/streaming/detail/Event/e_101108107/ffentliche-f-hrung-museum-
 k-nstlerhaus
DTEND;TZID=Europe/Berlin:20260411T163000
DTSTAMP:20260421T131218Z
DTSTART;TZID=Europe/Berlin:20260411T150000
GEO:52.074350;8.441083
LOCATION:Museum Peter August Böckstiegel\, Schloßstraße 111\, Werther (West
 f.)
SEQUENCE:0
SUMMARY:Öffentliche Führung (Museum & Künstlerhaus)
UID:e_101108107_iv14
URL:http://pages.destination.one/de/teutonavigator/streaming/detail/Event/e
 _101108107/ffentliche-f-hrung-museum-k-nstlerhaus
END:VEVENT
BEGIN:VEVENT
CATEGORIES:Vortrag/Lesung
CATEGORIES:Brauchtum/Kultur
CATEGORIES:Ausstellung
DESCRIPTION:\n\nmehr Informationen unter http://pages.destination.one/de/te
 utonavigator/streaming/detail/Event/e_101108107/ffentliche-f-hrung-museum-
 k-nstlerhaus
DTEND;TZID=Europe/Berlin:20260412T163000
DTSTAMP:20260421T131218Z
DTSTART;TZID=Europe/Berlin:20260412T150000
GEO:52.074350;8.441083
LOCATION:Museum Peter August Böckstiegel\, Schloßstraße 111\, Werther (West
 f.)
SEQUENCE:0
SUMMARY:Öffentliche Führung (Museum & Künstlerhaus)
UID:e_101108107_iv15
URL:http://pages.destination.one/de/teutonavigator/streaming/detail/Event/e
 _101108107/ffentliche-f-hrung-museum-k-nstlerhaus
END:VEVENT
BEGIN:VEVENT
CATEGORIES:Vortrag/Lesung
CATEGORIES:Brauchtum/Kultur
CATEGORIES:Ausstellung
DESCRIPTION:\n\nmehr Informationen unter http://pages.destination.one/de/te
 utonavigator/streaming/detail/Event/e_101108107/ffentliche-f-hrung-museum-
 k-nstlerhaus
DTEND;TZID=Europe/Berlin:20260418T163000
DTSTAMP:20260421T131218Z
DTSTART;TZID=Europe/Berlin:20260418T150000
GEO:52.074350;8.441083
LOCATION:Museum Peter August Böckstiegel\, Schloßstraße 111\, Werther (West
 f.)
SEQUENCE:0
SUMMARY:Öffentliche Führung (Museum & Künstlerhaus)
UID:e_101108107_iv16
URL:http://pages.destination.one/de/teutonavigator/streaming/detail/Event/e
 _101108107/ffentliche-f-hrung-museum-k-nstlerhaus
END:VEVENT
BEGIN:VEVENT
CATEGORIES:Vortrag/Lesung
CATEGORIES:Brauchtum/Kultur
CATEGORIES:Ausstellung
DESCRIPTION:\n\nmehr Informationen unter http://pages.destination.one/de/te
 utonavigator/streaming/detail/Event/e_101108107/ffentliche-f-hrung-museum-
 k-nstlerhaus
DTEND;TZID=Europe/Berlin:20260419T163000
DTSTAMP:20260421T131218Z
DTSTART;TZID=Europe/Berlin:20260419T150000
GEO:52.074350;8.441083
LOCATION:Museum Peter August Böckstiegel\, Schloßstraße 111\, Werther (West
 f.)
SEQUENCE:0
SUMMARY:Öffentliche Führung (Museum & Künstlerhaus)
UID:e_101108107_iv17
URL:http://pages.destination.one/de/teutonavigator/streaming/detail/Event/e
 _101108107/ffentliche-f-hrung-museum-k-nstlerhaus
END:VEVENT
BEGIN:VEVENT
CATEGORIES:Vortrag/Lesung
CATEGORIES:Brauchtum/Kultur
CATEGORIES:Ausstellung
DESCRIPTION:\n\nmehr Informationen unter http://pages.destination.one/de/te
 utonavigator/streaming/detail/Event/e_101108107/ffentliche-f-hrung-museum-
 k-nstlerhaus
DTEND;TZID=Europe/Berlin:20260425T163000
DTSTAMP:20260421T131218Z
DTSTART;TZID=Europe/Berlin:20260425T150000
GEO:52.074350;8.441083
LOCATION:Museum Peter August Böckstiegel\, Schloßstraße 111\, Werther (West
 f.)
SEQUENCE:0
SUMMARY:Öffentliche Führung (Museum & Künstlerhaus)
UID:e_101108107_iv18
URL:http://pages.destination.one/de/teutonavigator/streaming/detail/Event/e
 _101108107/ffentliche-f-hrung-museum-k-nstlerhaus
END:VEVENT
BEGIN:VEVENT
CATEGORIES:Vortrag/Lesung
CATEGORIES:Brauchtum/Kultur
CATEGORIES:Ausstellung
DESCRIPTION:\n\nmehr Informationen unter http://pages.destination.one/de/te
 utonavigator/streaming/detail/Event/e_101108107/ffentliche-f-hrung-museum-
 k-nstlerhaus
DTEND;TZID=Europe/Berlin:20260426T163000
DTSTAMP:20260421T131218Z
DTSTART;TZID=Europe/Berlin:20260426T150000
GEO:52.074350;8.441083
LOCATION:Museum Peter August Böckstiegel\, Schloßstraße 111\, Werther (West
 f.)
SEQUENCE:0
SUMMARY:Öffentliche Führung (Museum & Künstlerhaus)
UID:e_101108107_iv19
URL:http://pages.destination.one/de/teutonavigator/streaming/detail/Event/e
 _101108107/ffentliche-f-hrung-museum-k-nstlerhaus
END:VEVENT
BEGIN:VEVENT
CATEGORIES:Vortrag/Lesung
CATEGORIES:Brauchtum/Kultur
CATEGORIES:Ausstellung
DESCRIPTION:\n\nmehr Informationen unter http://pages.destination.one/de/te
 utonavigator/streaming/detail/Event/e_101108107/ffentliche-f-hrung-museum-
 k-nstlerhaus
DTEND;TZID=Europe/Berlin:20260502T163000
DTSTAMP:20260421T131218Z
DTSTART;TZID=Europe/Berlin:20260502T150000
GEO:52.074350;8.441083
LOCATION:Museum Peter August Böckstiegel\, Schloßstraße 111\, Werther (West
 f.)
SEQUENCE:0
SUMMARY:Öffentliche Führung (Museum & Künstlerhaus)
UID:e_101108107_iv20
URL:http://pages.destination.one/de/teutonavigator/streaming/detail/Event/e
 _101108107/ffentliche-f-hrung-museum-k-nstlerhaus
END:VEVENT
BEGIN:VEVENT
CATEGORIES:Vortrag/Lesung
CATEGORIES:Brauchtum/Kultur
CATEGORIES:Ausstellung
DESCRIPTION:\n\nmehr Informationen unter http://pages.destination.one/de/te
 utonavigator/streaming/detail/Event/e_101108107/ffentliche-f-hrung-museum-
 k-nstlerhaus
DTEND;TZID=Europe/Berlin:20260503T163000
DTSTAMP:20260421T131218Z
DTSTART;TZID=Europe/Berlin:20260503T150000
GEO:52.074350;8.441083
LOCATION:Museum Peter August Böckstiegel\, Schloßstraße 111\, Werther (West
 f.)
SEQUENCE:0
SUMMARY:Öffentliche Führung (Museum & Künstlerhaus)
UID:e_101108107_iv21
URL:http://pages.destination.one/de/teutonavigator/streaming/detail/Event/e
 _101108107/ffentliche-f-hrung-museum-k-nstlerhaus
END:VEVENT
BEGIN:VEVENT
CATEGORIES:Vortrag/Lesung
CATEGORIES:Brauchtum/Kultur
CATEGORIES:Ausstellung
DESCRIPTION:\n\nmehr Informationen unter http://pages.destination.one/de/te
 utonavigator/streaming/detail/Event/e_101108107/ffentliche-f-hrung-museum-
 k-nstlerhaus
DTEND;TZID=Europe/Berlin:20260509T163000
DTSTAMP:20260421T131218Z
DTSTART;TZID=Europe/Berlin:20260509T150000
GEO:52.074350;8.441083
LOCATION:Museum Peter August Böckstiegel\, Schloßstraße 111\, Werther (West
 f.)
SEQUENCE:0
SUMMARY:Öffentliche Führung (Museum & Künstlerhaus)
UID:e_101108107_iv22
URL:http://pages.destination.one/de/teutonavigator/streaming/detail/Event/e
 _101108107/ffentliche-f-hrung-museum-k-nstlerhaus
END:VEVENT
BEGIN:VEVENT
CATEGORIES:Vortrag/Lesung
CATEGORIES:Brauchtum/Kultur
CATEGORIES:Ausstellung
DESCRIPTION:\n\nmehr Informationen unter http://pages.destination.one/de/te
 utonavigator/streaming/detail/Event/e_101108107/ffentliche-f-hrung-museum-
 k-nstlerhaus
DTEND;TZID=Europe/Berlin:20260510T163000
DTSTAMP:20260421T131218Z
DTSTART;TZID=Europe/Berlin:20260510T150000
GEO:52.074350;8.441083
LOCATION:Museum Peter August Böckstiegel\, Schloßstraße 111\, Werther (West
 f.)
SEQUENCE:0
SUMMARY:Öffentliche Führung (Museum & Künstlerhaus)
UID:e_101108107_iv23
URL:http://pages.destination.one/de/teutonavigator/streaming/detail/Event/e
 _101108107/ffentliche-f-hrung-museum-k-nstlerhaus
END:VEVENT
BEGIN:VEVENT
CATEGORIES:Vortrag/Lesung
CATEGORIES:Brauchtum/Kultur
CATEGORIES:Ausstellung
DESCRIPTION:\n\nmehr Informationen unter http://pages.destination.one/de/te
 utonavigator/streaming/detail/Event/e_101108107/ffentliche-f-hrung-museum-
 k-nstlerhaus
DTEND;TZID=Europe/Berlin:20260516T163000
DTSTAMP:20260421T131218Z
DTSTART;TZID=Europe/Berlin:20260516T150000
GEO:52.074350;8.441083
LOCATION:Museum Peter August Böckstiegel\, Schloßstraße 111\, Werther (West
 f.)
SEQUENCE:0
SUMMARY:Öffentliche Führung (Museum & Künstlerhaus)
UID:e_101108107_iv24
URL:http://pages.destination.one/de/teutonavigator/streaming/detail/Event/e
 _101108107/ffentliche-f-hrung-museum-k-nstlerhaus
END:VEVENT
BEGIN:VEVENT
CATEGORIES:Vortrag/Lesung
CATEGORIES:Brauchtum/Kultur
CATEGORIES:Ausstellung
DESCRIPTION:\n\nmehr Informationen unter http://pages.destination.one/de/te
 utonavigator/streaming/detail/Event/e_101108107/ffentliche-f-hrung-museum-
 k-nstlerhaus
DTEND;TZID=Europe/Berlin:20260517T163000
DTSTAMP:20260421T131218Z
DTSTART;TZID=Europe/Berlin:20260517T150000
GEO:52.074350;8.441083
LOCATION:Museum Peter August Böckstiegel\, Schloßstraße 111\, Werther (West
 f.)
SEQUENCE:0
SUMMARY:Öffentliche Führung (Museum & Künstlerhaus)
UID:e_101108107_iv25
URL:http://pages.destination.one/de/teutonavigator/streaming/detail/Event/e
 _101108107/ffentliche-f-hrung-museum-k-nstlerhaus
END:VEVENT
BEGIN:VTIMEZONE
TZID:Europe/Berlin
X-LIC-LOCATION:Europe/Berlin
BEGIN:DAYLIGHT
DTSTART:19700329T020000
RRULE:FREQ=YEARLY;BYDAY=-1SU;BYMONTH=3
TZNAME:CEST
TZOFFSETFROM:+0100
TZOFFSETTO:+0200
END:DAYLIGHT
BEGIN:STANDARD
DTSTART:19701025T030000
RRULE:FREQ=YEARLY;BYDAY=-1SU;BYMONTH=10
TZNAME:CET
TZOFFSETFROM:+0200
TZOFFSETTO:+0100
END:STANDARD
END:VTIMEZONE
END:VCALENDAR
