BEGIN:VCALENDAR
VERSION:2.0
PRODID:-//destination.one//NONSGML destination.meta API//DE
X-WR-CALDESC:A calendar powered by destination.meta
X-WR-CALNAME:teutonavigator Kalender via destination.meta
BEGIN:VEVENT
CATEGORIES:Vortrag/Lesung
CATEGORIES:Kinderprogramm
DESCRIPTION:in der Kinderbibliothek der Stadtbibliothek am Neumarkt\n\nmehr
  Informationen unter http://pages.destination.one/de/teutonavigator/stream
 ing/detail/Event/e_101092946/storytime-vorlesen-auf-englisch
DTEND;TZID=Europe/Berlin:20260509T110000
DTSTAMP:20260421T192444Z
DTSTART;TZID=Europe/Berlin:20260509T103000
GEO:52.026700;8.536930
LOCATION:Stadtbibliothek\, Neumarkt 1\, Bielefeld
SEQUENCE:0
SUMMARY:Storytime - Vorlesen auf Englisch
UID:e_101092946_iv0
URL:http://pages.destination.one/de/teutonavigator/streaming/detail/Event/e
 _101092946/storytime-vorlesen-auf-englisch
END:VEVENT
BEGIN:VEVENT
CATEGORIES:Vortrag/Lesung
CATEGORIES:Kinderprogramm
DESCRIPTION:in der Kinderbibliothek der Stadtbibliothek am Neumarkt\n\nmehr
  Informationen unter http://pages.destination.one/de/teutonavigator/stream
 ing/detail/Event/e_101092946/storytime-vorlesen-auf-englisch
DTEND;TZID=Europe/Berlin:20260620T110000
DTSTAMP:20260421T192444Z
DTSTART;TZID=Europe/Berlin:20260620T103000
GEO:52.026700;8.536930
LOCATION:Stadtbibliothek\, Neumarkt 1\, Bielefeld
SEQUENCE:0
SUMMARY:Storytime - Vorlesen auf Englisch
UID:e_101092946_iv1
URL:http://pages.destination.one/de/teutonavigator/streaming/detail/Event/e
 _101092946/storytime-vorlesen-auf-englisch
END:VEVENT
BEGIN:VTIMEZONE
TZID:Europe/Berlin
X-LIC-LOCATION:Europe/Berlin
BEGIN:DAYLIGHT
DTSTART:19700329T020000
RRULE:FREQ=YEARLY;BYDAY=-1SU;BYMONTH=3
TZNAME:CEST
TZOFFSETFROM:+0100
TZOFFSETTO:+0200
END:DAYLIGHT
BEGIN:STANDARD
DTSTART:19701025T030000
RRULE:FREQ=YEARLY;BYDAY=-1SU;BYMONTH=10
TZNAME:CET
TZOFFSETFROM:+0200
TZOFFSETTO:+0100
END:STANDARD
END:VTIMEZONE
END:VCALENDAR
