BEGIN:VCALENDAR
VERSION:2.0
PRODID:-//destination.one//NONSGML destination.meta API//DE
X-WR-CALDESC:A calendar powered by destination.meta
X-WR-CALNAME:teutonavigator Kalender via destination.meta
BEGIN:VEVENT
CATEGORIES:Führung/Besichtigung
CATEGORIES:Vortrag/Lesung
DESCRIPTION:Streifzug durch die Bielefelder Stadtgeschichte\n\nmehr Informa
 tionen unter http://pages.destination.one/de/teutonavigator/streaming/deta
 il/Event/e_101092615/bielefelder-stadtrundfahrt
DTEND;TZID=Europe/Berlin:20260404T133000
DTSTAMP:20260421T192241Z
DTSTART;TZID=Europe/Berlin:20260404T110000
GEO:52.021100;8.535570
LOCATION:Altes Rathaus\, Niederwall 25\, Bielefeld
SEQUENCE:0
SUMMARY:Bielefelder Stadtrundfahrt
UID:e_101092615_iv0
URL:http://pages.destination.one/de/teutonavigator/streaming/detail/Event/e
 _101092615/bielefelder-stadtrundfahrt
END:VEVENT
BEGIN:VEVENT
CATEGORIES:Führung/Besichtigung
CATEGORIES:Vortrag/Lesung
DESCRIPTION:Streifzug durch die Bielefelder Stadtgeschichte\n\nmehr Informa
 tionen unter http://pages.destination.one/de/teutonavigator/streaming/deta
 il/Event/e_101092615/bielefelder-stadtrundfahrt
DTEND;TZID=Europe/Berlin:20260502T133000
DTSTAMP:20260421T192241Z
DTSTART;TZID=Europe/Berlin:20260502T110000
GEO:52.021100;8.535570
LOCATION:Altes Rathaus\, Niederwall 25\, Bielefeld
SEQUENCE:0
SUMMARY:Bielefelder Stadtrundfahrt
UID:e_101092615_iv1
URL:http://pages.destination.one/de/teutonavigator/streaming/detail/Event/e
 _101092615/bielefelder-stadtrundfahrt
END:VEVENT
BEGIN:VEVENT
CATEGORIES:Führung/Besichtigung
CATEGORIES:Vortrag/Lesung
DESCRIPTION:Streifzug durch die Bielefelder Stadtgeschichte\n\nmehr Informa
 tionen unter http://pages.destination.one/de/teutonavigator/streaming/deta
 il/Event/e_101092615/bielefelder-stadtrundfahrt
DTEND;TZID=Europe/Berlin:20260606T133000
DTSTAMP:20260421T192241Z
DTSTART;TZID=Europe/Berlin:20260606T110000
GEO:52.021100;8.535570
LOCATION:Altes Rathaus\, Niederwall 25\, Bielefeld
SEQUENCE:0
SUMMARY:Bielefelder Stadtrundfahrt
UID:e_101092615_iv2
URL:http://pages.destination.one/de/teutonavigator/streaming/detail/Event/e
 _101092615/bielefelder-stadtrundfahrt
END:VEVENT
BEGIN:VEVENT
CATEGORIES:Führung/Besichtigung
CATEGORIES:Vortrag/Lesung
DESCRIPTION:Streifzug durch die Bielefelder Stadtgeschichte\n\nmehr Informa
 tionen unter http://pages.destination.one/de/teutonavigator/streaming/deta
 il/Event/e_101092615/bielefelder-stadtrundfahrt
DTEND;TZID=Europe/Berlin:20260704T133000
DTSTAMP:20260421T192241Z
DTSTART;TZID=Europe/Berlin:20260704T110000
GEO:52.021100;8.535570
LOCATION:Altes Rathaus\, Niederwall 25\, Bielefeld
SEQUENCE:0
SUMMARY:Bielefelder Stadtrundfahrt
UID:e_101092615_iv3
URL:http://pages.destination.one/de/teutonavigator/streaming/detail/Event/e
 _101092615/bielefelder-stadtrundfahrt
END:VEVENT
BEGIN:VEVENT
CATEGORIES:Führung/Besichtigung
CATEGORIES:Vortrag/Lesung
DESCRIPTION:Streifzug durch die Bielefelder Stadtgeschichte\n\nmehr Informa
 tionen unter http://pages.destination.one/de/teutonavigator/streaming/deta
 il/Event/e_101092615/bielefelder-stadtrundfahrt
DTEND;TZID=Europe/Berlin:20260801T133000
DTSTAMP:20260421T192241Z
DTSTART;TZID=Europe/Berlin:20260801T110000
GEO:52.021100;8.535570
LOCATION:Altes Rathaus\, Niederwall 25\, Bielefeld
SEQUENCE:0
SUMMARY:Bielefelder Stadtrundfahrt
UID:e_101092615_iv4
URL:http://pages.destination.one/de/teutonavigator/streaming/detail/Event/e
 _101092615/bielefelder-stadtrundfahrt
END:VEVENT
BEGIN:VEVENT
CATEGORIES:Führung/Besichtigung
CATEGORIES:Vortrag/Lesung
DESCRIPTION:Streifzug durch die Bielefelder Stadtgeschichte\n\nmehr Informa
 tionen unter http://pages.destination.one/de/teutonavigator/streaming/deta
 il/Event/e_101092615/bielefelder-stadtrundfahrt
DTEND;TZID=Europe/Berlin:20260905T133000
DTSTAMP:20260421T192241Z
DTSTART;TZID=Europe/Berlin:20260905T110000
GEO:52.021100;8.535570
LOCATION:Altes Rathaus\, Niederwall 25\, Bielefeld
SEQUENCE:0
SUMMARY:Bielefelder Stadtrundfahrt
UID:e_101092615_iv5
URL:http://pages.destination.one/de/teutonavigator/streaming/detail/Event/e
 _101092615/bielefelder-stadtrundfahrt
END:VEVENT
BEGIN:VEVENT
CATEGORIES:Führung/Besichtigung
CATEGORIES:Vortrag/Lesung
DESCRIPTION:Streifzug durch die Bielefelder Stadtgeschichte\n\nmehr Informa
 tionen unter http://pages.destination.one/de/teutonavigator/streaming/deta
 il/Event/e_101092615/bielefelder-stadtrundfahrt
DTEND;TZID=Europe/Berlin:20261010T133000
DTSTAMP:20260421T192241Z
DTSTART;TZID=Europe/Berlin:20261010T110000
GEO:52.021100;8.535570
LOCATION:Altes Rathaus\, Niederwall 25\, Bielefeld
SEQUENCE:0
SUMMARY:Bielefelder Stadtrundfahrt
UID:e_101092615_iv6
URL:http://pages.destination.one/de/teutonavigator/streaming/detail/Event/e
 _101092615/bielefelder-stadtrundfahrt
END:VEVENT
BEGIN:VEVENT
CATEGORIES:Führung/Besichtigung
CATEGORIES:Vortrag/Lesung
DESCRIPTION:Streifzug durch die Bielefelder Stadtgeschichte\n\nmehr Informa
 tionen unter http://pages.destination.one/de/teutonavigator/streaming/deta
 il/Event/e_101092615/bielefelder-stadtrundfahrt
DTEND;TZID=Europe/Berlin:20261107T133000
DTSTAMP:20260421T192241Z
DTSTART;TZID=Europe/Berlin:20261107T110000
GEO:52.021100;8.535570
LOCATION:Altes Rathaus\, Niederwall 25\, Bielefeld
SEQUENCE:0
SUMMARY:Bielefelder Stadtrundfahrt
UID:e_101092615_iv7
URL:http://pages.destination.one/de/teutonavigator/streaming/detail/Event/e
 _101092615/bielefelder-stadtrundfahrt
END:VEVENT
BEGIN:VEVENT
CATEGORIES:Führung/Besichtigung
CATEGORIES:Vortrag/Lesung
DESCRIPTION:Streifzug durch die Bielefelder Stadtgeschichte\n\nmehr Informa
 tionen unter http://pages.destination.one/de/teutonavigator/streaming/deta
 il/Event/e_101092615/bielefelder-stadtrundfahrt
DTEND;TZID=Europe/Berlin:20261205T133000
DTSTAMP:20260421T192241Z
DTSTART;TZID=Europe/Berlin:20261205T110000
GEO:52.021100;8.535570
LOCATION:Altes Rathaus\, Niederwall 25\, Bielefeld
SEQUENCE:0
SUMMARY:Bielefelder Stadtrundfahrt
UID:e_101092615_iv8
URL:http://pages.destination.one/de/teutonavigator/streaming/detail/Event/e
 _101092615/bielefelder-stadtrundfahrt
END:VEVENT
BEGIN:VTIMEZONE
TZID:Europe/Berlin
X-LIC-LOCATION:Europe/Berlin
BEGIN:DAYLIGHT
DTSTART:19700329T020000
RRULE:FREQ=YEARLY;BYDAY=-1SU;BYMONTH=3
TZNAME:CEST
TZOFFSETFROM:+0100
TZOFFSETTO:+0200
END:DAYLIGHT
BEGIN:STANDARD
DTSTART:19701025T030000
RRULE:FREQ=YEARLY;BYDAY=-1SU;BYMONTH=10
TZNAME:CET
TZOFFSETFROM:+0200
TZOFFSETTO:+0100
END:STANDARD
END:VTIMEZONE
END:VCALENDAR
