BEGIN:VCALENDAR
VERSION:2.0
PRODID:-//destination.one//NONSGML destination.meta API//DE
X-WR-CALDESC:A calendar powered by destination.meta
X-WR-CALNAME:teutonavigator Kalender via destination.meta
BEGIN:VEVENT
CATEGORIES:Bühne divers
DESCRIPTION:Seit fast zwanzig Jahren begeistert DANCE MASTERS! – Best Of Ir
 ish Dance deutschlandweit das Publikum – mit bisher über 750.000 Besuchern
  – und die Nachfrage nach diesem Mix aus traditionellen Elementen und mode
 rnem Entertainment hält unvermindert an.\n\nmehr Informationen unter http:
 //pages.destination.one/de/teutonavigator/streaming/detail/Event/e_1010869
 19/dance-masters-best-of-irish-dance
DTEND;TZID=Europe/Berlin:20270312T235900
DTSTAMP:20260421T181624Z
DTSTART;TZID=Europe/Berlin:20270312T200000
GEO:51.722057;8.752370
LOCATION:PaderHalle am Maspernplatz\, Paderborn\, Heiersmauer 45-51\, Pader
 born
ORGANIZER;CN=Reset Production:mailto:info@resetproduction.de
PRIORITY:4
SEQUENCE:0
SUMMARY:Dance Masters - Best Of Irish Dance
UID:e_101086919_iv0
URL:http://pages.destination.one/de/teutonavigator/streaming/detail/Event/e
 _101086919/dance-masters-best-of-irish-dance
END:VEVENT
BEGIN:VTIMEZONE
TZID:Europe/Berlin
X-LIC-LOCATION:Europe/Berlin
BEGIN:DAYLIGHT
DTSTART:19700329T020000
RRULE:FREQ=YEARLY;BYDAY=-1SU;BYMONTH=3
TZNAME:CEST
TZOFFSETFROM:+0100
TZOFFSETTO:+0200
END:DAYLIGHT
BEGIN:STANDARD
DTSTART:19701025T030000
RRULE:FREQ=YEARLY;BYDAY=-1SU;BYMONTH=10
TZNAME:CET
TZOFFSETFROM:+0200
TZOFFSETTO:+0100
END:STANDARD
END:VTIMEZONE
END:VCALENDAR
