BEGIN:VCALENDAR
VERSION:2.0
PRODID:-//destination.one//NONSGML destination.meta API//DE
X-WR-CALDESC:A calendar powered by destination.meta
X-WR-CALNAME:teutonavigator Kalender via destination.meta
BEGIN:VEVENT
CATEGORIES:Motorsport
CATEGORIES:Weihnachtsmarkt
DESCRIPTION:Weihnachtliches LKW- und Truckertreffen mit Lichterfahrt durch 
 Verlar\n\nmehr Informationen unter http://pages.destination.one/de/teutona
 vigator/streaming/detail/Event/e_101073113/s-lzer-trucker-weihnacht
DTEND;TZID=Europe/Berlin;VALUE=DATE:20251208
DTSTAMP:20260422T085745Z
DTSTART;TZID=Europe/Berlin;VALUE=DATE:20251205
GEO:51.688748;8.501240
LOCATION:Dorfplatz Verlar\, Auf dem Howe\, Salzkotten
ORGANIZER;CN=Sälzer Trucker - gemeinsam für hilfsbedürftige Menschen e.V:ma
 ilto:Info@saelzer-trucker.de
SEQUENCE:0
SUMMARY:Sälzer Trucker-Weihnacht
UID:e_101073113_iv0
URL:http://pages.destination.one/de/teutonavigator/streaming/detail/Event/e
 _101073113/s-lzer-trucker-weihnacht
END:VEVENT
BEGIN:VEVENT
CATEGORIES:Motorsport
CATEGORIES:Weihnachtsmarkt
DESCRIPTION:Weihnachtliches LKW- und Truckertreffen mit Lichterfahrt durch 
 Verlar\n\nmehr Informationen unter http://pages.destination.one/de/teutona
 vigator/streaming/detail/Event/e_101073113/s-lzer-trucker-weihnacht
DTEND;TZID=Europe/Berlin:20261204T235900
DTSTAMP:20260422T085745Z
DTSTART;TZID=Europe/Berlin:20261204T190000
GEO:51.688748;8.501240
LOCATION:Dorfplatz Verlar\, Auf dem Howe\, Salzkotten
ORGANIZER;CN=Sälzer Trucker - gemeinsam für hilfsbedürftige Menschen e.V:ma
 ilto:Info@saelzer-trucker.de
SEQUENCE:0
SUMMARY:Sälzer Trucker-Weihnacht
UID:e_101073113_iv1
URL:http://pages.destination.one/de/teutonavigator/streaming/detail/Event/e
 _101073113/s-lzer-trucker-weihnacht
END:VEVENT
BEGIN:VEVENT
CATEGORIES:Motorsport
CATEGORIES:Weihnachtsmarkt
DESCRIPTION:Weihnachtliches LKW- und Truckertreffen mit Lichterfahrt durch 
 Verlar\n\nmehr Informationen unter http://pages.destination.one/de/teutona
 vigator/streaming/detail/Event/e_101073113/s-lzer-trucker-weihnacht
DTEND;TZID=Europe/Berlin:20261205T190000
DTSTAMP:20260422T085745Z
DTSTART;TZID=Europe/Berlin:20261205T080000
GEO:51.688748;8.501240
LOCATION:Dorfplatz Verlar\, Auf dem Howe\, Salzkotten
ORGANIZER;CN=Sälzer Trucker - gemeinsam für hilfsbedürftige Menschen e.V:ma
 ilto:Info@saelzer-trucker.de
SEQUENCE:0
SUMMARY:Sälzer Trucker-Weihnacht
UID:e_101073113_iv2
URL:http://pages.destination.one/de/teutonavigator/streaming/detail/Event/e
 _101073113/s-lzer-trucker-weihnacht
END:VEVENT
BEGIN:VEVENT
CATEGORIES:Motorsport
CATEGORIES:Weihnachtsmarkt
DESCRIPTION:Weihnachtliches LKW- und Truckertreffen mit Lichterfahrt durch 
 Verlar\n\nmehr Informationen unter http://pages.destination.one/de/teutona
 vigator/streaming/detail/Event/e_101073113/s-lzer-trucker-weihnacht
DTEND;TZID=Europe/Berlin:20261206T235900
DTSTAMP:20260422T085745Z
DTSTART;TZID=Europe/Berlin:20261206T080000
GEO:51.688748;8.501240
LOCATION:Dorfplatz Verlar\, Auf dem Howe\, Salzkotten
ORGANIZER;CN=Sälzer Trucker - gemeinsam für hilfsbedürftige Menschen e.V:ma
 ilto:Info@saelzer-trucker.de
SEQUENCE:0
SUMMARY:Sälzer Trucker-Weihnacht
UID:e_101073113_iv3
URL:http://pages.destination.one/de/teutonavigator/streaming/detail/Event/e
 _101073113/s-lzer-trucker-weihnacht
END:VEVENT
BEGIN:VTIMEZONE
TZID:Europe/Berlin
X-LIC-LOCATION:Europe/Berlin
BEGIN:DAYLIGHT
DTSTART:19700329T020000
RRULE:FREQ=YEARLY;BYDAY=-1SU;BYMONTH=3
TZNAME:CEST
TZOFFSETFROM:+0100
TZOFFSETTO:+0200
END:DAYLIGHT
BEGIN:STANDARD
DTSTART:19701025T030000
RRULE:FREQ=YEARLY;BYDAY=-1SU;BYMONTH=10
TZNAME:CET
TZOFFSETFROM:+0200
TZOFFSETTO:+0100
END:STANDARD
END:VTIMEZONE
END:VCALENDAR
