BEGIN:VCALENDAR
VERSION:2.0
PRODID:-//destination.one//NONSGML destination.meta API//DE
X-WR-CALDESC:A calendar powered by destination.meta
X-WR-CALNAME:teutonavigator Kalender via destination.meta
BEGIN:VEVENT
CATEGORIES:Weihnachtsmarkt
DESCRIPTION:\n\nmehr Informationen unter http://pages.destination.one/de/te
 utonavigator/streaming/detail/Event/e_101073052/weihnachtlicher-winteraben
 d-in-ostenland
DTEND;TZID=Europe/Berlin:20251214T000000
DTSTAMP:20260422T120314Z
DTSTART;TZID=Europe/Berlin:20251213T170000
GEO:51.795525;8.612359
LOCATION:Dorfplatz Ostenland\, Auf dem Haupte\, Delbrück
ORGANIZER;CN=Heimatverein Ostenland:mailto:info@ostenland.de
SEQUENCE:0
SUMMARY:Weihnachtlicher Winterabend in Ostenland
UID:e_101073052_iv0
URL:http://pages.destination.one/de/teutonavigator/streaming/detail/Event/e
 _101073052/weihnachtlicher-winterabend-in-ostenland
END:VEVENT
BEGIN:VEVENT
CATEGORIES:Weihnachtsmarkt
DESCRIPTION:\n\nmehr Informationen unter http://pages.destination.one/de/te
 utonavigator/streaming/detail/Event/e_101073052/weihnachtlicher-winteraben
 d-in-ostenland
DTEND;TZID=Europe/Berlin:20261212T235900
DTSTAMP:20260422T120314Z
DTSTART;TZID=Europe/Berlin:20261212T170000
GEO:51.795525;8.612359
LOCATION:Dorfplatz Ostenland\, Auf dem Haupte\, Delbrück
ORGANIZER;CN=Heimatverein Ostenland:mailto:info@ostenland.de
SEQUENCE:0
SUMMARY:Weihnachtlicher Winterabend in Ostenland
UID:e_101073052_iv1
URL:http://pages.destination.one/de/teutonavigator/streaming/detail/Event/e
 _101073052/weihnachtlicher-winterabend-in-ostenland
END:VEVENT
BEGIN:VTIMEZONE
TZID:Europe/Berlin
X-LIC-LOCATION:Europe/Berlin
BEGIN:DAYLIGHT
DTSTART:19700329T020000
RRULE:FREQ=YEARLY;BYDAY=-1SU;BYMONTH=3
TZNAME:CEST
TZOFFSETFROM:+0100
TZOFFSETTO:+0200
END:DAYLIGHT
BEGIN:STANDARD
DTSTART:19701025T030000
RRULE:FREQ=YEARLY;BYDAY=-1SU;BYMONTH=10
TZNAME:CET
TZOFFSETFROM:+0200
TZOFFSETTO:+0100
END:STANDARD
END:VTIMEZONE
END:VCALENDAR
