BEGIN:VCALENDAR
VERSION:2.0
PRODID:-//destination.one//NONSGML destination.meta API//DE
X-WR-CALDESC:A calendar powered by destination.meta
X-WR-CALNAME:teutonavigator Kalender via destination.meta
BEGIN:VEVENT
CATEGORIES:Weihnachtsmarkt
DESCRIPTION:\n\nmehr Informationen unter http://pages.destination.one/de/te
 utonavigator/streaming/detail/Event/e_101073046/weihnachtsmarkt-in-upsprun
 ge
DTEND;TZID=Europe/Berlin;VALUE=DATE:20251214
DTSTAMP:20260422T144751Z
DTSTART;TZID=Europe/Berlin;VALUE=DATE:20251213
GEO:51.653040;8.598221
LOCATION:Bürgerhaus Upsprunge\, Hederbornstraße 41\, Salzkotten
ORGANIZER;CN=Bürgerverein Upsprunge e.V.:mailto:info@upsprunge.de
SEQUENCE:0
SUMMARY:Weihnachtsmarkt in Upsprunge
UID:e_101073046_iv0
URL:http://pages.destination.one/de/teutonavigator/streaming/detail/Event/e
 _101073046/weihnachtsmarkt-in-upsprunge
END:VEVENT
BEGIN:VEVENT
CATEGORIES:Weihnachtsmarkt
DESCRIPTION:\n\nmehr Informationen unter http://pages.destination.one/de/te
 utonavigator/streaming/detail/Event/e_101073046/weihnachtsmarkt-in-upsprun
 ge
DTEND;TZID=Europe/Berlin;VALUE=DATE:20261214
DTSTAMP:20260422T144751Z
DTSTART;TZID=Europe/Berlin;VALUE=DATE:20261213
GEO:51.653040;8.598221
LOCATION:Bürgerhaus Upsprunge\, Hederbornstraße 41\, Salzkotten
ORGANIZER;CN=Bürgerverein Upsprunge e.V.:mailto:info@upsprunge.de
SEQUENCE:0
SUMMARY:Weihnachtsmarkt in Upsprunge
UID:e_101073046_iv1
URL:http://pages.destination.one/de/teutonavigator/streaming/detail/Event/e
 _101073046/weihnachtsmarkt-in-upsprunge
END:VEVENT
BEGIN:VTIMEZONE
TZID:Europe/Berlin
X-LIC-LOCATION:Europe/Berlin
BEGIN:DAYLIGHT
DTSTART:19700329T020000
RRULE:FREQ=YEARLY;BYDAY=-1SU;BYMONTH=3
TZNAME:CEST
TZOFFSETFROM:+0100
TZOFFSETTO:+0200
END:DAYLIGHT
BEGIN:STANDARD
DTSTART:19701025T030000
RRULE:FREQ=YEARLY;BYDAY=-1SU;BYMONTH=10
TZNAME:CET
TZOFFSETFROM:+0200
TZOFFSETTO:+0100
END:STANDARD
END:VTIMEZONE
END:VCALENDAR
