BEGIN:VCALENDAR
VERSION:2.0
PRODID:-//destination.one//NONSGML destination.meta API//DE
X-WR-CALDESC:A calendar powered by destination.meta
X-WR-CALNAME:teutonavigator Kalender via destination.meta
BEGIN:VEVENT
CATEGORIES:Sport/Freizeit
CATEGORIES:Festival/Open-Air
DESCRIPTION:Frühstück im Park – stilvoll genießen & Gutes tun\n\nmehr Infor
 mationen unter http://pages.destination.one/de/teutonavigator/streaming/de
 tail/Event/e_101060705/fr-hst-ck-im-park
DTEND;TZID=Europe/Berlin:20260704T133000
DTSTAMP:20260424T152958Z
DTSTART;TZID=Europe/Berlin:20260704T103000
GEO:52.087261;8.749790
LOCATION:Konzerthalle\, im Kurpark\, Bad Salzuflen
ORGANIZER;CN=SI-Club Detmold:mailto:info@clubdetmold.soroptimisten.de
RRULE:FREQ=WEEKLY;UNTIL=20260704T220000;BYDAY=SA
SEQUENCE:0
SUMMARY:Frühstück im Park
UID:e_101060705_iv0
URL:http://pages.destination.one/de/teutonavigator/streaming/detail/Event/e
 _101060705/fr-hst-ck-im-park
END:VEVENT
BEGIN:VTIMEZONE
TZID:Europe/Berlin
X-LIC-LOCATION:Europe/Berlin
BEGIN:DAYLIGHT
DTSTART:19700329T020000
RRULE:FREQ=YEARLY;BYDAY=-1SU;BYMONTH=3
TZNAME:CEST
TZOFFSETFROM:+0100
TZOFFSETTO:+0200
END:DAYLIGHT
BEGIN:STANDARD
DTSTART:19701025T030000
RRULE:FREQ=YEARLY;BYDAY=-1SU;BYMONTH=10
TZNAME:CET
TZOFFSETFROM:+0200
TZOFFSETTO:+0100
END:STANDARD
END:VTIMEZONE
END:VCALENDAR
