BEGIN:VCALENDAR
VERSION:2.0
PRODID:-//destination.one//NONSGML destination.meta API//DE
X-WR-CALDESC:A calendar powered by destination.meta
X-WR-CALNAME:teutonavigator Kalender via destination.meta
BEGIN:VEVENT
CATEGORIES:Stadtfest/Kirmes/Jahrmarkt
DESCRIPTION:KEINE ANMELDUNG!\n 1 x im Monat\, jeweils am 2. Freitag des Mon
 ats von 14:00 Uhr bis 17:00 Uhr unterstützen Sie ehrenamtliche Reparateure
  dabei\, Defekte an mitgebrachten Gebrauchsgegenständen zu untersuchen und
  im besten Falle gemeinsam zu reparieren. Für verschiedene Reparaturen aus
  den Bereichen Elektronik\, Holz\, etc. stehen Reparaturfachkundige und di
 e notwendigen Materialien und Werkzeuge vor Ort bereit. Auch für das leibl
 iche Wohl ist gesorgt – repariert wird hier in entspannter\, gemütlicher A
 tmosphäre bei Kaffee und Kuchen.\n\nmehr Informationen unter http://pages.
 destination.one/de/teutonavigator/streaming/detail/Event/e_101060056/repai
 rcaf-im-awb-haus
DTEND;TZID=Europe/Berlin:20260313T170000
DTSTAMP:20260421T181301Z
DTSTART;TZID=Europe/Berlin:20260313T140000
GEO:52.065705;8.747812
LOCATION:awb e.V.\, Kiliansweg 7\, Bad Salzuflen
ORGANIZER;CN=Roselind Beineke:mailto:info@awbev.de
RRULE:FREQ=WEEKLY;UNTIL=20260313T230000;BYDAY=FR
SEQUENCE:0
SUMMARY:Repaircafé im awb-Haus
UID:e_101060056_iv0
URL:http://pages.destination.one/de/teutonavigator/streaming/detail/Event/e
 _101060056/repaircaf-im-awb-haus
END:VEVENT
BEGIN:VEVENT
CATEGORIES:Stadtfest/Kirmes/Jahrmarkt
DESCRIPTION:KEINE ANMELDUNG!\n 1 x im Monat\, jeweils am 2. Freitag des Mon
 ats von 14:00 Uhr bis 17:00 Uhr unterstützen Sie ehrenamtliche Reparateure
  dabei\, Defekte an mitgebrachten Gebrauchsgegenständen zu untersuchen und
  im besten Falle gemeinsam zu reparieren. Für verschiedene Reparaturen aus
  den Bereichen Elektronik\, Holz\, etc. stehen Reparaturfachkundige und di
 e notwendigen Materialien und Werkzeuge vor Ort bereit. Auch für das leibl
 iche Wohl ist gesorgt – repariert wird hier in entspannter\, gemütlicher A
 tmosphäre bei Kaffee und Kuchen.\n\nmehr Informationen unter http://pages.
 destination.one/de/teutonavigator/streaming/detail/Event/e_101060056/repai
 rcaf-im-awb-haus
DTEND;TZID=Europe/Berlin:20260417T170000
DTSTAMP:20260421T181301Z
DTSTART;TZID=Europe/Berlin:20260417T140000
GEO:52.065705;8.747812
LOCATION:awb e.V.\, Kiliansweg 7\, Bad Salzuflen
ORGANIZER;CN=Roselind Beineke:mailto:info@awbev.de
RRULE:FREQ=WEEKLY;UNTIL=20260417T220000;BYDAY=FR
SEQUENCE:0
SUMMARY:Repaircafé im awb-Haus
UID:e_101060056_iv1
URL:http://pages.destination.one/de/teutonavigator/streaming/detail/Event/e
 _101060056/repaircaf-im-awb-haus
END:VEVENT
BEGIN:VEVENT
CATEGORIES:Stadtfest/Kirmes/Jahrmarkt
DESCRIPTION:KEINE ANMELDUNG!\n 1 x im Monat\, jeweils am 2. Freitag des Mon
 ats von 14:00 Uhr bis 17:00 Uhr unterstützen Sie ehrenamtliche Reparateure
  dabei\, Defekte an mitgebrachten Gebrauchsgegenständen zu untersuchen und
  im besten Falle gemeinsam zu reparieren. Für verschiedene Reparaturen aus
  den Bereichen Elektronik\, Holz\, etc. stehen Reparaturfachkundige und di
 e notwendigen Materialien und Werkzeuge vor Ort bereit. Auch für das leibl
 iche Wohl ist gesorgt – repariert wird hier in entspannter\, gemütlicher A
 tmosphäre bei Kaffee und Kuchen.\n\nmehr Informationen unter http://pages.
 destination.one/de/teutonavigator/streaming/detail/Event/e_101060056/repai
 rcaf-im-awb-haus
DTEND;TZID=Europe/Berlin:20260508T170000
DTSTAMP:20260421T181301Z
DTSTART;TZID=Europe/Berlin:20260508T140000
GEO:52.065705;8.747812
LOCATION:awb e.V.\, Kiliansweg 7\, Bad Salzuflen
ORGANIZER;CN=Roselind Beineke:mailto:info@awbev.de
RRULE:FREQ=WEEKLY;UNTIL=20260508T220000;BYDAY=FR
SEQUENCE:0
SUMMARY:Repaircafé im awb-Haus
UID:e_101060056_iv2
URL:http://pages.destination.one/de/teutonavigator/streaming/detail/Event/e
 _101060056/repaircaf-im-awb-haus
END:VEVENT
BEGIN:VEVENT
CATEGORIES:Stadtfest/Kirmes/Jahrmarkt
DESCRIPTION:KEINE ANMELDUNG!\n 1 x im Monat\, jeweils am 2. Freitag des Mon
 ats von 14:00 Uhr bis 17:00 Uhr unterstützen Sie ehrenamtliche Reparateure
  dabei\, Defekte an mitgebrachten Gebrauchsgegenständen zu untersuchen und
  im besten Falle gemeinsam zu reparieren. Für verschiedene Reparaturen aus
  den Bereichen Elektronik\, Holz\, etc. stehen Reparaturfachkundige und di
 e notwendigen Materialien und Werkzeuge vor Ort bereit. Auch für das leibl
 iche Wohl ist gesorgt – repariert wird hier in entspannter\, gemütlicher A
 tmosphäre bei Kaffee und Kuchen.\n\nmehr Informationen unter http://pages.
 destination.one/de/teutonavigator/streaming/detail/Event/e_101060056/repai
 rcaf-im-awb-haus
DTEND;TZID=Europe/Berlin:20260612T170000
DTSTAMP:20260421T181301Z
DTSTART;TZID=Europe/Berlin:20260612T140000
GEO:52.065705;8.747812
LOCATION:awb e.V.\, Kiliansweg 7\, Bad Salzuflen
ORGANIZER;CN=Roselind Beineke:mailto:info@awbev.de
RRULE:FREQ=WEEKLY;UNTIL=20260612T220000;BYDAY=FR
SEQUENCE:0
SUMMARY:Repaircafé im awb-Haus
UID:e_101060056_iv3
URL:http://pages.destination.one/de/teutonavigator/streaming/detail/Event/e
 _101060056/repaircaf-im-awb-haus
END:VEVENT
BEGIN:VEVENT
CATEGORIES:Stadtfest/Kirmes/Jahrmarkt
DESCRIPTION:KEINE ANMELDUNG!\n 1 x im Monat\, jeweils am 2. Freitag des Mon
 ats von 14:00 Uhr bis 17:00 Uhr unterstützen Sie ehrenamtliche Reparateure
  dabei\, Defekte an mitgebrachten Gebrauchsgegenständen zu untersuchen und
  im besten Falle gemeinsam zu reparieren. Für verschiedene Reparaturen aus
  den Bereichen Elektronik\, Holz\, etc. stehen Reparaturfachkundige und di
 e notwendigen Materialien und Werkzeuge vor Ort bereit. Auch für das leibl
 iche Wohl ist gesorgt – repariert wird hier in entspannter\, gemütlicher A
 tmosphäre bei Kaffee und Kuchen.\n\nmehr Informationen unter http://pages.
 destination.one/de/teutonavigator/streaming/detail/Event/e_101060056/repai
 rcaf-im-awb-haus
DTEND;TZID=Europe/Berlin:20260710T170000
DTSTAMP:20260421T181301Z
DTSTART;TZID=Europe/Berlin:20260710T140000
GEO:52.065705;8.747812
LOCATION:awb e.V.\, Kiliansweg 7\, Bad Salzuflen
ORGANIZER;CN=Roselind Beineke:mailto:info@awbev.de
RRULE:FREQ=WEEKLY;UNTIL=20260710T220000;BYDAY=FR
SEQUENCE:0
SUMMARY:Repaircafé im awb-Haus
UID:e_101060056_iv4
URL:http://pages.destination.one/de/teutonavigator/streaming/detail/Event/e
 _101060056/repaircaf-im-awb-haus
END:VEVENT
BEGIN:VTIMEZONE
TZID:Europe/Berlin
X-LIC-LOCATION:Europe/Berlin
BEGIN:DAYLIGHT
DTSTART:19700329T020000
RRULE:FREQ=YEARLY;BYDAY=-1SU;BYMONTH=3
TZNAME:CEST
TZOFFSETFROM:+0100
TZOFFSETTO:+0200
END:DAYLIGHT
BEGIN:STANDARD
DTSTART:19701025T030000
RRULE:FREQ=YEARLY;BYDAY=-1SU;BYMONTH=10
TZNAME:CET
TZOFFSETFROM:+0200
TZOFFSETTO:+0100
END:STANDARD
END:VTIMEZONE
END:VCALENDAR
