BEGIN:VCALENDAR
VERSION:2.0
PRODID:-//destination.one//NONSGML destination.meta API//DE
X-WR-CALDESC:A calendar powered by destination.meta
X-WR-CALNAME:teutonavigator Kalender via destination.meta
BEGIN:VEVENT
CATEGORIES:Klassisch
DESCRIPTION:\n\nmehr Informationen unter http://pages.destination.one/de/te
 utonavigator/streaming/detail/Event/e_101056577/konzert-f-r-junge-leute-no
 -rhythm-no-music
DTEND;TZID=Europe/Berlin:20260427T120000
DTSTAMP:20260421T143415Z
DTSTART;TZID=Europe/Berlin:20260427T110000
GEO:52.382303;8.628400
LOCATION:Neues Theater Espelkamp \, Trakehner Str. 1\, Espelkamp
ORGANIZER;CN=Volksbildungswerk Espelkamp e.V.:mailto:g.kopp@espelkamp.de
SEQUENCE:0
SUMMARY:Konzert für Junge Leute: No Rhythm\, No Music
UID:e_101056577_iv0
URL:http://pages.destination.one/de/teutonavigator/streaming/detail/Event/e
 _101056577/konzert-f-r-junge-leute-no-rhythm-no-music
END:VEVENT
BEGIN:VTIMEZONE
TZID:Europe/Berlin
X-LIC-LOCATION:Europe/Berlin
BEGIN:DAYLIGHT
DTSTART:19700329T020000
RRULE:FREQ=YEARLY;BYDAY=-1SU;BYMONTH=3
TZNAME:CEST
TZOFFSETFROM:+0100
TZOFFSETTO:+0200
END:DAYLIGHT
BEGIN:STANDARD
DTSTART:19701025T030000
RRULE:FREQ=YEARLY;BYDAY=-1SU;BYMONTH=10
TZNAME:CET
TZOFFSETFROM:+0200
TZOFFSETTO:+0100
END:STANDARD
END:VTIMEZONE
END:VCALENDAR
