BEGIN:VCALENDAR
VERSION:2.0
PRODID:-//destination.one//NONSGML destination.meta API//DE
X-WR-CALDESC:A calendar powered by destination.meta
X-WR-CALNAME:teutonavigator Kalender via destination.meta
BEGIN:VEVENT
CATEGORIES:Geselligkeit/Spiele/Treffen
CATEGORIES:Workshop
DESCRIPTION:Ein offenes Angebot für alle Interessierten \, im Marta-Atelier
  kreativ zu werden und ins Gespräch zu kommen.\n\nmehr Informationen unter
  http://pages.destination.one/de/teutonavigator/streaming/detail/Event/e_1
 01052121/kunst-kaffee-keks
DTEND;TZID=Europe/Berlin:20250508T163000
DTSTAMP:20260423T082724Z
DTSTART;TZID=Europe/Berlin:20250508T150000
GEO:52.121016;8.668300
LOCATION:Marta HOCH2\, Goebenstraße 4\, Herford
ORGANIZER;CN=Marta Herford:mailto:info@marta-herford.de
RRULE:FREQ=MONTHLY;BYDAY=2TH
SEQUENCE:0
SUMMARY:Kunst - Kaffee - Keks
UID:e_101052121_iv0
URL:http://pages.destination.one/de/teutonavigator/streaming/detail/Event/e
 _101052121/kunst-kaffee-keks
END:VEVENT
BEGIN:VTIMEZONE
TZID:Europe/Berlin
X-LIC-LOCATION:Europe/Berlin
BEGIN:DAYLIGHT
DTSTART:19700329T020000
RRULE:FREQ=YEARLY;BYDAY=-1SU;BYMONTH=3
TZNAME:CEST
TZOFFSETFROM:+0100
TZOFFSETTO:+0200
END:DAYLIGHT
BEGIN:STANDARD
DTSTART:19701025T030000
RRULE:FREQ=YEARLY;BYDAY=-1SU;BYMONTH=10
TZNAME:CET
TZOFFSETFROM:+0200
TZOFFSETTO:+0100
END:STANDARD
END:VTIMEZONE
END:VCALENDAR
