BEGIN:VCALENDAR
VERSION:2.0
PRODID:-//destination.one//NONSGML destination.meta API//DE
X-WR-CALDESC:A calendar powered by destination.meta
X-WR-CALNAME:teutonavigator Kalender via destination.meta
BEGIN:VEVENT
CATEGORIES:Geselligkeit/Spiele/Treffen
DESCRIPTION:Gemeinsam neue Spiele entdecken oder alte Favoriten mal wieder 
 auf den Tisch bringen\n\nmehr Informationen unter http://pages.destination
 .one/de/teutonavigator/streaming/detail/Event/e_101052119/spielen-und-zock
 en-spieleabend-f-r-alle
DTEND;TZID=Europe/Berlin:20250528T193000
DTSTAMP:20260421T204210Z
DTSTART;TZID=Europe/Berlin:20250528T170000
GEO:52.121016;8.668300
LOCATION:Marta HOCH2\, Goebenstraße 4\, Herford
ORGANIZER;CN=Marta Herford:mailto:info@marta-herford.de
RRULE:FREQ=MONTHLY;BYDAY=4WE
SEQUENCE:0
SUMMARY:Spielen und zocken - Spieleabend für alle
UID:e_101052119_iv0
URL:http://pages.destination.one/de/teutonavigator/streaming/detail/Event/e
 _101052119/spielen-und-zocken-spieleabend-f-r-alle
END:VEVENT
BEGIN:VTIMEZONE
TZID:Europe/Berlin
X-LIC-LOCATION:Europe/Berlin
BEGIN:DAYLIGHT
DTSTART:19700329T020000
RRULE:FREQ=YEARLY;BYDAY=-1SU;BYMONTH=3
TZNAME:CEST
TZOFFSETFROM:+0100
TZOFFSETTO:+0200
END:DAYLIGHT
BEGIN:STANDARD
DTSTART:19701025T030000
RRULE:FREQ=YEARLY;BYDAY=-1SU;BYMONTH=10
TZNAME:CET
TZOFFSETFROM:+0200
TZOFFSETTO:+0100
END:STANDARD
END:VTIMEZONE
END:VCALENDAR
