BEGIN:VCALENDAR
VERSION:2.0
PRODID:-//destination.one//NONSGML destination.meta API//DE
X-WR-CALDESC:A calendar powered by destination.meta
X-WR-CALNAME:teutonavigator Kalender via destination.meta
BEGIN:VEVENT
CATEGORIES:Sport/Freizeit
CATEGORIES:Stadtfest/Kirmes/Jahrmarkt
CATEGORIES:Konzert divers
DESCRIPTION:Gemeinsam singen macht froh und hält gesund.\n\nmehr Informatio
 nen unter http://pages.destination.one/de/teutonavigator/streaming/detail/
 Event/e_101049222/singen-im-park
DTEND;TZID=Europe/Berlin:20260501T121500
DTSTAMP:20260421T191940Z
DTSTART;TZID=Europe/Berlin:20260501T114500
GEO:52.088669;8.751115
LOCATION:Stadt Bad Salzuflen\, Rudolph-Brandes-Allee 19\, Bad Salzuflen
ORGANIZER;CN=Tourist-Information:mailto:info@bad-salzuflen.de
RRULE:FREQ=WEEKLY;UNTIL=20260930T220000;BYDAY=SU
SEQUENCE:0
SUMMARY:Singen im Park
UID:e_101049222_iv0
URL:http://pages.destination.one/de/teutonavigator/streaming/detail/Event/e
 _101049222/singen-im-park
END:VEVENT
BEGIN:VTIMEZONE
TZID:Europe/Berlin
X-LIC-LOCATION:Europe/Berlin
BEGIN:DAYLIGHT
DTSTART:19700329T020000
RRULE:FREQ=YEARLY;BYDAY=-1SU;BYMONTH=3
TZNAME:CEST
TZOFFSETFROM:+0100
TZOFFSETTO:+0200
END:DAYLIGHT
BEGIN:STANDARD
DTSTART:19701025T030000
RRULE:FREQ=YEARLY;BYDAY=-1SU;BYMONTH=10
TZNAME:CET
TZOFFSETFROM:+0200
TZOFFSETTO:+0100
END:STANDARD
END:VTIMEZONE
END:VCALENDAR
