BEGIN:VCALENDAR
VERSION:2.0
PRODID:-//destination.one//NONSGML destination.meta API//DE
X-WR-CALDESC:A calendar powered by destination.meta
X-WR-CALNAME:teutonavigator Kalender via destination.meta
BEGIN:VEVENT
CATEGORIES:Sonstiges
CATEGORIES:Konzert divers
DESCRIPTION:Hafenkonzerte: Die beliebte Konzertreihe an den Mindener Schleu
 sen\n\nmehr Informationen unter http://pages.destination.one/de/teutonavig
 ator/streaming/detail/Event/e_101037505/mindener-hafenkonzerte-musikzug-de
 r-freiwilligen-feuerwehr-minden
DTEND;TZID=Europe/Berlin:20260510T113000
DTSTAMP:20260423T110757Z
DTSTART;TZID=Europe/Berlin:20260510T103000
GEO:52.305434;8.918846
LOCATION:Konzertpavillon an den Mindener Schleusen\, Sympherstraße\, Minden
ORGANIZER;CN=Minden Marketing GmbH:mailto:info@mindenmarketing.de
RRULE:FREQ=WEEKLY;UNTIL=20260510T220000;BYDAY=SU
SEQUENCE:0
SUMMARY:Mindener Hafenkonzerte - Musikzug der Freiwilligen Feuerwehr Minden
UID:e_101037505_iv0
URL:http://pages.destination.one/de/teutonavigator/streaming/detail/Event/e
 _101037505/mindener-hafenkonzerte-musikzug-der-freiwilligen-feuerwehr-mind
 en
END:VEVENT
BEGIN:VTIMEZONE
TZID:Europe/Berlin
X-LIC-LOCATION:Europe/Berlin
BEGIN:DAYLIGHT
DTSTART:19700329T020000
RRULE:FREQ=YEARLY;BYDAY=-1SU;BYMONTH=3
TZNAME:CEST
TZOFFSETFROM:+0100
TZOFFSETTO:+0200
END:DAYLIGHT
BEGIN:STANDARD
DTSTART:19701025T030000
RRULE:FREQ=YEARLY;BYDAY=-1SU;BYMONTH=10
TZNAME:CET
TZOFFSETFROM:+0200
TZOFFSETTO:+0100
END:STANDARD
END:VTIMEZONE
END:VCALENDAR
