BEGIN:VCALENDAR
VERSION:2.0
PRODID:-//destination.one//NONSGML destination.meta API//DE
X-WR-CALDESC:A calendar powered by destination.meta
X-WR-CALNAME:teutonavigator Kalender via destination.meta
BEGIN:VEVENT
CATEGORIES:Stadtfest/Kirmes/Jahrmarkt
DESCRIPTION:Buntes Treiben auf und an der Sälzerwiese - Kreativmarkt\, Hütt
 endorf mit Kirmes für Groß und Klein\, Party im Festzelt\, verkaufsoffener
  Sonntag von 13-18 Uhr und noch vieles mehr.\n\nmehr Informationen unter h
 ttp://pages.destination.one/de/teutonavigator/streaming/detail/Event/e_101
 031218/martinimarkt
DTEND;TZID=Europe/Berlin:20251107T235900
DTSTAMP:20260422T143526Z
DTSTART;TZID=Europe/Berlin:20251107T150000
GEO:51.670532;8.601158
LOCATION:Sälzerwiese \, Sälzerstraße\, Salzkotten
ORGANIZER;CN=Stadt Salzkotten:mailto:stadtverwaltung@salzkotten.de
PRIORITY:4
SEQUENCE:0
SUMMARY:Martinimarkt
UID:e_101031218_iv0
URL:http://pages.destination.one/de/teutonavigator/streaming/detail/Event/e
 _101031218/martinimarkt
END:VEVENT
BEGIN:VEVENT
CATEGORIES:Stadtfest/Kirmes/Jahrmarkt
DESCRIPTION:Buntes Treiben auf und an der Sälzerwiese - Kreativmarkt\, Hütt
 endorf mit Kirmes für Groß und Klein\, Party im Festzelt\, verkaufsoffener
  Sonntag von 13-18 Uhr und noch vieles mehr.\n\nmehr Informationen unter h
 ttp://pages.destination.one/de/teutonavigator/streaming/detail/Event/e_101
 031218/martinimarkt
DTEND;TZID=Europe/Berlin:20251108T235900
DTSTAMP:20260422T143526Z
DTSTART;TZID=Europe/Berlin:20251108T140000
GEO:51.670532;8.601158
LOCATION:Sälzerwiese \, Sälzerstraße\, Salzkotten
ORGANIZER;CN=Stadt Salzkotten:mailto:stadtverwaltung@salzkotten.de
PRIORITY:4
SEQUENCE:0
SUMMARY:Martinimarkt
UID:e_101031218_iv1
URL:http://pages.destination.one/de/teutonavigator/streaming/detail/Event/e
 _101031218/martinimarkt
END:VEVENT
BEGIN:VEVENT
CATEGORIES:Stadtfest/Kirmes/Jahrmarkt
DESCRIPTION:Buntes Treiben auf und an der Sälzerwiese - Kreativmarkt\, Hütt
 endorf mit Kirmes für Groß und Klein\, Party im Festzelt\, verkaufsoffener
  Sonntag von 13-18 Uhr und noch vieles mehr.\n\nmehr Informationen unter h
 ttp://pages.destination.one/de/teutonavigator/streaming/detail/Event/e_101
 031218/martinimarkt
DTEND;TZID=Europe/Berlin:20251109T235900
DTSTAMP:20260422T143526Z
DTSTART;TZID=Europe/Berlin:20251109T110000
GEO:51.670532;8.601158
LOCATION:Sälzerwiese \, Sälzerstraße\, Salzkotten
ORGANIZER;CN=Stadt Salzkotten:mailto:stadtverwaltung@salzkotten.de
PRIORITY:4
SEQUENCE:0
SUMMARY:Martinimarkt
UID:e_101031218_iv2
URL:http://pages.destination.one/de/teutonavigator/streaming/detail/Event/e
 _101031218/martinimarkt
END:VEVENT
BEGIN:VEVENT
CATEGORIES:Stadtfest/Kirmes/Jahrmarkt
DESCRIPTION:Buntes Treiben auf und an der Sälzerwiese - Kreativmarkt\, Hütt
 endorf mit Kirmes für Groß und Klein\, Party im Festzelt\, verkaufsoffener
  Sonntag von 13-18 Uhr und noch vieles mehr.\n\nmehr Informationen unter h
 ttp://pages.destination.one/de/teutonavigator/streaming/detail/Event/e_101
 031218/martinimarkt
DTEND;TZID=Europe/Berlin:20261106T235900
DTSTAMP:20260422T143526Z
DTSTART;TZID=Europe/Berlin:20261106T150000
GEO:51.670532;8.601158
LOCATION:Sälzerwiese \, Sälzerstraße\, Salzkotten
ORGANIZER;CN=Stadt Salzkotten:mailto:stadtverwaltung@salzkotten.de
PRIORITY:4
SEQUENCE:0
SUMMARY:Martinimarkt
UID:e_101031218_iv3
URL:http://pages.destination.one/de/teutonavigator/streaming/detail/Event/e
 _101031218/martinimarkt
END:VEVENT
BEGIN:VEVENT
CATEGORIES:Stadtfest/Kirmes/Jahrmarkt
DESCRIPTION:Buntes Treiben auf und an der Sälzerwiese - Kreativmarkt\, Hütt
 endorf mit Kirmes für Groß und Klein\, Party im Festzelt\, verkaufsoffener
  Sonntag von 13-18 Uhr und noch vieles mehr.\n\nmehr Informationen unter h
 ttp://pages.destination.one/de/teutonavigator/streaming/detail/Event/e_101
 031218/martinimarkt
DTEND;TZID=Europe/Berlin:20261107T235900
DTSTAMP:20260422T143526Z
DTSTART;TZID=Europe/Berlin:20261107T140000
GEO:51.670532;8.601158
LOCATION:Sälzerwiese \, Sälzerstraße\, Salzkotten
ORGANIZER;CN=Stadt Salzkotten:mailto:stadtverwaltung@salzkotten.de
PRIORITY:4
SEQUENCE:0
SUMMARY:Martinimarkt
UID:e_101031218_iv4
URL:http://pages.destination.one/de/teutonavigator/streaming/detail/Event/e
 _101031218/martinimarkt
END:VEVENT
BEGIN:VEVENT
CATEGORIES:Stadtfest/Kirmes/Jahrmarkt
DESCRIPTION:Buntes Treiben auf und an der Sälzerwiese - Kreativmarkt\, Hütt
 endorf mit Kirmes für Groß und Klein\, Party im Festzelt\, verkaufsoffener
  Sonntag von 13-18 Uhr und noch vieles mehr.\n\nmehr Informationen unter h
 ttp://pages.destination.one/de/teutonavigator/streaming/detail/Event/e_101
 031218/martinimarkt
DTEND;TZID=Europe/Berlin:20261108T235900
DTSTAMP:20260422T143526Z
DTSTART;TZID=Europe/Berlin:20261108T110000
GEO:51.670532;8.601158
LOCATION:Sälzerwiese \, Sälzerstraße\, Salzkotten
ORGANIZER;CN=Stadt Salzkotten:mailto:stadtverwaltung@salzkotten.de
PRIORITY:4
SEQUENCE:0
SUMMARY:Martinimarkt
UID:e_101031218_iv5
URL:http://pages.destination.one/de/teutonavigator/streaming/detail/Event/e
 _101031218/martinimarkt
END:VEVENT
BEGIN:VTIMEZONE
TZID:Europe/Berlin
X-LIC-LOCATION:Europe/Berlin
BEGIN:DAYLIGHT
DTSTART:19700329T020000
RRULE:FREQ=YEARLY;BYDAY=-1SU;BYMONTH=3
TZNAME:CEST
TZOFFSETFROM:+0100
TZOFFSETTO:+0200
END:DAYLIGHT
BEGIN:STANDARD
DTSTART:19701025T030000
RRULE:FREQ=YEARLY;BYDAY=-1SU;BYMONTH=10
TZNAME:CET
TZOFFSETFROM:+0200
TZOFFSETTO:+0100
END:STANDARD
END:VTIMEZONE
END:VCALENDAR
