BEGIN:VCALENDAR
VERSION:2.0
PRODID:-//destination.one//NONSGML destination.meta API//DE
X-WR-CALDESC:A calendar powered by destination.meta
X-WR-CALNAME:teutonavigator Kalender via destination.meta
BEGIN:VEVENT
CATEGORIES:Sport/Freizeit
CATEGORIES:Turnier/Wettbewerb
DESCRIPTION:22. Böckstiegellauf in Werther (Westf.) – Sei dabei!\n\nAm 26. 
 September 2026 geht’s wieder durch den Teuto! 🌳💨 Der Böckstiegellauf ist
  zurück – ein echter Klassiker im frühen Herbst!\n\nmehr Informationen unt
 er http://pages.destination.one/de/teutonavigator/streaming/detail/Event/e
 _101018985/b-ckstiegellauf-in-werther-westf
DTEND;TZID=Europe/Berlin:20250927T160000
DTSTAMP:20260421T181120Z
DTSTART;TZID=Europe/Berlin:20250927T120000
GEO:52.073787;8.414826
LOCATION:C.-F.-Venghauss-Platz\, C.-F-Venghauss-Platz\, Werther (Westf.)
PRIORITY:4
SEQUENCE:0
SUMMARY:Böckstiegellauf in Werther (Westf.)
UID:e_101018985_iv0
URL:http://pages.destination.one/de/teutonavigator/streaming/detail/Event/e
 _101018985/b-ckstiegellauf-in-werther-westf
END:VEVENT
BEGIN:VEVENT
CATEGORIES:Sport/Freizeit
CATEGORIES:Turnier/Wettbewerb
DESCRIPTION:22. Böckstiegellauf in Werther (Westf.) – Sei dabei!\n\nAm 26. 
 September 2026 geht’s wieder durch den Teuto! 🌳💨 Der Böckstiegellauf ist
  zurück – ein echter Klassiker im frühen Herbst!\n\nmehr Informationen unt
 er http://pages.destination.one/de/teutonavigator/streaming/detail/Event/e
 _101018985/b-ckstiegellauf-in-werther-westf
DTEND;TZID=Europe/Berlin;VALUE=DATE:20260927
DTSTAMP:20260421T181120Z
DTSTART;TZID=Europe/Berlin;VALUE=DATE:20260926
GEO:52.073787;8.414826
LOCATION:C.-F.-Venghauss-Platz\, C.-F-Venghauss-Platz\, Werther (Westf.)
PRIORITY:4
SEQUENCE:0
SUMMARY:Böckstiegellauf in Werther (Westf.)
UID:e_101018985_iv1
URL:http://pages.destination.one/de/teutonavigator/streaming/detail/Event/e
 _101018985/b-ckstiegellauf-in-werther-westf
END:VEVENT
BEGIN:VTIMEZONE
TZID:Europe/Berlin
X-LIC-LOCATION:Europe/Berlin
BEGIN:DAYLIGHT
DTSTART:19700329T020000
RRULE:FREQ=YEARLY;BYDAY=-1SU;BYMONTH=3
TZNAME:CEST
TZOFFSETFROM:+0100
TZOFFSETTO:+0200
END:DAYLIGHT
BEGIN:STANDARD
DTSTART:19701025T030000
RRULE:FREQ=YEARLY;BYDAY=-1SU;BYMONTH=10
TZNAME:CET
TZOFFSETFROM:+0200
TZOFFSETTO:+0100
END:STANDARD
END:VTIMEZONE
END:VCALENDAR
