BEGIN:VCALENDAR
VERSION:2.0
PRODID:-//destination.one//NONSGML destination.meta API//DE
X-WR-CALDESC:A calendar powered by destination.meta
X-WR-CALNAME:teutonavigator Kalender via destination.meta
BEGIN:VEVENT
CATEGORIES:Ausstellung
CATEGORIES:Familie und Kinder
CATEGORIES:Führung/Besichtigung
CATEGORIES:Ausflug/Exkursion
DESCRIPTION:Es wird musikalisch: \n"Europa in Harmonie - Preußen in Dur und
  Moll"\nGeschichte entdecken - mit Musikstücken\n\nmehr Informationen unte
 r http://pages.destination.one/de/teutonavigator/streaming/detail/Event/e_
 101013051/ausstellung-europa-in-harmonie
DTEND;TZID=Europe/Berlin:20250705T180000
DTSTAMP:20260421T181628Z
DTSTART;TZID=Europe/Berlin:20250705T100000
GEO:52.283590;8.908860
LOCATION:LWL-Preußenmuseum Minden\, Simeonsplatz 12\, Minden
ORGANIZER;CN=LWL-Preußenmuseum Minden:mailto:besucherbuero-pmm@lwl.org
RRULE:FREQ=WEEKLY;UNTIL=20260719T220000;BYDAY=TU,WE,TH,FR,SA,SU
SEQUENCE:0
SUMMARY:Ausstellung: "Europa in Harmonie"
UID:e_101013051_iv0
URL:http://pages.destination.one/de/teutonavigator/streaming/detail/Event/e
 _101013051/ausstellung-europa-in-harmonie
END:VEVENT
BEGIN:VTIMEZONE
TZID:Europe/Berlin
X-LIC-LOCATION:Europe/Berlin
BEGIN:DAYLIGHT
DTSTART:19700329T020000
RRULE:FREQ=YEARLY;BYDAY=-1SU;BYMONTH=3
TZNAME:CEST
TZOFFSETFROM:+0100
TZOFFSETTO:+0200
END:DAYLIGHT
BEGIN:STANDARD
DTSTART:19701025T030000
RRULE:FREQ=YEARLY;BYDAY=-1SU;BYMONTH=10
TZNAME:CET
TZOFFSETFROM:+0200
TZOFFSETTO:+0100
END:STANDARD
END:VTIMEZONE
END:VCALENDAR
