BEGIN:VCALENDAR
VERSION:2.0
PRODID:-//destination.one//NONSGML destination.meta API//DE
X-WR-CALDESC:A calendar powered by destination.meta
X-WR-CALNAME:teutonavigator Kalender via destination.meta
BEGIN:VEVENT
CATEGORIES:Musical & Musiktheater
DESCRIPTION:Symbiose aus Comedy-Theater und Rockmusik\n\nmehr Informationen
  unter http://pages.destination.one/de/teutonavigator/streaming/detail/Eve
 nt/e_101001557/abgesagt-mord-in-der-haifischbar-st-pauli-theater
DTEND;TZID=Europe/Berlin:20260418T213000
DTSTAMP:20260421T131541Z
DTSTART;TZID=Europe/Berlin:20260418T193000
GEO:51.778260;9.379660
LOCATION:Residenz Stadthalle Höxter\, Wallstraße 15\, Höxter
ORGANIZER;CN="RH EVENTS, Rudolf Hauptmann":mailto:info@rh-events.eu
SEQUENCE:0
STATUS:Cancelled
SUMMARY:*** abgesagt *** Mord in der Haifischbar - St. Pauli Theater
UID:e_101001557_iv0
URL:http://pages.destination.one/de/teutonavigator/streaming/detail/Event/e
 _101001557/abgesagt-mord-in-der-haifischbar-st-pauli-theater
END:VEVENT
BEGIN:VTIMEZONE
TZID:Europe/Berlin
X-LIC-LOCATION:Europe/Berlin
BEGIN:DAYLIGHT
DTSTART:19700329T020000
RRULE:FREQ=YEARLY;BYDAY=-1SU;BYMONTH=3
TZNAME:CEST
TZOFFSETFROM:+0100
TZOFFSETTO:+0200
END:DAYLIGHT
BEGIN:STANDARD
DTSTART:19701025T030000
RRULE:FREQ=YEARLY;BYDAY=-1SU;BYMONTH=10
TZNAME:CET
TZOFFSETFROM:+0200
TZOFFSETTO:+0100
END:STANDARD
END:VTIMEZONE
END:VCALENDAR
