BEGIN:VCALENDAR
VERSION:2.0
PRODID:-//destination.one//NONSGML destination.meta API//DE
X-WR-CALDESC:A calendar powered by destination.meta
X-WR-CALNAME:teutonavigator Kalender via destination.meta
BEGIN:VEVENT
CATEGORIES:Konzert divers
DESCRIPTION:mit dem Staatsbad Orchester\n\nmehr Informationen unter http://
 pages.destination.one/de/teutonavigator/streaming/detail/Event/e_100998375
 /wunschkonzert-ihre-musikw-nsche-werden-erf-llt
DTEND;TZID=Europe/Berlin:20260224T163000
DTSTAMP:20260421T203258Z
DTSTART;TZID=Europe/Berlin:20260224T150000
GEO:52.087067;8.749706
LOCATION:Konzerthalle\, im Kurpark\, Bad Salzuflen
ORGANIZER;CN=Tourist-Information:mailto:info@bad-salzuflen.de
RRULE:FREQ=WEEKLY;UNTIL=20260328T230000;BYDAY=WE,SU
SEQUENCE:0
SUMMARY:Wunschkonzert - Ihre Musikwünsche werden erfüllt
UID:e_100998375_iv0
URL:http://pages.destination.one/de/teutonavigator/streaming/detail/Event/e
 _100998375/wunschkonzert-ihre-musikw-nsche-werden-erf-llt
END:VEVENT
BEGIN:VEVENT
CATEGORIES:Konzert divers
DESCRIPTION:mit dem Staatsbad Orchester\n\nmehr Informationen unter http://
 pages.destination.one/de/teutonavigator/streaming/detail/Event/e_100998375
 /wunschkonzert-ihre-musikw-nsche-werden-erf-llt
DTEND;TZID=Europe/Berlin:20260330T163000
DTSTAMP:20260421T203258Z
DTSTART;TZID=Europe/Berlin:20260330T150000
GEO:52.087067;8.749706
LOCATION:Konzerthalle\, im Kurpark\, Bad Salzuflen
ORGANIZER;CN=Tourist-Information:mailto:info@bad-salzuflen.de
RRULE:FREQ=WEEKLY;UNTIL=20260425T220000;BYDAY=WE,SU
SEQUENCE:0
SUMMARY:Wunschkonzert - Ihre Musikwünsche werden erfüllt
UID:e_100998375_iv1
URL:http://pages.destination.one/de/teutonavigator/streaming/detail/Event/e
 _100998375/wunschkonzert-ihre-musikw-nsche-werden-erf-llt
END:VEVENT
BEGIN:VEVENT
CATEGORIES:Konzert divers
DESCRIPTION:mit dem Staatsbad Orchester\n\nmehr Informationen unter http://
 pages.destination.one/de/teutonavigator/streaming/detail/Event/e_100998375
 /wunschkonzert-ihre-musikw-nsche-werden-erf-llt
DTEND;TZID=Europe/Berlin:20260427T163000
DTSTAMP:20260421T203258Z
DTSTART;TZID=Europe/Berlin:20260427T150000
GEO:52.087067;8.749706
LOCATION:Konzerthalle\, im Kurpark\, Bad Salzuflen
ORGANIZER;CN=Tourist-Information:mailto:info@bad-salzuflen.de
RRULE:FREQ=WEEKLY;UNTIL=20260530T220000;BYDAY=WE,SU
SEQUENCE:0
SUMMARY:Wunschkonzert - Ihre Musikwünsche werden erfüllt
UID:e_100998375_iv2
URL:http://pages.destination.one/de/teutonavigator/streaming/detail/Event/e
 _100998375/wunschkonzert-ihre-musikw-nsche-werden-erf-llt
END:VEVENT
BEGIN:VEVENT
CATEGORIES:Konzert divers
DESCRIPTION:mit dem Staatsbad Orchester\n\nmehr Informationen unter http://
 pages.destination.one/de/teutonavigator/streaming/detail/Event/e_100998375
 /wunschkonzert-ihre-musikw-nsche-werden-erf-llt
DTEND;TZID=Europe/Berlin:20260601T163000
DTSTAMP:20260421T203258Z
DTSTART;TZID=Europe/Berlin:20260601T150000
GEO:52.087067;8.749706
LOCATION:Konzerthalle\, im Kurpark\, Bad Salzuflen
ORGANIZER;CN=Tourist-Information:mailto:info@bad-salzuflen.de
RRULE:FREQ=WEEKLY;UNTIL=20260627T220000;BYDAY=WE,SU
SEQUENCE:0
SUMMARY:Wunschkonzert - Ihre Musikwünsche werden erfüllt
UID:e_100998375_iv3
URL:http://pages.destination.one/de/teutonavigator/streaming/detail/Event/e
 _100998375/wunschkonzert-ihre-musikw-nsche-werden-erf-llt
END:VEVENT
BEGIN:VEVENT
CATEGORIES:Konzert divers
DESCRIPTION:mit dem Staatsbad Orchester\n\nmehr Informationen unter http://
 pages.destination.one/de/teutonavigator/streaming/detail/Event/e_100998375
 /wunschkonzert-ihre-musikw-nsche-werden-erf-llt
DTEND;TZID=Europe/Berlin:20260629T163000
DTSTAMP:20260421T203258Z
DTSTART;TZID=Europe/Berlin:20260629T150000
GEO:52.087067;8.749706
LOCATION:Konzerthalle\, im Kurpark\, Bad Salzuflen
ORGANIZER;CN=Tourist-Information:mailto:info@bad-salzuflen.de
RRULE:FREQ=WEEKLY;UNTIL=20260718T220000;BYDAY=WE,SU
SEQUENCE:0
SUMMARY:Wunschkonzert - Ihre Musikwünsche werden erfüllt
UID:e_100998375_iv4
URL:http://pages.destination.one/de/teutonavigator/streaming/detail/Event/e
 _100998375/wunschkonzert-ihre-musikw-nsche-werden-erf-llt
END:VEVENT
BEGIN:VTIMEZONE
TZID:Europe/Berlin
X-LIC-LOCATION:Europe/Berlin
BEGIN:DAYLIGHT
DTSTART:19700329T020000
RRULE:FREQ=YEARLY;BYDAY=-1SU;BYMONTH=3
TZNAME:CEST
TZOFFSETFROM:+0100
TZOFFSETTO:+0200
END:DAYLIGHT
BEGIN:STANDARD
DTSTART:19701025T030000
RRULE:FREQ=YEARLY;BYDAY=-1SU;BYMONTH=10
TZNAME:CET
TZOFFSETFROM:+0200
TZOFFSETTO:+0100
END:STANDARD
END:VTIMEZONE
END:VCALENDAR
