BEGIN:VCALENDAR
VERSION:2.0
PRODID:-//destination.one//NONSGML destination.meta API//DE
X-WR-CALDESC:A calendar powered by destination.meta
X-WR-CALNAME:teutonavigator Kalender via destination.meta
BEGIN:VEVENT
CATEGORIES:Sport/Freizeit
DESCRIPTION:Beim "Thermalsole-Schwimmen" können Sie zu festen Zeiten an 4 T
 agen in der Woche (Montag\, Mittwoch\, Donnerstag und Freitag) im GESUNDWE
 RK-Bewegungsbad bei einer angenehmen Temperatur Ihre Wohlfühl-Zeit verbrin
 gen.\n\nmehr Informationen unter http://pages.destination.one/de/teutonavi
 gator/streaming/detail/Event/e_100992449/thermalsole-schwimmen-morgens
DTEND;TZID=Europe/Berlin:20260108T084500
DTSTAMP:20260421T140308Z
DTSTART;TZID=Europe/Berlin:20260108T081500
GEO:52.088979;8.746975
LOCATION:GESUNDWERK Bad Salzuflen GmbH\, Salinenstraße 1\, Bad Salzuflen
ORGANIZER;CN=GESUNDWERK Bad Salzuflen GmbH:mailto:info@gswbs.de
RRULE:FREQ=WEEKLY;UNTIL=20260212T230000;BYDAY=TH
SEQUENCE:0
SUMMARY:Thermalsole-Schwimmen (morgens)
UID:e_100992449_iv0
URL:http://pages.destination.one/de/teutonavigator/streaming/detail/Event/e
 _100992449/thermalsole-schwimmen-morgens
END:VEVENT
BEGIN:VEVENT
CATEGORIES:Sport/Freizeit
DESCRIPTION:Beim "Thermalsole-Schwimmen" können Sie zu festen Zeiten an 4 T
 agen in der Woche (Montag\, Mittwoch\, Donnerstag und Freitag) im GESUNDWE
 RK-Bewegungsbad bei einer angenehmen Temperatur Ihre Wohlfühl-Zeit verbrin
 gen.\n\nmehr Informationen unter http://pages.destination.one/de/teutonavi
 gator/streaming/detail/Event/e_100992449/thermalsole-schwimmen-morgens
DTEND;TZID=Europe/Berlin:20260226T084500
DTSTAMP:20260421T140308Z
DTSTART;TZID=Europe/Berlin:20260226T081500
GEO:52.088979;8.746975
LOCATION:GESUNDWERK Bad Salzuflen GmbH\, Salinenstraße 1\, Bad Salzuflen
ORGANIZER;CN=GESUNDWERK Bad Salzuflen GmbH:mailto:info@gswbs.de
RRULE:FREQ=WEEKLY;UNTIL=20260304T230000;BYDAY=TH
SEQUENCE:0
SUMMARY:Thermalsole-Schwimmen (morgens)
UID:e_100992449_iv1
URL:http://pages.destination.one/de/teutonavigator/streaming/detail/Event/e
 _100992449/thermalsole-schwimmen-morgens
END:VEVENT
BEGIN:VEVENT
CATEGORIES:Sport/Freizeit
DESCRIPTION:Beim "Thermalsole-Schwimmen" können Sie zu festen Zeiten an 4 T
 agen in der Woche (Montag\, Mittwoch\, Donnerstag und Freitag) im GESUNDWE
 RK-Bewegungsbad bei einer angenehmen Temperatur Ihre Wohlfühl-Zeit verbrin
 gen.\n\nmehr Informationen unter http://pages.destination.one/de/teutonavi
 gator/streaming/detail/Event/e_100992449/thermalsole-schwimmen-morgens
DTEND;TZID=Europe/Berlin:20260312T084500
DTSTAMP:20260421T140308Z
DTSTART;TZID=Europe/Berlin:20260312T081500
GEO:52.088979;8.746975
LOCATION:GESUNDWERK Bad Salzuflen GmbH\, Salinenstraße 1\, Bad Salzuflen
ORGANIZER;CN=GESUNDWERK Bad Salzuflen GmbH:mailto:info@gswbs.de
RRULE:FREQ=WEEKLY;UNTIL=20260402T220000;BYDAY=TH
SEQUENCE:0
SUMMARY:Thermalsole-Schwimmen (morgens)
UID:e_100992449_iv2
URL:http://pages.destination.one/de/teutonavigator/streaming/detail/Event/e
 _100992449/thermalsole-schwimmen-morgens
END:VEVENT
BEGIN:VEVENT
CATEGORIES:Sport/Freizeit
DESCRIPTION:Beim "Thermalsole-Schwimmen" können Sie zu festen Zeiten an 4 T
 agen in der Woche (Montag\, Mittwoch\, Donnerstag und Freitag) im GESUNDWE
 RK-Bewegungsbad bei einer angenehmen Temperatur Ihre Wohlfühl-Zeit verbrin
 gen.\n\nmehr Informationen unter http://pages.destination.one/de/teutonavi
 gator/streaming/detail/Event/e_100992449/thermalsole-schwimmen-morgens
DTEND;TZID=Europe/Berlin:20260416T084500
DTSTAMP:20260421T140308Z
DTSTART;TZID=Europe/Berlin:20260416T081500
GEO:52.088979;8.746975
LOCATION:GESUNDWERK Bad Salzuflen GmbH\, Salinenstraße 1\, Bad Salzuflen
ORGANIZER;CN=GESUNDWERK Bad Salzuflen GmbH:mailto:info@gswbs.de
RRULE:FREQ=WEEKLY;UNTIL=20260507T220000;BYDAY=TH
SEQUENCE:0
SUMMARY:Thermalsole-Schwimmen (morgens)
UID:e_100992449_iv3
URL:http://pages.destination.one/de/teutonavigator/streaming/detail/Event/e
 _100992449/thermalsole-schwimmen-morgens
END:VEVENT
BEGIN:VEVENT
CATEGORIES:Sport/Freizeit
DESCRIPTION:Beim "Thermalsole-Schwimmen" können Sie zu festen Zeiten an 4 T
 agen in der Woche (Montag\, Mittwoch\, Donnerstag und Freitag) im GESUNDWE
 RK-Bewegungsbad bei einer angenehmen Temperatur Ihre Wohlfühl-Zeit verbrin
 gen.\n\nmehr Informationen unter http://pages.destination.one/de/teutonavi
 gator/streaming/detail/Event/e_100992449/thermalsole-schwimmen-morgens
DTEND;TZID=Europe/Berlin:20260521T084500
DTSTAMP:20260421T140308Z
DTSTART;TZID=Europe/Berlin:20260521T081500
GEO:52.088979;8.746975
LOCATION:GESUNDWERK Bad Salzuflen GmbH\, Salinenstraße 1\, Bad Salzuflen
ORGANIZER;CN=GESUNDWERK Bad Salzuflen GmbH:mailto:info@gswbs.de
RRULE:FREQ=WEEKLY;UNTIL=20260528T220000;BYDAY=TH
SEQUENCE:0
SUMMARY:Thermalsole-Schwimmen (morgens)
UID:e_100992449_iv4
URL:http://pages.destination.one/de/teutonavigator/streaming/detail/Event/e
 _100992449/thermalsole-schwimmen-morgens
END:VEVENT
BEGIN:VEVENT
CATEGORIES:Sport/Freizeit
DESCRIPTION:Beim "Thermalsole-Schwimmen" können Sie zu festen Zeiten an 4 T
 agen in der Woche (Montag\, Mittwoch\, Donnerstag und Freitag) im GESUNDWE
 RK-Bewegungsbad bei einer angenehmen Temperatur Ihre Wohlfühl-Zeit verbrin
 gen.\n\nmehr Informationen unter http://pages.destination.one/de/teutonavi
 gator/streaming/detail/Event/e_100992449/thermalsole-schwimmen-morgens
DTEND;TZID=Europe/Berlin:20260625T084500
DTSTAMP:20260421T140308Z
DTSTART;TZID=Europe/Berlin:20260625T081500
GEO:52.088979;8.746975
LOCATION:GESUNDWERK Bad Salzuflen GmbH\, Salinenstraße 1\, Bad Salzuflen
ORGANIZER;CN=GESUNDWERK Bad Salzuflen GmbH:mailto:info@gswbs.de
RRULE:FREQ=WEEKLY;UNTIL=20260716T220000;BYDAY=TH
SEQUENCE:0
SUMMARY:Thermalsole-Schwimmen (morgens)
UID:e_100992449_iv5
URL:http://pages.destination.one/de/teutonavigator/streaming/detail/Event/e
 _100992449/thermalsole-schwimmen-morgens
END:VEVENT
BEGIN:VEVENT
CATEGORIES:Sport/Freizeit
DESCRIPTION:Beim "Thermalsole-Schwimmen" können Sie zu festen Zeiten an 4 T
 agen in der Woche (Montag\, Mittwoch\, Donnerstag und Freitag) im GESUNDWE
 RK-Bewegungsbad bei einer angenehmen Temperatur Ihre Wohlfühl-Zeit verbrin
 gen.\n\nmehr Informationen unter http://pages.destination.one/de/teutonavi
 gator/streaming/detail/Event/e_100992449/thermalsole-schwimmen-morgens
DTEND;TZID=Europe/Berlin:20260813T084500
DTSTAMP:20260421T140308Z
DTSTART;TZID=Europe/Berlin:20260813T081500
GEO:52.088979;8.746975
LOCATION:GESUNDWERK Bad Salzuflen GmbH\, Salinenstraße 1\, Bad Salzuflen
ORGANIZER;CN=GESUNDWERK Bad Salzuflen GmbH:mailto:info@gswbs.de
RRULE:FREQ=WEEKLY;UNTIL=20260827T220000;BYDAY=TH
SEQUENCE:0
SUMMARY:Thermalsole-Schwimmen (morgens)
UID:e_100992449_iv6
URL:http://pages.destination.one/de/teutonavigator/streaming/detail/Event/e
 _100992449/thermalsole-schwimmen-morgens
END:VEVENT
BEGIN:VTIMEZONE
TZID:Europe/Berlin
X-LIC-LOCATION:Europe/Berlin
BEGIN:DAYLIGHT
DTSTART:19700329T020000
RRULE:FREQ=YEARLY;BYDAY=-1SU;BYMONTH=3
TZNAME:CEST
TZOFFSETFROM:+0100
TZOFFSETTO:+0200
END:DAYLIGHT
BEGIN:STANDARD
DTSTART:19701025T030000
RRULE:FREQ=YEARLY;BYDAY=-1SU;BYMONTH=10
TZNAME:CET
TZOFFSETFROM:+0200
TZOFFSETTO:+0100
END:STANDARD
END:VTIMEZONE
END:VCALENDAR
