BEGIN:VCALENDAR
VERSION:2.0
PRODID:-//destination.one//NONSGML destination.meta API//DE
X-WR-CALDESC:A calendar powered by destination.meta
X-WR-CALNAME:teutonavigator Kalender via destination.meta
BEGIN:VEVENT
CATEGORIES:Bühne divers
DESCRIPTION:Stand-up-Comedy\n\nmehr Informationen unter http://pages.destin
 ation.one/de/teutonavigator/streaming/detail/Event/e_100991819/david-kebek
 us
DTEND;TZID=Europe/Berlin:20260417T220000
DTSTAMP:20260422T143953Z
DTSTART;TZID=Europe/Berlin:20260417T200000
GEO:51.778260;9.379660
LOCATION:Residenz Stadthalle Höxter\, Wallstraße 15\, Höxter
ORGANIZER;CN=Stagecat | Bluecat Medien GmbH:mailto:info@stagecat.de
PRIORITY:4
SEQUENCE:0
SUMMARY:David Kebekus
UID:e_100991819_iv0
URL:http://pages.destination.one/de/teutonavigator/streaming/detail/Event/e
 _100991819/david-kebekus
END:VEVENT
BEGIN:VTIMEZONE
TZID:Europe/Berlin
X-LIC-LOCATION:Europe/Berlin
BEGIN:DAYLIGHT
DTSTART:19700329T020000
RRULE:FREQ=YEARLY;BYDAY=-1SU;BYMONTH=3
TZNAME:CEST
TZOFFSETFROM:+0100
TZOFFSETTO:+0200
END:DAYLIGHT
BEGIN:STANDARD
DTSTART:19701025T030000
RRULE:FREQ=YEARLY;BYDAY=-1SU;BYMONTH=10
TZNAME:CET
TZOFFSETFROM:+0200
TZOFFSETTO:+0100
END:STANDARD
END:VTIMEZONE
END:VCALENDAR
