BEGIN:VCALENDAR
VERSION:2.0
PRODID:-//destination.one//NONSGML destination.meta API//DE
X-WR-CALDESC:A calendar powered by destination.meta
X-WR-CALNAME:teutonavigator Kalender via destination.meta
BEGIN:VEVENT
CATEGORIES:Sonstiges
CATEGORIES:Ausflug/Exkursion
CATEGORIES:Party/Nightlife
DESCRIPTION:Zum wiederholten Mal feiert Ihr die 80er-Klassiker und typische
 n Beats auf dem begnadeten Partyschiff MS POSEIDON\n\nmehr Informationen u
 nter http://pages.destination.one/de/teutonavigator/streaming/detail/Event
 /e_100991179/80er-kultparty-auf-der-weser
DTEND;TZID=Europe/Berlin:20260620T230000
DTSTAMP:20260419T232850Z
DTSTART;TZID=Europe/Berlin:20260620T193000
GEO:52.305823;8.918796
LOCATION:Anleger Schachtschleuse\, Sympherstraße 16\, Minden
ORGANIZER;CN=DJ- & Veranstaltungsteam Sunshine Musik Berlin:mailto:info@sun
 shine-musik-berlin.de
RRULE:FREQ=WEEKLY;UNTIL=20260620T220000;BYDAY=SA
SEQUENCE:0
SUMMARY:80er-Kultparty auf der Weser
UID:e_100991179_iv0
URL:http://pages.destination.one/de/teutonavigator/streaming/detail/Event/e
 _100991179/80er-kultparty-auf-der-weser
END:VEVENT
BEGIN:VTIMEZONE
TZID:Europe/Berlin
X-LIC-LOCATION:Europe/Berlin
BEGIN:DAYLIGHT
DTSTART:19700329T020000
RRULE:FREQ=YEARLY;BYDAY=-1SU;BYMONTH=3
TZNAME:CEST
TZOFFSETFROM:+0100
TZOFFSETTO:+0200
END:DAYLIGHT
BEGIN:STANDARD
DTSTART:19701025T030000
RRULE:FREQ=YEARLY;BYDAY=-1SU;BYMONTH=10
TZNAME:CET
TZOFFSETFROM:+0200
TZOFFSETTO:+0100
END:STANDARD
END:VTIMEZONE
END:VCALENDAR
