BEGIN:VCALENDAR
VERSION:2.0
PRODID:-//destination.one//NONSGML destination.meta API//DE
X-WR-CALDESC:A calendar powered by destination.meta
X-WR-CALNAME:teutonavigator Kalender via destination.meta
BEGIN:VEVENT
CATEGORIES:Sonstiges
CATEGORIES:Geselligkeit/Spiele/Treffen
DESCRIPTION:Für jedes Alter\n\nmehr Informationen unter http://pages.destin
 ation.one/de/teutonavigator/streaming/detail/Event/e_100991167/sammelkarte
 ntauschb-rse
DTEND;TZID=Europe/Berlin:20260214T120000
DTSTAMP:20260421T140508Z
DTSTART;TZID=Europe/Berlin:20260214T110000
GEO:52.286015;8.908830
LOCATION:Stadtbibliothek Minden\, Königswall 99\, Minden
ORGANIZER;CN=Stadtbibliothek Minden:mailto:stadtbibliothek@minden.de
RRULE:FREQ=WEEKLY;UNTIL=20260214T230000;BYDAY=SA
SEQUENCE:0
SUMMARY:Sammelkartentauschbörse
UID:e_100991167_iv0
URL:http://pages.destination.one/de/teutonavigator/streaming/detail/Event/e
 _100991167/sammelkartentauschb-rse
END:VEVENT
BEGIN:VEVENT
CATEGORIES:Sonstiges
CATEGORIES:Geselligkeit/Spiele/Treffen
DESCRIPTION:Für jedes Alter\n\nmehr Informationen unter http://pages.destin
 ation.one/de/teutonavigator/streaming/detail/Event/e_100991167/sammelkarte
 ntauschb-rse
DTEND;TZID=Europe/Berlin:20260314T120000
DTSTAMP:20260421T140508Z
DTSTART;TZID=Europe/Berlin:20260314T110000
GEO:52.286015;8.908830
LOCATION:Stadtbibliothek Minden\, Königswall 99\, Minden
ORGANIZER;CN=Stadtbibliothek Minden:mailto:stadtbibliothek@minden.de
RRULE:FREQ=WEEKLY;UNTIL=20260314T230000;BYDAY=SA
SEQUENCE:0
SUMMARY:Sammelkartentauschbörse
UID:e_100991167_iv1
URL:http://pages.destination.one/de/teutonavigator/streaming/detail/Event/e
 _100991167/sammelkartentauschb-rse
END:VEVENT
BEGIN:VEVENT
CATEGORIES:Sonstiges
CATEGORIES:Geselligkeit/Spiele/Treffen
DESCRIPTION:Für jedes Alter\n\nmehr Informationen unter http://pages.destin
 ation.one/de/teutonavigator/streaming/detail/Event/e_100991167/sammelkarte
 ntauschb-rse
DTEND;TZID=Europe/Berlin:20260509T120000
DTSTAMP:20260421T140508Z
DTSTART;TZID=Europe/Berlin:20260509T110000
GEO:52.286015;8.908830
LOCATION:Stadtbibliothek Minden\, Königswall 99\, Minden
ORGANIZER;CN=Stadtbibliothek Minden:mailto:stadtbibliothek@minden.de
RRULE:FREQ=WEEKLY;UNTIL=20260509T220000;BYDAY=SA
SEQUENCE:0
SUMMARY:Sammelkartentauschbörse
UID:e_100991167_iv2
URL:http://pages.destination.one/de/teutonavigator/streaming/detail/Event/e
 _100991167/sammelkartentauschb-rse
END:VEVENT
BEGIN:VEVENT
CATEGORIES:Sonstiges
CATEGORIES:Geselligkeit/Spiele/Treffen
DESCRIPTION:Für jedes Alter\n\nmehr Informationen unter http://pages.destin
 ation.one/de/teutonavigator/streaming/detail/Event/e_100991167/sammelkarte
 ntauschb-rse
DTEND;TZID=Europe/Berlin:20260912T120000
DTSTAMP:20260421T140508Z
DTSTART;TZID=Europe/Berlin:20260912T110000
GEO:52.286015;8.908830
LOCATION:Stadtbibliothek Minden\, Königswall 99\, Minden
ORGANIZER;CN=Stadtbibliothek Minden:mailto:stadtbibliothek@minden.de
RRULE:FREQ=WEEKLY;UNTIL=20260912T220000;BYDAY=SA
SEQUENCE:0
SUMMARY:Sammelkartentauschbörse
UID:e_100991167_iv3
URL:http://pages.destination.one/de/teutonavigator/streaming/detail/Event/e
 _100991167/sammelkartentauschb-rse
END:VEVENT
BEGIN:VEVENT
CATEGORIES:Sonstiges
CATEGORIES:Geselligkeit/Spiele/Treffen
DESCRIPTION:Für jedes Alter\n\nmehr Informationen unter http://pages.destin
 ation.one/de/teutonavigator/streaming/detail/Event/e_100991167/sammelkarte
 ntauschb-rse
DTEND;TZID=Europe/Berlin:20261010T120000
DTSTAMP:20260421T140508Z
DTSTART;TZID=Europe/Berlin:20261010T110000
GEO:52.286015;8.908830
LOCATION:Stadtbibliothek Minden\, Königswall 99\, Minden
ORGANIZER;CN=Stadtbibliothek Minden:mailto:stadtbibliothek@minden.de
RRULE:FREQ=WEEKLY;UNTIL=20261010T220000;BYDAY=SA
SEQUENCE:0
SUMMARY:Sammelkartentauschbörse
UID:e_100991167_iv4
URL:http://pages.destination.one/de/teutonavigator/streaming/detail/Event/e
 _100991167/sammelkartentauschb-rse
END:VEVENT
BEGIN:VEVENT
CATEGORIES:Sonstiges
CATEGORIES:Geselligkeit/Spiele/Treffen
DESCRIPTION:Für jedes Alter\n\nmehr Informationen unter http://pages.destin
 ation.one/de/teutonavigator/streaming/detail/Event/e_100991167/sammelkarte
 ntauschb-rse
DTEND;TZID=Europe/Berlin:20261114T120000
DTSTAMP:20260421T140508Z
DTSTART;TZID=Europe/Berlin:20261114T110000
GEO:52.286015;8.908830
LOCATION:Stadtbibliothek Minden\, Königswall 99\, Minden
ORGANIZER;CN=Stadtbibliothek Minden:mailto:stadtbibliothek@minden.de
RRULE:FREQ=WEEKLY;UNTIL=20261114T230000;BYDAY=SA
SEQUENCE:0
SUMMARY:Sammelkartentauschbörse
UID:e_100991167_iv5
URL:http://pages.destination.one/de/teutonavigator/streaming/detail/Event/e
 _100991167/sammelkartentauschb-rse
END:VEVENT
BEGIN:VTIMEZONE
TZID:Europe/Berlin
X-LIC-LOCATION:Europe/Berlin
BEGIN:DAYLIGHT
DTSTART:19700329T020000
RRULE:FREQ=YEARLY;BYDAY=-1SU;BYMONTH=3
TZNAME:CEST
TZOFFSETFROM:+0100
TZOFFSETTO:+0200
END:DAYLIGHT
BEGIN:STANDARD
DTSTART:19701025T030000
RRULE:FREQ=YEARLY;BYDAY=-1SU;BYMONTH=10
TZNAME:CET
TZOFFSETFROM:+0200
TZOFFSETTO:+0100
END:STANDARD
END:VTIMEZONE
END:VCALENDAR
