BEGIN:VCALENDAR
VERSION:2.0
PRODID:-//destination.one//NONSGML destination.meta API//DE
X-WR-CALDESC:A calendar powered by destination.meta
X-WR-CALNAME:teutonavigator Kalender via destination.meta
BEGIN:VEVENT
CATEGORIES:Führung/Besichtigung
DESCRIPTION:Weitere Informationen auf www.evenso.info\n\nmehr Informationen
  unter http://pages.destination.one/de/teutonavigator/streaming/detail/Eve
 nt/e_100990908/mord-und-missetaten-von-kleinen-und-gro-en-verbrechen-in-de
 r-stadt
DTEND;TZID=Europe/Berlin:20260224T200000
DTSTAMP:20260421T150907Z
DTSTART;TZID=Europe/Berlin:20260224T190000
GEO:52.083625;8.747411
LOCATION:Historisches Rathaus\, Am Markt 26\, Bad Salzuflen
ORGANIZER;CN=Sabine Mirbach:mailto:mirbach@evenso.info
RRULE:FREQ=WEEKLY;UNTIL=20260224T230000;BYDAY=TU
SEQUENCE:0
SUMMARY:Mord und Missetaten - Von kleinen und großen Verbrechen in der Stad
 t
UID:e_100990908_iv0
URL:http://pages.destination.one/de/teutonavigator/streaming/detail/Event/e
 _100990908/mord-und-missetaten-von-kleinen-und-gro-en-verbrechen-in-der-st
 adt
END:VEVENT
BEGIN:VEVENT
CATEGORIES:Führung/Besichtigung
DESCRIPTION:Weitere Informationen auf www.evenso.info\n\nmehr Informationen
  unter http://pages.destination.one/de/teutonavigator/streaming/detail/Eve
 nt/e_100990908/mord-und-missetaten-von-kleinen-und-gro-en-verbrechen-in-de
 r-stadt
DTEND;TZID=Europe/Berlin:20260324T200000
DTSTAMP:20260421T150907Z
DTSTART;TZID=Europe/Berlin:20260324T190000
GEO:52.083625;8.747411
LOCATION:Historisches Rathaus\, Am Markt 26\, Bad Salzuflen
ORGANIZER;CN=Sabine Mirbach:mailto:mirbach@evenso.info
RRULE:FREQ=WEEKLY;UNTIL=20260324T230000;BYDAY=TU
SEQUENCE:0
SUMMARY:Mord und Missetaten - Von kleinen und großen Verbrechen in der Stad
 t
UID:e_100990908_iv1
URL:http://pages.destination.one/de/teutonavigator/streaming/detail/Event/e
 _100990908/mord-und-missetaten-von-kleinen-und-gro-en-verbrechen-in-der-st
 adt
END:VEVENT
BEGIN:VEVENT
CATEGORIES:Führung/Besichtigung
DESCRIPTION:Weitere Informationen auf www.evenso.info\n\nmehr Informationen
  unter http://pages.destination.one/de/teutonavigator/streaming/detail/Eve
 nt/e_100990908/mord-und-missetaten-von-kleinen-und-gro-en-verbrechen-in-de
 r-stadt
DTEND;TZID=Europe/Berlin:20260421T200000
DTSTAMP:20260421T150907Z
DTSTART;TZID=Europe/Berlin:20260421T190000
GEO:52.083625;8.747411
LOCATION:Historisches Rathaus\, Am Markt 26\, Bad Salzuflen
ORGANIZER;CN=Sabine Mirbach:mailto:mirbach@evenso.info
RRULE:FREQ=WEEKLY;UNTIL=20260421T220000;BYDAY=TU
SEQUENCE:0
SUMMARY:Mord und Missetaten - Von kleinen und großen Verbrechen in der Stad
 t
UID:e_100990908_iv2
URL:http://pages.destination.one/de/teutonavigator/streaming/detail/Event/e
 _100990908/mord-und-missetaten-von-kleinen-und-gro-en-verbrechen-in-der-st
 adt
END:VEVENT
BEGIN:VEVENT
CATEGORIES:Führung/Besichtigung
DESCRIPTION:Weitere Informationen auf www.evenso.info\n\nmehr Informationen
  unter http://pages.destination.one/de/teutonavigator/streaming/detail/Eve
 nt/e_100990908/mord-und-missetaten-von-kleinen-und-gro-en-verbrechen-in-de
 r-stadt
DTEND;TZID=Europe/Berlin:20260526T200000
DTSTAMP:20260421T150907Z
DTSTART;TZID=Europe/Berlin:20260526T190000
GEO:52.083625;8.747411
LOCATION:Historisches Rathaus\, Am Markt 26\, Bad Salzuflen
ORGANIZER;CN=Sabine Mirbach:mailto:mirbach@evenso.info
RRULE:FREQ=WEEKLY;UNTIL=20260526T220000;BYDAY=TU
SEQUENCE:0
SUMMARY:Mord und Missetaten - Von kleinen und großen Verbrechen in der Stad
 t
UID:e_100990908_iv3
URL:http://pages.destination.one/de/teutonavigator/streaming/detail/Event/e
 _100990908/mord-und-missetaten-von-kleinen-und-gro-en-verbrechen-in-der-st
 adt
END:VEVENT
BEGIN:VEVENT
CATEGORIES:Führung/Besichtigung
DESCRIPTION:Weitere Informationen auf www.evenso.info\n\nmehr Informationen
  unter http://pages.destination.one/de/teutonavigator/streaming/detail/Eve
 nt/e_100990908/mord-und-missetaten-von-kleinen-und-gro-en-verbrechen-in-de
 r-stadt
DTEND;TZID=Europe/Berlin:20260623T200000
DTSTAMP:20260421T150907Z
DTSTART;TZID=Europe/Berlin:20260623T190000
GEO:52.083625;8.747411
LOCATION:Historisches Rathaus\, Am Markt 26\, Bad Salzuflen
ORGANIZER;CN=Sabine Mirbach:mailto:mirbach@evenso.info
RRULE:FREQ=WEEKLY;UNTIL=20260623T220000;BYDAY=TU
SEQUENCE:0
SUMMARY:Mord und Missetaten - Von kleinen und großen Verbrechen in der Stad
 t
UID:e_100990908_iv4
URL:http://pages.destination.one/de/teutonavigator/streaming/detail/Event/e
 _100990908/mord-und-missetaten-von-kleinen-und-gro-en-verbrechen-in-der-st
 adt
END:VEVENT
BEGIN:VTIMEZONE
TZID:Europe/Berlin
X-LIC-LOCATION:Europe/Berlin
BEGIN:DAYLIGHT
DTSTART:19700329T020000
RRULE:FREQ=YEARLY;BYDAY=-1SU;BYMONTH=3
TZNAME:CEST
TZOFFSETFROM:+0100
TZOFFSETTO:+0200
END:DAYLIGHT
BEGIN:STANDARD
DTSTART:19701025T030000
RRULE:FREQ=YEARLY;BYDAY=-1SU;BYMONTH=10
TZNAME:CET
TZOFFSETFROM:+0200
TZOFFSETTO:+0100
END:STANDARD
END:VTIMEZONE
END:VCALENDAR
