BEGIN:VCALENDAR
VERSION:2.0
PRODID:-//destination.one//NONSGML destination.meta API//DE
X-WR-CALDESC:A calendar powered by destination.meta
X-WR-CALNAME:teutonavigator Kalender via destination.meta
BEGIN:VEVENT
CATEGORIES:Führung/Besichtigung
DESCRIPTION:Lassen Sie sich in die Architektur und den Esprit des fürstlich
 en Heilbades entführen\, vorbei an repräsentativen Bauwerken\, den schmuck
 en Fachwerkhäusern der Weserrenaissance und den imposanten Gradierwerken. 
 Das historische Rathaus\, die Paulinenquelle auf dem Salzhof\, der Katzent
 urm und das Haus Backs am Hafermarkt sind spannende Stationen auf Ihrer Re
 ise in das Herz der historischen Salzsiederstadt.\n\nmehr Informationen un
 ter http://pages.destination.one/de/teutonavigator/streaming/detail/Event/
 e_100990883/rundgang-durch-die-historische-altstadt
DTEND;TZID=Europe/Berlin:20260101T160000
DTSTAMP:20260421T174621Z
DTSTART;TZID=Europe/Berlin:20260101T143000
GEO:52.088669;8.751115
LOCATION:Stadt Bad Salzuflen\, Rudolph-Brandes-Allee 19\, Bad Salzuflen
ORGANIZER;CN=Stadt Bad Salzuflen:mailto:info@bad-salzuflen.de
RRULE:FREQ=WEEKLY;UNTIL=20261231T230000;BYDAY=SA
SEQUENCE:0
SUMMARY:Rundgang durch die historische Altstadt
UID:e_100990883_iv0
URL:http://pages.destination.one/de/teutonavigator/streaming/detail/Event/e
 _100990883/rundgang-durch-die-historische-altstadt
END:VEVENT
BEGIN:VEVENT
CATEGORIES:Führung/Besichtigung
DESCRIPTION:Lassen Sie sich in die Architektur und den Esprit des fürstlich
 en Heilbades entführen\, vorbei an repräsentativen Bauwerken\, den schmuck
 en Fachwerkhäusern der Weserrenaissance und den imposanten Gradierwerken. 
 Das historische Rathaus\, die Paulinenquelle auf dem Salzhof\, der Katzent
 urm und das Haus Backs am Hafermarkt sind spannende Stationen auf Ihrer Re
 ise in das Herz der historischen Salzsiederstadt.\n\nmehr Informationen un
 ter http://pages.destination.one/de/teutonavigator/streaming/detail/Event/
 e_100990883/rundgang-durch-die-historische-altstadt
DTEND;TZID=Europe/Berlin:20260401T160000
DTSTAMP:20260421T174621Z
DTSTART;TZID=Europe/Berlin:20260401T143000
GEO:52.088669;8.751115
LOCATION:Stadt Bad Salzuflen\, Rudolph-Brandes-Allee 19\, Bad Salzuflen
ORGANIZER;CN=Stadt Bad Salzuflen:mailto:info@bad-salzuflen.de
RRULE:FREQ=WEEKLY;UNTIL=20261031T230000;BYDAY=WE
SEQUENCE:0
SUMMARY:Rundgang durch die historische Altstadt
UID:e_100990883_iv1
URL:http://pages.destination.one/de/teutonavigator/streaming/detail/Event/e
 _100990883/rundgang-durch-die-historische-altstadt
END:VEVENT
BEGIN:VTIMEZONE
TZID:Europe/Berlin
X-LIC-LOCATION:Europe/Berlin
BEGIN:DAYLIGHT
DTSTART:19700329T020000
RRULE:FREQ=YEARLY;BYDAY=-1SU;BYMONTH=3
TZNAME:CEST
TZOFFSETFROM:+0100
TZOFFSETTO:+0200
END:DAYLIGHT
BEGIN:STANDARD
DTSTART:19701025T030000
RRULE:FREQ=YEARLY;BYDAY=-1SU;BYMONTH=10
TZNAME:CET
TZOFFSETFROM:+0200
TZOFFSETTO:+0100
END:STANDARD
END:VTIMEZONE
END:VCALENDAR
