BEGIN:VCALENDAR
VERSION:2.0
PRODID:-//destination.one//NONSGML destination.meta API//DE
X-WR-CALDESC:A calendar powered by destination.meta
X-WR-CALNAME:teutonavigator Kalender via destination.meta
BEGIN:VEVENT
CATEGORIES:Sport/Freizeit
CATEGORIES:Festival/Open-Air
CATEGORIES:Fest/Ball
CATEGORIES:Stadtfest/Kirmes/Jahrmarkt
DESCRIPTION:Wenn der Salzhof im Herzen der Altstadt die Atmosphäre einer ur
 igen Weinlaube annimmt\, wird mit dem Weinfest das schönste Innenstadtfest
  Salzuflens gefeiert. \nAm Verkaufsoffenen Sonntag öffnen die Geschäfte in
  der Altstadt von 13 bis 18 Uhr\n\nmehr Informationen unter http://pages.d
 estination.one/de/teutonavigator/streaming/detail/Event/e_100990876/weinfe
 st
DTEND;TZID=Europe/Berlin:20260806T200000
DTSTAMP:20260423T124652Z
DTSTART;TZID=Europe/Berlin:20260806T120000
GEO:52.088669;8.751115
LOCATION:Stadt Bad Salzuflen\, Rudolph-Brandes-Allee 19\, Bad Salzuflen
ORGANIZER;CN=Werbegemeinschaft Bad Salzuflen e.V.:mailto:info@werbegemeinsc
 haft-bad-salzuflen.de
RRULE:FREQ=WEEKLY;UNTIL=20260809T220000;BYDAY=SU
SEQUENCE:0
SUMMARY:Weinfest
UID:e_100990876_iv0
URL:http://pages.destination.one/de/teutonavigator/streaming/detail/Event/e
 _100990876/weinfest
END:VEVENT
BEGIN:VEVENT
CATEGORIES:Sport/Freizeit
CATEGORIES:Festival/Open-Air
CATEGORIES:Fest/Ball
CATEGORIES:Stadtfest/Kirmes/Jahrmarkt
DESCRIPTION:Wenn der Salzhof im Herzen der Altstadt die Atmosphäre einer ur
 igen Weinlaube annimmt\, wird mit dem Weinfest das schönste Innenstadtfest
  Salzuflens gefeiert. \nAm Verkaufsoffenen Sonntag öffnen die Geschäfte in
  der Altstadt von 13 bis 18 Uhr\n\nmehr Informationen unter http://pages.d
 estination.one/de/teutonavigator/streaming/detail/Event/e_100990876/weinfe
 st
DTEND;TZID=Europe/Berlin:20260807T003000
DTSTAMP:20260423T124652Z
DTSTART;TZID=Europe/Berlin:20260806T140000
GEO:52.088669;8.751115
LOCATION:Stadt Bad Salzuflen\, Rudolph-Brandes-Allee 19\, Bad Salzuflen
ORGANIZER;CN=Werbegemeinschaft Bad Salzuflen e.V.:mailto:info@werbegemeinsc
 haft-bad-salzuflen.de
RRULE:FREQ=WEEKLY;UNTIL=20260809T220000;BYDAY=SA
SEQUENCE:0
SUMMARY:Weinfest
UID:e_100990876_iv1
URL:http://pages.destination.one/de/teutonavigator/streaming/detail/Event/e
 _100990876/weinfest
END:VEVENT
BEGIN:VEVENT
CATEGORIES:Sport/Freizeit
CATEGORIES:Festival/Open-Air
CATEGORIES:Fest/Ball
CATEGORIES:Stadtfest/Kirmes/Jahrmarkt
DESCRIPTION:Wenn der Salzhof im Herzen der Altstadt die Atmosphäre einer ur
 igen Weinlaube annimmt\, wird mit dem Weinfest das schönste Innenstadtfest
  Salzuflens gefeiert. \nAm Verkaufsoffenen Sonntag öffnen die Geschäfte in
  der Altstadt von 13 bis 18 Uhr\n\nmehr Informationen unter http://pages.d
 estination.one/de/teutonavigator/streaming/detail/Event/e_100990876/weinfe
 st
DTEND;TZID=Europe/Berlin:20260807T003000
DTSTAMP:20260423T124652Z
DTSTART;TZID=Europe/Berlin:20260806T150000
GEO:52.088669;8.751115
LOCATION:Stadt Bad Salzuflen\, Rudolph-Brandes-Allee 19\, Bad Salzuflen
ORGANIZER;CN=Werbegemeinschaft Bad Salzuflen e.V.:mailto:info@werbegemeinsc
 haft-bad-salzuflen.de
RRULE:FREQ=WEEKLY;UNTIL=20260809T220000;BYDAY=FR
SEQUENCE:0
SUMMARY:Weinfest
UID:e_100990876_iv2
URL:http://pages.destination.one/de/teutonavigator/streaming/detail/Event/e
 _100990876/weinfest
END:VEVENT
BEGIN:VEVENT
CATEGORIES:Sport/Freizeit
CATEGORIES:Festival/Open-Air
CATEGORIES:Fest/Ball
CATEGORIES:Stadtfest/Kirmes/Jahrmarkt
DESCRIPTION:Wenn der Salzhof im Herzen der Altstadt die Atmosphäre einer ur
 igen Weinlaube annimmt\, wird mit dem Weinfest das schönste Innenstadtfest
  Salzuflens gefeiert. \nAm Verkaufsoffenen Sonntag öffnen die Geschäfte in
  der Altstadt von 13 bis 18 Uhr\n\nmehr Informationen unter http://pages.d
 estination.one/de/teutonavigator/streaming/detail/Event/e_100990876/weinfe
 st
DTEND;TZID=Europe/Berlin:20260806T230000
DTSTAMP:20260423T124652Z
DTSTART;TZID=Europe/Berlin:20260806T160000
GEO:52.088669;8.751115
LOCATION:Stadt Bad Salzuflen\, Rudolph-Brandes-Allee 19\, Bad Salzuflen
ORGANIZER;CN=Werbegemeinschaft Bad Salzuflen e.V.:mailto:info@werbegemeinsc
 haft-bad-salzuflen.de
RRULE:FREQ=WEEKLY;UNTIL=20260809T220000;BYDAY=TH
SEQUENCE:0
SUMMARY:Weinfest
UID:e_100990876_iv3
URL:http://pages.destination.one/de/teutonavigator/streaming/detail/Event/e
 _100990876/weinfest
END:VEVENT
BEGIN:VTIMEZONE
TZID:Europe/Berlin
X-LIC-LOCATION:Europe/Berlin
BEGIN:DAYLIGHT
DTSTART:19700329T020000
RRULE:FREQ=YEARLY;BYDAY=-1SU;BYMONTH=3
TZNAME:CEST
TZOFFSETFROM:+0100
TZOFFSETTO:+0200
END:DAYLIGHT
BEGIN:STANDARD
DTSTART:19701025T030000
RRULE:FREQ=YEARLY;BYDAY=-1SU;BYMONTH=10
TZNAME:CET
TZOFFSETFROM:+0200
TZOFFSETTO:+0100
END:STANDARD
END:VTIMEZONE
END:VCALENDAR
