BEGIN:VCALENDAR
VERSION:2.0
PRODID:-//destination.one//NONSGML destination.meta API//DE
X-WR-CALDESC:A calendar powered by destination.meta
X-WR-CALNAME:teutonavigator Kalender via destination.meta
BEGIN:VEVENT
CATEGORIES:Sport/Freizeit
CATEGORIES:Brauchtum/Kultur
CATEGORIES:Sonstiges
CATEGORIES:Kabarett
DESCRIPTION:Du liebst Überraschungen? Dann ist LOL – Das Comedy Start-up ge
 nau dein Ding! Hier bekommst du eine Comedy-Mixed-Show\, bei der du erst a
 m Abend selbst erfährst\, wer auf der Bühne steht – ein echtes Comedy Blin
 d Date!\n\nmehr Informationen unter http://pages.destination.one/de/teuton
 avigator/streaming/detail/Event/e_100990849/lol-das-comedy-start-up
DTEND;TZID=Europe/Berlin:20261114T213000
DTSTAMP:20260421T190532Z
DTSTART;TZID=Europe/Berlin:20261114T193000
GEO:52.088041;8.748782
LOCATION:Kurhaus Bad Salzuflen\, Parkstraße 26 / Im Kurpark\, Bad Salzuflen
ORGANIZER;CN=Stadt Bad Salzuflen | Eventmanagement:mailto:event@bad-salzufl
 en.de
RRULE:FREQ=WEEKLY;UNTIL=20261114T230000;BYDAY=SA
SEQUENCE:0
SUMMARY:LOL – Das Comedy Start-Up
UID:e_100990849_iv0
URL:http://pages.destination.one/de/teutonavigator/streaming/detail/Event/e
 _100990849/lol-das-comedy-start-up
END:VEVENT
BEGIN:VTIMEZONE
TZID:Europe/Berlin
X-LIC-LOCATION:Europe/Berlin
BEGIN:DAYLIGHT
DTSTART:19700329T020000
RRULE:FREQ=YEARLY;BYDAY=-1SU;BYMONTH=3
TZNAME:CEST
TZOFFSETFROM:+0100
TZOFFSETTO:+0200
END:DAYLIGHT
BEGIN:STANDARD
DTSTART:19701025T030000
RRULE:FREQ=YEARLY;BYDAY=-1SU;BYMONTH=10
TZNAME:CET
TZOFFSETFROM:+0200
TZOFFSETTO:+0100
END:STANDARD
END:VTIMEZONE
END:VCALENDAR
