BEGIN:VCALENDAR
VERSION:2.0
PRODID:-//destination.one//NONSGML destination.meta API//DE
X-WR-CALDESC:A calendar powered by destination.meta
X-WR-CALNAME:teutonavigator Kalender via destination.meta
BEGIN:VEVENT
CATEGORIES:Sport/Freizeit
CATEGORIES:Festival/Open-Air
CATEGORIES:Brauchtum/Kultur
CATEGORIES:Stadtfest/Kirmes/Jahrmarkt
CATEGORIES:Konzert divers
DESCRIPTION:Präsentiert von der Nordwestdeutschen Philharmonie\n\nmehr Info
 rmationen unter http://pages.destination.one/de/teutonavigator/streaming/d
 etail/Event/e_100990842/viii-sinfonisches-konzert
DTEND;TZID=Europe/Berlin:20260628T235900
DTSTAMP:20260421T140156Z
DTSTART;TZID=Europe/Berlin:20260628T193000
GEO:52.087067;8.749706
LOCATION:Konzerthalle\, im Kurpark\, Bad Salzuflen
ORGANIZER;CN=Kulturbüro der Stadt Bad Salzuflen:mailto:kulturbuero@bad-salz
 uflen.de
RRULE:FREQ=WEEKLY;UNTIL=20260628T220000;BYDAY=SU
SEQUENCE:0
SUMMARY:VIII. Sinfonisches Konzert
UID:e_100990842_iv0
URL:http://pages.destination.one/de/teutonavigator/streaming/detail/Event/e
 _100990842/viii-sinfonisches-konzert
END:VEVENT
BEGIN:VTIMEZONE
TZID:Europe/Berlin
X-LIC-LOCATION:Europe/Berlin
BEGIN:DAYLIGHT
DTSTART:19700329T020000
RRULE:FREQ=YEARLY;BYDAY=-1SU;BYMONTH=3
TZNAME:CEST
TZOFFSETFROM:+0100
TZOFFSETTO:+0200
END:DAYLIGHT
BEGIN:STANDARD
DTSTART:19701025T030000
RRULE:FREQ=YEARLY;BYDAY=-1SU;BYMONTH=10
TZNAME:CET
TZOFFSETFROM:+0200
TZOFFSETTO:+0100
END:STANDARD
END:VTIMEZONE
END:VCALENDAR
