BEGIN:VCALENDAR
VERSION:2.0
PRODID:-//destination.one//NONSGML destination.meta API//DE
X-WR-CALDESC:A calendar powered by destination.meta
X-WR-CALNAME:teutonavigator Kalender via destination.meta
BEGIN:VEVENT
CATEGORIES:Sport/Freizeit
CATEGORIES:Konzert divers
DESCRIPTION:Der Gala-Saal im Kurhaus verwandelt sich in ein "Tanzparkett".\
 n\n Die Stadt Bad Salzuflen lädt wieder zum „Tanztee“ mit Standard- und La
 teinamerikanischen Tänzen ein. In der herrlichen Kulisse mitten im wunders
 chönen Kurpark spielt das Staatsbad Orchester Walzer\, Rumba\, Cha Cha Cha
  und Co. sowie gemischte Schlagermelodien auf.\n\nmehr Informationen unter
  http://pages.destination.one/de/teutonavigator/streaming/detail/Event/e_1
 00990806/tanztee
DTEND;TZID=Europe/Berlin:20260329T163000
DTSTAMP:20260423T124711Z
DTSTART;TZID=Europe/Berlin:20260329T150000
GEO:52.088041;8.748782
LOCATION:Kurhaus Bad Salzuflen\, Parkstraße 26 / Im Kurpark\, Bad Salzuflen
ORGANIZER;CN=Stadt Bad Salzuflen | Eventmanagement:mailto:event@bad-salzufl
 en.de
RRULE:FREQ=WEEKLY;UNTIL=20260329T220000;BYDAY=SU
SEQUENCE:0
SUMMARY:Tanztee
UID:e_100990806_iv0
URL:http://pages.destination.one/de/teutonavigator/streaming/detail/Event/e
 _100990806/tanztee
END:VEVENT
BEGIN:VEVENT
CATEGORIES:Sport/Freizeit
CATEGORIES:Konzert divers
DESCRIPTION:Der Gala-Saal im Kurhaus verwandelt sich in ein "Tanzparkett".\
 n\n Die Stadt Bad Salzuflen lädt wieder zum „Tanztee“ mit Standard- und La
 teinamerikanischen Tänzen ein. In der herrlichen Kulisse mitten im wunders
 chönen Kurpark spielt das Staatsbad Orchester Walzer\, Rumba\, Cha Cha Cha
  und Co. sowie gemischte Schlagermelodien auf.\n\nmehr Informationen unter
  http://pages.destination.one/de/teutonavigator/streaming/detail/Event/e_1
 00990806/tanztee
DTEND;TZID=Europe/Berlin:20260426T163000
DTSTAMP:20260423T124711Z
DTSTART;TZID=Europe/Berlin:20260426T150000
GEO:52.088041;8.748782
LOCATION:Kurhaus Bad Salzuflen\, Parkstraße 26 / Im Kurpark\, Bad Salzuflen
ORGANIZER;CN=Stadt Bad Salzuflen | Eventmanagement:mailto:event@bad-salzufl
 en.de
RRULE:FREQ=WEEKLY;UNTIL=20260426T220000;BYDAY=SU
SEQUENCE:0
SUMMARY:Tanztee
UID:e_100990806_iv1
URL:http://pages.destination.one/de/teutonavigator/streaming/detail/Event/e
 _100990806/tanztee
END:VEVENT
BEGIN:VEVENT
CATEGORIES:Sport/Freizeit
CATEGORIES:Konzert divers
DESCRIPTION:Der Gala-Saal im Kurhaus verwandelt sich in ein "Tanzparkett".\
 n\n Die Stadt Bad Salzuflen lädt wieder zum „Tanztee“ mit Standard- und La
 teinamerikanischen Tänzen ein. In der herrlichen Kulisse mitten im wunders
 chönen Kurpark spielt das Staatsbad Orchester Walzer\, Rumba\, Cha Cha Cha
  und Co. sowie gemischte Schlagermelodien auf.\n\nmehr Informationen unter
  http://pages.destination.one/de/teutonavigator/streaming/detail/Event/e_1
 00990806/tanztee
DTEND;TZID=Europe/Berlin:20260531T163000
DTSTAMP:20260423T124711Z
DTSTART;TZID=Europe/Berlin:20260531T150000
GEO:52.088041;8.748782
LOCATION:Kurhaus Bad Salzuflen\, Parkstraße 26 / Im Kurpark\, Bad Salzuflen
ORGANIZER;CN=Stadt Bad Salzuflen | Eventmanagement:mailto:event@bad-salzufl
 en.de
RRULE:FREQ=WEEKLY;UNTIL=20260531T220000;BYDAY=SU
SEQUENCE:0
SUMMARY:Tanztee
UID:e_100990806_iv2
URL:http://pages.destination.one/de/teutonavigator/streaming/detail/Event/e
 _100990806/tanztee
END:VEVENT
BEGIN:VEVENT
CATEGORIES:Sport/Freizeit
CATEGORIES:Konzert divers
DESCRIPTION:Der Gala-Saal im Kurhaus verwandelt sich in ein "Tanzparkett".\
 n\n Die Stadt Bad Salzuflen lädt wieder zum „Tanztee“ mit Standard- und La
 teinamerikanischen Tänzen ein. In der herrlichen Kulisse mitten im wunders
 chönen Kurpark spielt das Staatsbad Orchester Walzer\, Rumba\, Cha Cha Cha
  und Co. sowie gemischte Schlagermelodien auf.\n\nmehr Informationen unter
  http://pages.destination.one/de/teutonavigator/streaming/detail/Event/e_1
 00990806/tanztee
DTEND;TZID=Europe/Berlin:20260628T163000
DTSTAMP:20260423T124711Z
DTSTART;TZID=Europe/Berlin:20260628T150000
GEO:52.088041;8.748782
LOCATION:Kurhaus Bad Salzuflen\, Parkstraße 26 / Im Kurpark\, Bad Salzuflen
ORGANIZER;CN=Stadt Bad Salzuflen | Eventmanagement:mailto:event@bad-salzufl
 en.de
RRULE:FREQ=WEEKLY;UNTIL=20260628T220000;BYDAY=SU
SEQUENCE:0
SUMMARY:Tanztee
UID:e_100990806_iv3
URL:http://pages.destination.one/de/teutonavigator/streaming/detail/Event/e
 _100990806/tanztee
END:VEVENT
BEGIN:VEVENT
CATEGORIES:Sport/Freizeit
CATEGORIES:Konzert divers
DESCRIPTION:Der Gala-Saal im Kurhaus verwandelt sich in ein "Tanzparkett".\
 n\n Die Stadt Bad Salzuflen lädt wieder zum „Tanztee“ mit Standard- und La
 teinamerikanischen Tänzen ein. In der herrlichen Kulisse mitten im wunders
 chönen Kurpark spielt das Staatsbad Orchester Walzer\, Rumba\, Cha Cha Cha
  und Co. sowie gemischte Schlagermelodien auf.\n\nmehr Informationen unter
  http://pages.destination.one/de/teutonavigator/streaming/detail/Event/e_1
 00990806/tanztee
DTEND;TZID=Europe/Berlin:20260719T163000
DTSTAMP:20260423T124711Z
DTSTART;TZID=Europe/Berlin:20260719T150000
GEO:52.088041;8.748782
LOCATION:Kurhaus Bad Salzuflen\, Parkstraße 26 / Im Kurpark\, Bad Salzuflen
ORGANIZER;CN=Stadt Bad Salzuflen | Eventmanagement:mailto:event@bad-salzufl
 en.de
RRULE:FREQ=WEEKLY;UNTIL=20260719T220000;BYDAY=SU
SEQUENCE:0
SUMMARY:Tanztee
UID:e_100990806_iv4
URL:http://pages.destination.one/de/teutonavigator/streaming/detail/Event/e
 _100990806/tanztee
END:VEVENT
BEGIN:VTIMEZONE
TZID:Europe/Berlin
X-LIC-LOCATION:Europe/Berlin
BEGIN:DAYLIGHT
DTSTART:19700329T020000
RRULE:FREQ=YEARLY;BYDAY=-1SU;BYMONTH=3
TZNAME:CEST
TZOFFSETFROM:+0100
TZOFFSETTO:+0200
END:DAYLIGHT
BEGIN:STANDARD
DTSTART:19701025T030000
RRULE:FREQ=YEARLY;BYDAY=-1SU;BYMONTH=10
TZNAME:CET
TZOFFSETFROM:+0200
TZOFFSETTO:+0100
END:STANDARD
END:VTIMEZONE
END:VCALENDAR
