BEGIN:VCALENDAR
VERSION:2.0
PRODID:-//destination.one//NONSGML destination.meta API//DE
X-WR-CALDESC:A calendar powered by destination.meta
X-WR-CALNAME:teutonavigator Kalender via destination.meta
BEGIN:VEVENT
CATEGORIES:Radtour
CATEGORIES:Sport/Freizeit
DESCRIPTION:Bereiten Sie sich auf ein aufregendes Abenteuer vor! Die 7-Päss
 e-Tour in Lübbecke am 13. September 2026 ist eine Herausforderung für alle
 \, die das Radfahren lieben und sich gerne an ihre Grenzen bringen. Diese 
 anspruchsvolle Strecke von 80 km mit 900 Höhenmetern bietet nicht nur eine
  sportliche Herausforderung\, sondern auch atemberaubende Ausblicke auf di
 e malerische Landschaft der Region.\n\nmehr Informationen unter http://pag
 es.destination.one/de/teutonavigator/streaming/detail/Event/e_100977145/7-
 p-sse-tour-l-bbecke-rennrad-tour
DTEND;TZID=Europe/Berlin:20250921T235900
DTSTAMP:20260419T194012Z
DTSTART;TZID=Europe/Berlin:20250921T110000
GEO:52.310177;8.617810
LOCATION:Stadthalle Lübbecke\, Bohlenstraße 29\, Lübbecke
ORGANIZER;CN=Tourismusverband Sieben e.V. :mailto:tourismusverband@luebbeck
 e.de
SEQUENCE:0
SUMMARY:7-Pässe-Tour Lübbecke - Rennrad-Tour
UID:e_100977145_iv0
URL:http://pages.destination.one/de/teutonavigator/streaming/detail/Event/e
 _100977145/7-p-sse-tour-l-bbecke-rennrad-tour
END:VEVENT
BEGIN:VEVENT
CATEGORIES:Radtour
CATEGORIES:Sport/Freizeit
DESCRIPTION:Bereiten Sie sich auf ein aufregendes Abenteuer vor! Die 7-Päss
 e-Tour in Lübbecke am 13. September 2026 ist eine Herausforderung für alle
 \, die das Radfahren lieben und sich gerne an ihre Grenzen bringen. Diese 
 anspruchsvolle Strecke von 80 km mit 900 Höhenmetern bietet nicht nur eine
  sportliche Herausforderung\, sondern auch atemberaubende Ausblicke auf di
 e malerische Landschaft der Region.\n\nmehr Informationen unter http://pag
 es.destination.one/de/teutonavigator/streaming/detail/Event/e_100977145/7-
 p-sse-tour-l-bbecke-rennrad-tour
DTEND;TZID=Europe/Berlin:20260913T235900
DTSTAMP:20260419T194012Z
DTSTART;TZID=Europe/Berlin:20260913T110000
GEO:52.310177;8.617810
LOCATION:Stadthalle Lübbecke\, Bohlenstraße 29\, Lübbecke
ORGANIZER;CN=Tourismusverband Sieben e.V. :mailto:tourismusverband@luebbeck
 e.de
SEQUENCE:0
SUMMARY:7-Pässe-Tour Lübbecke - Rennrad-Tour
UID:e_100977145_iv1
URL:http://pages.destination.one/de/teutonavigator/streaming/detail/Event/e
 _100977145/7-p-sse-tour-l-bbecke-rennrad-tour
END:VEVENT
BEGIN:VTIMEZONE
TZID:Europe/Berlin
X-LIC-LOCATION:Europe/Berlin
BEGIN:DAYLIGHT
DTSTART:19700329T020000
RRULE:FREQ=YEARLY;BYDAY=-1SU;BYMONTH=3
TZNAME:CEST
TZOFFSETFROM:+0100
TZOFFSETTO:+0200
END:DAYLIGHT
BEGIN:STANDARD
DTSTART:19701025T030000
RRULE:FREQ=YEARLY;BYDAY=-1SU;BYMONTH=10
TZNAME:CET
TZOFFSETFROM:+0200
TZOFFSETTO:+0100
END:STANDARD
END:VTIMEZONE
END:VCALENDAR
