BEGIN:VCALENDAR
VERSION:2.0
PRODID:-//destination.one//NONSGML destination.meta API//DE
X-WR-CALDESC:A calendar powered by destination.meta
X-WR-CALNAME:teutonavigator Kalender via destination.meta
BEGIN:VEVENT
CATEGORIES:Brauchtum/Kultur
DESCRIPTION:Das Schützenfest in Stukenbrock am 3. Wochenende im August von 
 Freitag bis Montag bietet Gelegenheit zum gemeinsamen Austausch unter Freu
 nden und Bekannten.\n\nmehr Informationen unter http://pages.destination.o
 ne/de/teutonavigator/streaming/detail/Event/e_100971118/sch-tzenfest-stuke
 nbrock
DTEND;TZID=Europe/Berlin;VALUE=DATE:20250818
DTSTAMP:20260424T153648Z
DTSTART;TZID=Europe/Berlin;VALUE=DATE:20250815
GEO:51.908617;8.654609
LOCATION:Schützenplatz Stukenbrock mit Schützenhalle\, Lüchtenstraße 44\, S
 chloß Holte-Stukenbrock
ORGANIZER;CN=St. Johannes Schützenbruderschaft Stukenbrock:mailto:info@stuk
 enbrocker-schuetzen.de
SEQUENCE:0
SUMMARY:Schützenfest Stukenbrock
UID:e_100971118_iv0
URL:http://pages.destination.one/de/teutonavigator/streaming/detail/Event/e
 _100971118/sch-tzenfest-stukenbrock
END:VEVENT
BEGIN:VEVENT
CATEGORIES:Brauchtum/Kultur
DESCRIPTION:Das Schützenfest in Stukenbrock am 3. Wochenende im August von 
 Freitag bis Montag bietet Gelegenheit zum gemeinsamen Austausch unter Freu
 nden und Bekannten.\n\nmehr Informationen unter http://pages.destination.o
 ne/de/teutonavigator/streaming/detail/Event/e_100971118/sch-tzenfest-stuke
 nbrock
DTEND;TZID=Europe/Berlin;VALUE=DATE:20260825
DTSTAMP:20260424T153648Z
DTSTART;TZID=Europe/Berlin;VALUE=DATE:20260821
GEO:51.908617;8.654609
LOCATION:Schützenplatz Stukenbrock mit Schützenhalle\, Lüchtenstraße 44\, S
 chloß Holte-Stukenbrock
ORGANIZER;CN=St. Johannes Schützenbruderschaft Stukenbrock:mailto:info@stuk
 enbrocker-schuetzen.de
RRULE:FREQ=YEARLY;BYDAY=3FR;BYMONTH=8
SEQUENCE:0
SUMMARY:Schützenfest Stukenbrock
UID:e_100971118_iv1
URL:http://pages.destination.one/de/teutonavigator/streaming/detail/Event/e
 _100971118/sch-tzenfest-stukenbrock
END:VEVENT
BEGIN:VTIMEZONE
TZID:Europe/Berlin
X-LIC-LOCATION:Europe/Berlin
BEGIN:DAYLIGHT
DTSTART:19700329T020000
RRULE:FREQ=YEARLY;BYDAY=-1SU;BYMONTH=3
TZNAME:CEST
TZOFFSETFROM:+0100
TZOFFSETTO:+0200
END:DAYLIGHT
BEGIN:STANDARD
DTSTART:19701025T030000
RRULE:FREQ=YEARLY;BYDAY=-1SU;BYMONTH=10
TZNAME:CET
TZOFFSETFROM:+0200
TZOFFSETTO:+0100
END:STANDARD
END:VTIMEZONE
END:VCALENDAR
