BEGIN:VCALENDAR
VERSION:2.0
PRODID:-//destination.one//NONSGML destination.meta API//DE
X-WR-CALDESC:A calendar powered by destination.meta
X-WR-CALNAME:teutonavigator Kalender via destination.meta
BEGIN:VEVENT
CATEGORIES:Sport/Freizeit
DESCRIPTION:Der Benkhauser Schlosslauf findet im Rahmen des Sportfestes des
  VfB Fabbenstedt am ersten Samstag im Juli statt.\n\nmehr Informationen un
 ter http://pages.destination.one/de/teutonavigator/streaming/detail/Event/
 e_100963295/2-benkhauser-schlosslauf
DTEND;TZID=Europe/Berlin:20250705T235900
DTSTAMP:20260419T223759Z
DTSTART;TZID=Europe/Berlin:20250705T143000
GEO:52.344430;8.576202
LOCATION:Schloss Benkhausen\, Schlossallee 1 (Neustadtstraße 40)\, Espelkam
 p
ORGANIZER;CN=VfB Fabbenstedt 1920 e.V.:mailto:benkhauser-schlosslauf@t-onli
 ne.de
PRIORITY:4
SEQUENCE:0
SUMMARY:2. Benkhauser Schlosslauf
UID:e_100963295_iv0
URL:http://pages.destination.one/de/teutonavigator/streaming/detail/Event/e
 _100963295/2-benkhauser-schlosslauf
END:VEVENT
BEGIN:VEVENT
CATEGORIES:Sport/Freizeit
DESCRIPTION:Der Benkhauser Schlosslauf findet im Rahmen des Sportfestes des
  VfB Fabbenstedt am ersten Samstag im Juli statt.\n\nmehr Informationen un
 ter http://pages.destination.one/de/teutonavigator/streaming/detail/Event/
 e_100963295/2-benkhauser-schlosslauf
DTEND;TZID=Europe/Berlin:20260704T200000
DTSTAMP:20260419T223759Z
DTSTART;TZID=Europe/Berlin:20260704T140000
GEO:52.344430;8.576202
LOCATION:Schloss Benkhausen\, Schlossallee 1 (Neustadtstraße 40)\, Espelkam
 p
ORGANIZER;CN=VfB Fabbenstedt 1920 e.V.:mailto:benkhauser-schlosslauf@t-onli
 ne.de
PRIORITY:4
SEQUENCE:0
SUMMARY:2. Benkhauser Schlosslauf
UID:e_100963295_iv1
URL:http://pages.destination.one/de/teutonavigator/streaming/detail/Event/e
 _100963295/2-benkhauser-schlosslauf
END:VEVENT
BEGIN:VTIMEZONE
TZID:Europe/Berlin
X-LIC-LOCATION:Europe/Berlin
BEGIN:DAYLIGHT
DTSTART:19700329T020000
RRULE:FREQ=YEARLY;BYDAY=-1SU;BYMONTH=3
TZNAME:CEST
TZOFFSETFROM:+0100
TZOFFSETTO:+0200
END:DAYLIGHT
BEGIN:STANDARD
DTSTART:19701025T030000
RRULE:FREQ=YEARLY;BYDAY=-1SU;BYMONTH=10
TZNAME:CET
TZOFFSETFROM:+0200
TZOFFSETTO:+0100
END:STANDARD
END:VTIMEZONE
END:VCALENDAR
