BEGIN:VCALENDAR
VERSION:2.0
PRODID:-//destination.one//NONSGML destination.meta API//DE
X-WR-CALDESC:A calendar powered by destination.meta
X-WR-CALNAME:teutonavigator Kalender via destination.meta
BEGIN:VEVENT
CATEGORIES:Markt
CATEGORIES:Genuss/Gourmet
DESCRIPTION:Genießen\, kaufen und klönen auf dem Feierabend-Markt in Werthe
 r (Westf.)\n\nmehr Informationen unter http://pages.destination.one/de/teu
 tonavigator/streaming/detail/Event/e_100958560/feierabend-markt
DTEND;TZID=Europe/Berlin:20250603T200000
DTSTAMP:20260421T140151Z
DTSTART;TZID=Europe/Berlin:20250603T160000
GEO:52.073787;8.414826
LOCATION:C.-F.-Venghauss-Platz\, C.-F-Venghauss-Platz\, Werther (Westf.)
PRIORITY:4
SEQUENCE:0
SUMMARY:Feierabend-Markt
UID:e_100958560_iv0
URL:http://pages.destination.one/de/teutonavigator/streaming/detail/Event/e
 _100958560/feierabend-markt
END:VEVENT
BEGIN:VEVENT
CATEGORIES:Markt
CATEGORIES:Genuss/Gourmet
DESCRIPTION:Genießen\, kaufen und klönen auf dem Feierabend-Markt in Werthe
 r (Westf.)\n\nmehr Informationen unter http://pages.destination.one/de/teu
 tonavigator/streaming/detail/Event/e_100958560/feierabend-markt
DTEND;TZID=Europe/Berlin:20250722T200000
DTSTAMP:20260421T140151Z
DTSTART;TZID=Europe/Berlin:20250722T160000
GEO:52.073787;8.414826
LOCATION:C.-F.-Venghauss-Platz\, C.-F-Venghauss-Platz\, Werther (Westf.)
PRIORITY:4
SEQUENCE:0
SUMMARY:Feierabend-Markt
UID:e_100958560_iv1
URL:http://pages.destination.one/de/teutonavigator/streaming/detail/Event/e
 _100958560/feierabend-markt
END:VEVENT
BEGIN:VEVENT
CATEGORIES:Markt
CATEGORIES:Genuss/Gourmet
DESCRIPTION:Genießen\, kaufen und klönen auf dem Feierabend-Markt in Werthe
 r (Westf.)\n\nmehr Informationen unter http://pages.destination.one/de/teu
 tonavigator/streaming/detail/Event/e_100958560/feierabend-markt
DTEND;TZID=Europe/Berlin:20250902T200000
DTSTAMP:20260421T140151Z
DTSTART;TZID=Europe/Berlin:20250902T160000
GEO:52.073787;8.414826
LOCATION:C.-F.-Venghauss-Platz\, C.-F-Venghauss-Platz\, Werther (Westf.)
PRIORITY:4
SEQUENCE:0
SUMMARY:Feierabend-Markt
UID:e_100958560_iv2
URL:http://pages.destination.one/de/teutonavigator/streaming/detail/Event/e
 _100958560/feierabend-markt
END:VEVENT
BEGIN:VEVENT
CATEGORIES:Markt
CATEGORIES:Genuss/Gourmet
DESCRIPTION:Genießen\, kaufen und klönen auf dem Feierabend-Markt in Werthe
 r (Westf.)\n\nmehr Informationen unter http://pages.destination.one/de/teu
 tonavigator/streaming/detail/Event/e_100958560/feierabend-markt
DTEND;TZID=Europe/Berlin:20260609T200000
DTSTAMP:20260421T140151Z
DTSTART;TZID=Europe/Berlin:20260609T160000
GEO:52.073787;8.414826
LOCATION:C.-F.-Venghauss-Platz\, C.-F-Venghauss-Platz\, Werther (Westf.)
PRIORITY:4
SEQUENCE:0
SUMMARY:Feierabend-Markt
UID:e_100958560_iv3
URL:http://pages.destination.one/de/teutonavigator/streaming/detail/Event/e
 _100958560/feierabend-markt
END:VEVENT
BEGIN:VEVENT
CATEGORIES:Markt
CATEGORIES:Genuss/Gourmet
DESCRIPTION:Genießen\, kaufen und klönen auf dem Feierabend-Markt in Werthe
 r (Westf.)\n\nmehr Informationen unter http://pages.destination.one/de/teu
 tonavigator/streaming/detail/Event/e_100958560/feierabend-markt
DTEND;TZID=Europe/Berlin:20260728T200000
DTSTAMP:20260421T140151Z
DTSTART;TZID=Europe/Berlin:20260728T160000
GEO:52.073787;8.414826
LOCATION:C.-F.-Venghauss-Platz\, C.-F-Venghauss-Platz\, Werther (Westf.)
PRIORITY:4
SEQUENCE:0
SUMMARY:Feierabend-Markt
UID:e_100958560_iv4
URL:http://pages.destination.one/de/teutonavigator/streaming/detail/Event/e
 _100958560/feierabend-markt
END:VEVENT
BEGIN:VEVENT
CATEGORIES:Markt
CATEGORIES:Genuss/Gourmet
DESCRIPTION:Genießen\, kaufen und klönen auf dem Feierabend-Markt in Werthe
 r (Westf.)\n\nmehr Informationen unter http://pages.destination.one/de/teu
 tonavigator/streaming/detail/Event/e_100958560/feierabend-markt
DTEND;TZID=Europe/Berlin:20260915T200000
DTSTAMP:20260421T140151Z
DTSTART;TZID=Europe/Berlin:20260915T160000
GEO:52.073787;8.414826
LOCATION:C.-F.-Venghauss-Platz\, C.-F-Venghauss-Platz\, Werther (Westf.)
PRIORITY:4
SEQUENCE:0
SUMMARY:Feierabend-Markt
UID:e_100958560_iv5
URL:http://pages.destination.one/de/teutonavigator/streaming/detail/Event/e
 _100958560/feierabend-markt
END:VEVENT
BEGIN:VTIMEZONE
TZID:Europe/Berlin
X-LIC-LOCATION:Europe/Berlin
BEGIN:DAYLIGHT
DTSTART:19700329T020000
RRULE:FREQ=YEARLY;BYDAY=-1SU;BYMONTH=3
TZNAME:CEST
TZOFFSETFROM:+0100
TZOFFSETTO:+0200
END:DAYLIGHT
BEGIN:STANDARD
DTSTART:19701025T030000
RRULE:FREQ=YEARLY;BYDAY=-1SU;BYMONTH=10
TZNAME:CET
TZOFFSETFROM:+0200
TZOFFSETTO:+0100
END:STANDARD
END:VTIMEZONE
END:VCALENDAR
