BEGIN:VCALENDAR
VERSION:2.0
PRODID:-//destination.one//NONSGML destination.meta API//DE
X-WR-CALDESC:A calendar powered by destination.meta
X-WR-CALNAME:teutonavigator Kalender via destination.meta
BEGIN:VEVENT
CATEGORIES:Markt
CATEGORIES:Ausstellung
CATEGORIES:Sonstiges
DESCRIPTION:\n\nmehr Informationen unter http://pages.destination.one/de/te
 utonavigator/streaming/detail/Event/e_100942524/antikmarkt
DTEND;TZID=Europe/Berlin:20260221T170000
DTSTAMP:20260421T191921Z
DTSTART;TZID=Europe/Berlin:20260221T100000
GEO:51.856872;8.556683
LOCATION:Ostwestfalenhalle\, Paderborner Straße 408\, Verl
ORGANIZER;CN=Eventtime otto:mailto:info@eventtime-otto.de
SEQUENCE:0
SUMMARY:Antikmarkt
UID:e_100942524_iv0
URL:http://pages.destination.one/de/teutonavigator/streaming/detail/Event/e
 _100942524/antikmarkt
END:VEVENT
BEGIN:VEVENT
CATEGORIES:Markt
CATEGORIES:Ausstellung
CATEGORIES:Sonstiges
DESCRIPTION:\n\nmehr Informationen unter http://pages.destination.one/de/te
 utonavigator/streaming/detail/Event/e_100942524/antikmarkt
DTEND;TZID=Europe/Berlin:20260222T163000
DTSTAMP:20260421T191921Z
DTSTART;TZID=Europe/Berlin:20260222T100000
GEO:51.856872;8.556683
LOCATION:Ostwestfalenhalle\, Paderborner Straße 408\, Verl
ORGANIZER;CN=Eventtime otto:mailto:info@eventtime-otto.de
SEQUENCE:0
SUMMARY:Antikmarkt
UID:e_100942524_iv1
URL:http://pages.destination.one/de/teutonavigator/streaming/detail/Event/e
 _100942524/antikmarkt
END:VEVENT
BEGIN:VEVENT
CATEGORIES:Markt
CATEGORIES:Ausstellung
CATEGORIES:Sonstiges
DESCRIPTION:\n\nmehr Informationen unter http://pages.destination.one/de/te
 utonavigator/streaming/detail/Event/e_100942524/antikmarkt
DTEND;TZID=Europe/Berlin:20261017T170000
DTSTAMP:20260421T191921Z
DTSTART;TZID=Europe/Berlin:20261017T100000
GEO:51.856872;8.556683
LOCATION:Ostwestfalenhalle\, Paderborner Straße 408\, Verl
ORGANIZER;CN=Eventtime otto:mailto:info@eventtime-otto.de
SEQUENCE:0
SUMMARY:Antikmarkt
UID:e_100942524_iv2
URL:http://pages.destination.one/de/teutonavigator/streaming/detail/Event/e
 _100942524/antikmarkt
END:VEVENT
BEGIN:VEVENT
CATEGORIES:Markt
CATEGORIES:Ausstellung
CATEGORIES:Sonstiges
DESCRIPTION:\n\nmehr Informationen unter http://pages.destination.one/de/te
 utonavigator/streaming/detail/Event/e_100942524/antikmarkt
DTEND;TZID=Europe/Berlin:20261018T163000
DTSTAMP:20260421T191921Z
DTSTART;TZID=Europe/Berlin:20261018T100000
GEO:51.856872;8.556683
LOCATION:Ostwestfalenhalle\, Paderborner Straße 408\, Verl
ORGANIZER;CN=Eventtime otto:mailto:info@eventtime-otto.de
SEQUENCE:0
SUMMARY:Antikmarkt
UID:e_100942524_iv3
URL:http://pages.destination.one/de/teutonavigator/streaming/detail/Event/e
 _100942524/antikmarkt
END:VEVENT
BEGIN:VEVENT
CATEGORIES:Markt
CATEGORIES:Ausstellung
CATEGORIES:Sonstiges
DESCRIPTION:\n\nmehr Informationen unter http://pages.destination.one/de/te
 utonavigator/streaming/detail/Event/e_100942524/antikmarkt
DTEND;TZID=Europe/Berlin:20261128T170000
DTSTAMP:20260421T191921Z
DTSTART;TZID=Europe/Berlin:20261128T100000
GEO:51.856872;8.556683
LOCATION:Ostwestfalenhalle\, Paderborner Straße 408\, Verl
ORGANIZER;CN=Eventtime otto:mailto:info@eventtime-otto.de
SEQUENCE:0
SUMMARY:Antikmarkt
UID:e_100942524_iv4
URL:http://pages.destination.one/de/teutonavigator/streaming/detail/Event/e
 _100942524/antikmarkt
END:VEVENT
BEGIN:VTIMEZONE
TZID:Europe/Berlin
X-LIC-LOCATION:Europe/Berlin
BEGIN:DAYLIGHT
DTSTART:19700329T020000
RRULE:FREQ=YEARLY;BYDAY=-1SU;BYMONTH=3
TZNAME:CEST
TZOFFSETFROM:+0100
TZOFFSETTO:+0200
END:DAYLIGHT
BEGIN:STANDARD
DTSTART:19701025T030000
RRULE:FREQ=YEARLY;BYDAY=-1SU;BYMONTH=10
TZNAME:CET
TZOFFSETFROM:+0200
TZOFFSETTO:+0100
END:STANDARD
END:VTIMEZONE
END:VCALENDAR
