BEGIN:VCALENDAR
VERSION:2.0
PRODID:-//destination.one//NONSGML destination.meta API//DE
X-WR-CALDESC:A calendar powered by destination.meta
X-WR-CALNAME:teutonavigator Kalender via destination.meta
BEGIN:VEVENT
CATEGORIES:Ausstellung
CATEGORIES:Markt
DESCRIPTION:\n\nmehr Informationen unter http://pages.destination.one/de/te
 utonavigator/streaming/detail/Event/e_100942517/hobbymarkt
DTEND;TZID=Europe/Berlin:20260502T140000
DTSTAMP:20260421T174140Z
DTSTART;TZID=Europe/Berlin:20260502T060000
GEO:51.856872;8.556683
LOCATION:Ostwestfalenhalle\, Paderborner Straße 408\, Verl
ORGANIZER;CN=Stadt Verl:mailto:kontakt@verl.de
SEQUENCE:0
SUMMARY:Hobbymarkt
UID:e_100942517_iv0
URL:http://pages.destination.one/de/teutonavigator/streaming/detail/Event/e
 _100942517/hobbymarkt
END:VEVENT
BEGIN:VEVENT
CATEGORIES:Ausstellung
CATEGORIES:Markt
DESCRIPTION:\n\nmehr Informationen unter http://pages.destination.one/de/te
 utonavigator/streaming/detail/Event/e_100942517/hobbymarkt
DTEND;TZID=Europe/Berlin:20260606T140000
DTSTAMP:20260421T174140Z
DTSTART;TZID=Europe/Berlin:20260606T060000
GEO:51.856872;8.556683
LOCATION:Ostwestfalenhalle\, Paderborner Straße 408\, Verl
ORGANIZER;CN=Stadt Verl:mailto:kontakt@verl.de
SEQUENCE:0
SUMMARY:Hobbymarkt
UID:e_100942517_iv1
URL:http://pages.destination.one/de/teutonavigator/streaming/detail/Event/e
 _100942517/hobbymarkt
END:VEVENT
BEGIN:VEVENT
CATEGORIES:Ausstellung
CATEGORIES:Markt
DESCRIPTION:\n\nmehr Informationen unter http://pages.destination.one/de/te
 utonavigator/streaming/detail/Event/e_100942517/hobbymarkt
DTEND;TZID=Europe/Berlin:20260704T140000
DTSTAMP:20260421T174140Z
DTSTART;TZID=Europe/Berlin:20260704T060000
GEO:51.856872;8.556683
LOCATION:Ostwestfalenhalle\, Paderborner Straße 408\, Verl
ORGANIZER;CN=Stadt Verl:mailto:kontakt@verl.de
SEQUENCE:0
SUMMARY:Hobbymarkt
UID:e_100942517_iv2
URL:http://pages.destination.one/de/teutonavigator/streaming/detail/Event/e
 _100942517/hobbymarkt
END:VEVENT
BEGIN:VEVENT
CATEGORIES:Ausstellung
CATEGORIES:Markt
DESCRIPTION:\n\nmehr Informationen unter http://pages.destination.one/de/te
 utonavigator/streaming/detail/Event/e_100942517/hobbymarkt
DTEND;TZID=Europe/Berlin:20260801T140000
DTSTAMP:20260421T174140Z
DTSTART;TZID=Europe/Berlin:20260801T060000
GEO:51.856872;8.556683
LOCATION:Ostwestfalenhalle\, Paderborner Straße 408\, Verl
ORGANIZER;CN=Stadt Verl:mailto:kontakt@verl.de
SEQUENCE:0
SUMMARY:Hobbymarkt
UID:e_100942517_iv3
URL:http://pages.destination.one/de/teutonavigator/streaming/detail/Event/e
 _100942517/hobbymarkt
END:VEVENT
BEGIN:VEVENT
CATEGORIES:Ausstellung
CATEGORIES:Markt
DESCRIPTION:\n\nmehr Informationen unter http://pages.destination.one/de/te
 utonavigator/streaming/detail/Event/e_100942517/hobbymarkt
DTEND;TZID=Europe/Berlin:20260905T140000
DTSTAMP:20260421T174140Z
DTSTART;TZID=Europe/Berlin:20260905T060000
GEO:51.856872;8.556683
LOCATION:Ostwestfalenhalle\, Paderborner Straße 408\, Verl
ORGANIZER;CN=Stadt Verl:mailto:kontakt@verl.de
SEQUENCE:0
SUMMARY:Hobbymarkt
UID:e_100942517_iv4
URL:http://pages.destination.one/de/teutonavigator/streaming/detail/Event/e
 _100942517/hobbymarkt
END:VEVENT
BEGIN:VEVENT
CATEGORIES:Ausstellung
CATEGORIES:Markt
DESCRIPTION:\n\nmehr Informationen unter http://pages.destination.one/de/te
 utonavigator/streaming/detail/Event/e_100942517/hobbymarkt
DTEND;TZID=Europe/Berlin:20261010T140000
DTSTAMP:20260421T174140Z
DTSTART;TZID=Europe/Berlin:20261010T060000
GEO:51.856872;8.556683
LOCATION:Ostwestfalenhalle\, Paderborner Straße 408\, Verl
ORGANIZER;CN=Stadt Verl:mailto:kontakt@verl.de
SEQUENCE:0
SUMMARY:Hobbymarkt
UID:e_100942517_iv5
URL:http://pages.destination.one/de/teutonavigator/streaming/detail/Event/e
 _100942517/hobbymarkt
END:VEVENT
BEGIN:VEVENT
CATEGORIES:Ausstellung
CATEGORIES:Markt
DESCRIPTION:\n\nmehr Informationen unter http://pages.destination.one/de/te
 utonavigator/streaming/detail/Event/e_100942517/hobbymarkt
DTEND;TZID=Europe/Berlin:20261107T140000
DTSTAMP:20260421T174140Z
DTSTART;TZID=Europe/Berlin:20261107T060000
GEO:51.856872;8.556683
LOCATION:Ostwestfalenhalle\, Paderborner Straße 408\, Verl
ORGANIZER;CN=Stadt Verl:mailto:kontakt@verl.de
SEQUENCE:0
SUMMARY:Hobbymarkt
UID:e_100942517_iv6
URL:http://pages.destination.one/de/teutonavigator/streaming/detail/Event/e
 _100942517/hobbymarkt
END:VEVENT
BEGIN:VEVENT
CATEGORIES:Ausstellung
CATEGORIES:Markt
DESCRIPTION:\n\nmehr Informationen unter http://pages.destination.one/de/te
 utonavigator/streaming/detail/Event/e_100942517/hobbymarkt
DTEND;TZID=Europe/Berlin:20261205T140000
DTSTAMP:20260421T174140Z
DTSTART;TZID=Europe/Berlin:20261205T060000
GEO:51.856872;8.556683
LOCATION:Ostwestfalenhalle\, Paderborner Straße 408\, Verl
ORGANIZER;CN=Stadt Verl:mailto:kontakt@verl.de
SEQUENCE:0
SUMMARY:Hobbymarkt
UID:e_100942517_iv7
URL:http://pages.destination.one/de/teutonavigator/streaming/detail/Event/e
 _100942517/hobbymarkt
END:VEVENT
BEGIN:VTIMEZONE
TZID:Europe/Berlin
X-LIC-LOCATION:Europe/Berlin
BEGIN:DAYLIGHT
DTSTART:19700329T020000
RRULE:FREQ=YEARLY;BYDAY=-1SU;BYMONTH=3
TZNAME:CEST
TZOFFSETFROM:+0100
TZOFFSETTO:+0200
END:DAYLIGHT
BEGIN:STANDARD
DTSTART:19701025T030000
RRULE:FREQ=YEARLY;BYDAY=-1SU;BYMONTH=10
TZNAME:CET
TZOFFSETFROM:+0200
TZOFFSETTO:+0100
END:STANDARD
END:VTIMEZONE
END:VCALENDAR
