BEGIN:VCALENDAR
VERSION:2.0
PRODID:-//destination.one//NONSGML destination.meta API//DE
X-WR-CALDESC:A calendar powered by destination.meta
X-WR-CALNAME:teutonavigator Kalender via destination.meta
BEGIN:VEVENT
CATEGORIES:Sport/Freizeit
DESCRIPTION:\n\nmehr Informationen unter http://pages.destination.one/de/te
 utonavigator/streaming/detail/Event/e_100922015/heimspiel-der-paderborn-ba
 skets
DTEND;TZID=Europe/Berlin:20241026T235900
DTSTAMP:20260422T144049Z
DTSTART;TZID=Europe/Berlin:20241026T193000
GEO:51.724656;8.752992
LOCATION:Sportzentrum Maspernplatz (Maspernhalle)\, Schützenweg 1b\, Paderb
 orn
ORGANIZER;CN=Paderborn Baskets 91 e.V.:mailto:info@paderborn-baskets.de
PRIORITY:4
SEQUENCE:0
SUMMARY:Heimspiel der Paderborn Baskets
UID:e_100922015_iv0
URL:http://pages.destination.one/de/teutonavigator/streaming/detail/Event/e
 _100922015/heimspiel-der-paderborn-baskets
END:VEVENT
BEGIN:VEVENT
CATEGORIES:Sport/Freizeit
DESCRIPTION:\n\nmehr Informationen unter http://pages.destination.one/de/te
 utonavigator/streaming/detail/Event/e_100922015/heimspiel-der-paderborn-ba
 skets
DTEND;TZID=Europe/Berlin:20241109T235900
DTSTAMP:20260422T144049Z
DTSTART;TZID=Europe/Berlin:20241109T193000
GEO:51.724656;8.752992
LOCATION:Sportzentrum Maspernplatz (Maspernhalle)\, Schützenweg 1b\, Paderb
 orn
ORGANIZER;CN=Paderborn Baskets 91 e.V.:mailto:info@paderborn-baskets.de
PRIORITY:4
SEQUENCE:0
SUMMARY:Heimspiel der Paderborn Baskets
UID:e_100922015_iv1
URL:http://pages.destination.one/de/teutonavigator/streaming/detail/Event/e
 _100922015/heimspiel-der-paderborn-baskets
END:VEVENT
BEGIN:VEVENT
CATEGORIES:Sport/Freizeit
DESCRIPTION:\n\nmehr Informationen unter http://pages.destination.one/de/te
 utonavigator/streaming/detail/Event/e_100922015/heimspiel-der-paderborn-ba
 skets
DTEND;TZID=Europe/Berlin:20241130T235900
DTSTAMP:20260422T144049Z
DTSTART;TZID=Europe/Berlin:20241130T193000
GEO:51.724656;8.752992
LOCATION:Sportzentrum Maspernplatz (Maspernhalle)\, Schützenweg 1b\, Paderb
 orn
ORGANIZER;CN=Paderborn Baskets 91 e.V.:mailto:info@paderborn-baskets.de
PRIORITY:4
SEQUENCE:0
SUMMARY:Heimspiel der Paderborn Baskets
UID:e_100922015_iv2
URL:http://pages.destination.one/de/teutonavigator/streaming/detail/Event/e
 _100922015/heimspiel-der-paderborn-baskets
END:VEVENT
BEGIN:VEVENT
CATEGORIES:Sport/Freizeit
DESCRIPTION:\n\nmehr Informationen unter http://pages.destination.one/de/te
 utonavigator/streaming/detail/Event/e_100922015/heimspiel-der-paderborn-ba
 skets
DTEND;TZID=Europe/Berlin:20241220T235900
DTSTAMP:20260422T144049Z
DTSTART;TZID=Europe/Berlin:20241220T193000
GEO:51.724656;8.752992
LOCATION:Sportzentrum Maspernplatz (Maspernhalle)\, Schützenweg 1b\, Paderb
 orn
ORGANIZER;CN=Paderborn Baskets 91 e.V.:mailto:info@paderborn-baskets.de
PRIORITY:4
SEQUENCE:0
SUMMARY:Heimspiel der Paderborn Baskets
UID:e_100922015_iv3
URL:http://pages.destination.one/de/teutonavigator/streaming/detail/Event/e
 _100922015/heimspiel-der-paderborn-baskets
END:VEVENT
BEGIN:VEVENT
CATEGORIES:Sport/Freizeit
DESCRIPTION:\n\nmehr Informationen unter http://pages.destination.one/de/te
 utonavigator/streaming/detail/Event/e_100922015/heimspiel-der-paderborn-ba
 skets
DTEND;TZID=Europe/Berlin:20250118T235900
DTSTAMP:20260422T144049Z
DTSTART;TZID=Europe/Berlin:20250118T193000
GEO:51.724656;8.752992
LOCATION:Sportzentrum Maspernplatz (Maspernhalle)\, Schützenweg 1b\, Paderb
 orn
ORGANIZER;CN=Paderborn Baskets 91 e.V.:mailto:info@paderborn-baskets.de
PRIORITY:4
SEQUENCE:0
SUMMARY:Heimspiel der Paderborn Baskets
UID:e_100922015_iv4
URL:http://pages.destination.one/de/teutonavigator/streaming/detail/Event/e
 _100922015/heimspiel-der-paderborn-baskets
END:VEVENT
BEGIN:VEVENT
CATEGORIES:Sport/Freizeit
DESCRIPTION:\n\nmehr Informationen unter http://pages.destination.one/de/te
 utonavigator/streaming/detail/Event/e_100922015/heimspiel-der-paderborn-ba
 skets
DTEND;TZID=Europe/Berlin:20250201T235900
DTSTAMP:20260422T144049Z
DTSTART;TZID=Europe/Berlin:20250201T193000
GEO:51.724656;8.752992
LOCATION:Sportzentrum Maspernplatz (Maspernhalle)\, Schützenweg 1b\, Paderb
 orn
ORGANIZER;CN=Paderborn Baskets 91 e.V.:mailto:info@paderborn-baskets.de
PRIORITY:4
SEQUENCE:0
SUMMARY:Heimspiel der Paderborn Baskets
UID:e_100922015_iv5
URL:http://pages.destination.one/de/teutonavigator/streaming/detail/Event/e
 _100922015/heimspiel-der-paderborn-baskets
END:VEVENT
BEGIN:VEVENT
CATEGORIES:Sport/Freizeit
DESCRIPTION:\n\nmehr Informationen unter http://pages.destination.one/de/te
 utonavigator/streaming/detail/Event/e_100922015/heimspiel-der-paderborn-ba
 skets
DTEND;TZID=Europe/Berlin:20250215T235900
DTSTAMP:20260422T144049Z
DTSTART;TZID=Europe/Berlin:20250215T193000
GEO:51.724656;8.752992
LOCATION:Sportzentrum Maspernplatz (Maspernhalle)\, Schützenweg 1b\, Paderb
 orn
ORGANIZER;CN=Paderborn Baskets 91 e.V.:mailto:info@paderborn-baskets.de
PRIORITY:4
SEQUENCE:0
SUMMARY:Heimspiel der Paderborn Baskets
UID:e_100922015_iv6
URL:http://pages.destination.one/de/teutonavigator/streaming/detail/Event/e
 _100922015/heimspiel-der-paderborn-baskets
END:VEVENT
BEGIN:VEVENT
CATEGORIES:Sport/Freizeit
DESCRIPTION:\n\nmehr Informationen unter http://pages.destination.one/de/te
 utonavigator/streaming/detail/Event/e_100922015/heimspiel-der-paderborn-ba
 skets
DTEND;TZID=Europe/Berlin:20250308T235900
DTSTAMP:20260422T144049Z
DTSTART;TZID=Europe/Berlin:20250308T193000
GEO:51.724656;8.752992
LOCATION:Sportzentrum Maspernplatz (Maspernhalle)\, Schützenweg 1b\, Paderb
 orn
ORGANIZER;CN=Paderborn Baskets 91 e.V.:mailto:info@paderborn-baskets.de
PRIORITY:4
SEQUENCE:0
SUMMARY:Heimspiel der Paderborn Baskets
UID:e_100922015_iv7
URL:http://pages.destination.one/de/teutonavigator/streaming/detail/Event/e
 _100922015/heimspiel-der-paderborn-baskets
END:VEVENT
BEGIN:VEVENT
CATEGORIES:Sport/Freizeit
DESCRIPTION:\n\nmehr Informationen unter http://pages.destination.one/de/te
 utonavigator/streaming/detail/Event/e_100922015/heimspiel-der-paderborn-ba
 skets
DTEND;TZID=Europe/Berlin:20250315T235900
DTSTAMP:20260422T144049Z
DTSTART;TZID=Europe/Berlin:20250315T193000
GEO:51.724656;8.752992
LOCATION:Sportzentrum Maspernplatz (Maspernhalle)\, Schützenweg 1b\, Paderb
 orn
ORGANIZER;CN=Paderborn Baskets 91 e.V.:mailto:info@paderborn-baskets.de
PRIORITY:4
SEQUENCE:0
SUMMARY:Heimspiel der Paderborn Baskets
UID:e_100922015_iv8
URL:http://pages.destination.one/de/teutonavigator/streaming/detail/Event/e
 _100922015/heimspiel-der-paderborn-baskets
END:VEVENT
BEGIN:VEVENT
CATEGORIES:Sport/Freizeit
DESCRIPTION:\n\nmehr Informationen unter http://pages.destination.one/de/te
 utonavigator/streaming/detail/Event/e_100922015/heimspiel-der-paderborn-ba
 skets
DTEND;TZID=Europe/Berlin:20250329T235900
DTSTAMP:20260422T144049Z
DTSTART;TZID=Europe/Berlin:20250329T193000
GEO:51.724656;8.752992
LOCATION:Sportzentrum Maspernplatz (Maspernhalle)\, Schützenweg 1b\, Paderb
 orn
ORGANIZER;CN=Paderborn Baskets 91 e.V.:mailto:info@paderborn-baskets.de
PRIORITY:4
SEQUENCE:0
SUMMARY:Heimspiel der Paderborn Baskets
UID:e_100922015_iv9
URL:http://pages.destination.one/de/teutonavigator/streaming/detail/Event/e
 _100922015/heimspiel-der-paderborn-baskets
END:VEVENT
BEGIN:VEVENT
CATEGORIES:Sport/Freizeit
DESCRIPTION:\n\nmehr Informationen unter http://pages.destination.one/de/te
 utonavigator/streaming/detail/Event/e_100922015/heimspiel-der-paderborn-ba
 skets
DTEND;TZID=Europe/Berlin:20250412T235900
DTSTAMP:20260422T144049Z
DTSTART;TZID=Europe/Berlin:20250412T183000
GEO:51.724656;8.752992
LOCATION:Sportzentrum Maspernplatz (Maspernhalle)\, Schützenweg 1b\, Paderb
 orn
ORGANIZER;CN=Paderborn Baskets 91 e.V.:mailto:info@paderborn-baskets.de
PRIORITY:4
SEQUENCE:0
SUMMARY:Heimspiel der Paderborn Baskets
UID:e_100922015_iv10
URL:http://pages.destination.one/de/teutonavigator/streaming/detail/Event/e
 _100922015/heimspiel-der-paderborn-baskets
END:VEVENT
BEGIN:VEVENT
CATEGORIES:Sport/Freizeit
DESCRIPTION:\n\nmehr Informationen unter http://pages.destination.one/de/te
 utonavigator/streaming/detail/Event/e_100922015/heimspiel-der-paderborn-ba
 skets
DTEND;TZID=Europe/Berlin:20250927T223000
DTSTAMP:20260422T144049Z
DTSTART;TZID=Europe/Berlin:20250927T193000
GEO:51.724656;8.752992
LOCATION:Sportzentrum Maspernplatz (Maspernhalle)\, Schützenweg 1b\, Paderb
 orn
ORGANIZER;CN=Paderborn Baskets 91 e.V.:mailto:info@paderborn-baskets.de
PRIORITY:4
SEQUENCE:0
SUMMARY:Heimspiel der Paderborn Baskets
UID:e_100922015_iv11
URL:http://pages.destination.one/de/teutonavigator/streaming/detail/Event/e
 _100922015/heimspiel-der-paderborn-baskets
END:VEVENT
BEGIN:VEVENT
CATEGORIES:Sport/Freizeit
DESCRIPTION:\n\nmehr Informationen unter http://pages.destination.one/de/te
 utonavigator/streaming/detail/Event/e_100922015/heimspiel-der-paderborn-ba
 skets
DTEND;TZID=Europe/Berlin:20251011T223000
DTSTAMP:20260422T144049Z
DTSTART;TZID=Europe/Berlin:20251011T193000
GEO:51.724656;8.752992
LOCATION:Sportzentrum Maspernplatz (Maspernhalle)\, Schützenweg 1b\, Paderb
 orn
ORGANIZER;CN=Paderborn Baskets 91 e.V.:mailto:info@paderborn-baskets.de
PRIORITY:4
SEQUENCE:0
SUMMARY:Heimspiel der Paderborn Baskets
UID:e_100922015_iv12
URL:http://pages.destination.one/de/teutonavigator/streaming/detail/Event/e
 _100922015/heimspiel-der-paderborn-baskets
END:VEVENT
BEGIN:VEVENT
CATEGORIES:Sport/Freizeit
DESCRIPTION:\n\nmehr Informationen unter http://pages.destination.one/de/te
 utonavigator/streaming/detail/Event/e_100922015/heimspiel-der-paderborn-ba
 skets
DTEND;TZID=Europe/Berlin:20251025T223000
DTSTAMP:20260422T144049Z
DTSTART;TZID=Europe/Berlin:20251025T193000
GEO:51.724656;8.752992
LOCATION:Sportzentrum Maspernplatz (Maspernhalle)\, Schützenweg 1b\, Paderb
 orn
ORGANIZER;CN=Paderborn Baskets 91 e.V.:mailto:info@paderborn-baskets.de
PRIORITY:4
SEQUENCE:0
SUMMARY:Heimspiel der Paderborn Baskets
UID:e_100922015_iv13
URL:http://pages.destination.one/de/teutonavigator/streaming/detail/Event/e
 _100922015/heimspiel-der-paderborn-baskets
END:VEVENT
BEGIN:VEVENT
CATEGORIES:Sport/Freizeit
DESCRIPTION:\n\nmehr Informationen unter http://pages.destination.one/de/te
 utonavigator/streaming/detail/Event/e_100922015/heimspiel-der-paderborn-ba
 skets
DTEND;TZID=Europe/Berlin:20251109T190000
DTSTAMP:20260422T144049Z
DTSTART;TZID=Europe/Berlin:20251109T160000
GEO:51.724656;8.752992
LOCATION:Sportzentrum Maspernplatz (Maspernhalle)\, Schützenweg 1b\, Paderb
 orn
ORGANIZER;CN=Paderborn Baskets 91 e.V.:mailto:info@paderborn-baskets.de
PRIORITY:4
SEQUENCE:0
SUMMARY:Heimspiel der Paderborn Baskets
UID:e_100922015_iv14
URL:http://pages.destination.one/de/teutonavigator/streaming/detail/Event/e
 _100922015/heimspiel-der-paderborn-baskets
END:VEVENT
BEGIN:VEVENT
CATEGORIES:Sport/Freizeit
DESCRIPTION:\n\nmehr Informationen unter http://pages.destination.one/de/te
 utonavigator/streaming/detail/Event/e_100922015/heimspiel-der-paderborn-ba
 skets
DTEND;TZID=Europe/Berlin:20251122T223000
DTSTAMP:20260422T144049Z
DTSTART;TZID=Europe/Berlin:20251122T193000
GEO:51.724656;8.752992
LOCATION:Sportzentrum Maspernplatz (Maspernhalle)\, Schützenweg 1b\, Paderb
 orn
ORGANIZER;CN=Paderborn Baskets 91 e.V.:mailto:info@paderborn-baskets.de
PRIORITY:4
SEQUENCE:0
SUMMARY:Heimspiel der Paderborn Baskets
UID:e_100922015_iv15
URL:http://pages.destination.one/de/teutonavigator/streaming/detail/Event/e
 _100922015/heimspiel-der-paderborn-baskets
END:VEVENT
BEGIN:VEVENT
CATEGORIES:Sport/Freizeit
DESCRIPTION:\n\nmehr Informationen unter http://pages.destination.one/de/te
 utonavigator/streaming/detail/Event/e_100922015/heimspiel-der-paderborn-ba
 skets
DTEND;TZID=Europe/Berlin:20251212T223000
DTSTAMP:20260422T144049Z
DTSTART;TZID=Europe/Berlin:20251212T193000
GEO:51.724656;8.752992
LOCATION:Sportzentrum Maspernplatz (Maspernhalle)\, Schützenweg 1b\, Paderb
 orn
ORGANIZER;CN=Paderborn Baskets 91 e.V.:mailto:info@paderborn-baskets.de
PRIORITY:4
SEQUENCE:0
SUMMARY:Heimspiel der Paderborn Baskets
UID:e_100922015_iv16
URL:http://pages.destination.one/de/teutonavigator/streaming/detail/Event/e
 _100922015/heimspiel-der-paderborn-baskets
END:VEVENT
BEGIN:VEVENT
CATEGORIES:Sport/Freizeit
DESCRIPTION:\n\nmehr Informationen unter http://pages.destination.one/de/te
 utonavigator/streaming/detail/Event/e_100922015/heimspiel-der-paderborn-ba
 skets
DTEND;TZID=Europe/Berlin:20251223T223000
DTSTAMP:20260422T144049Z
DTSTART;TZID=Europe/Berlin:20251223T193000
GEO:51.724656;8.752992
LOCATION:Sportzentrum Maspernplatz (Maspernhalle)\, Schützenweg 1b\, Paderb
 orn
ORGANIZER;CN=Paderborn Baskets 91 e.V.:mailto:info@paderborn-baskets.de
PRIORITY:4
SEQUENCE:0
SUMMARY:Heimspiel der Paderborn Baskets
UID:e_100922015_iv17
URL:http://pages.destination.one/de/teutonavigator/streaming/detail/Event/e
 _100922015/heimspiel-der-paderborn-baskets
END:VEVENT
BEGIN:VEVENT
CATEGORIES:Sport/Freizeit
DESCRIPTION:\n\nmehr Informationen unter http://pages.destination.one/de/te
 utonavigator/streaming/detail/Event/e_100922015/heimspiel-der-paderborn-ba
 skets
DTEND;TZID=Europe/Berlin:20251230T223000
DTSTAMP:20260422T144049Z
DTSTART;TZID=Europe/Berlin:20251230T193000
GEO:51.724656;8.752992
LOCATION:Sportzentrum Maspernplatz (Maspernhalle)\, Schützenweg 1b\, Paderb
 orn
ORGANIZER;CN=Paderborn Baskets 91 e.V.:mailto:info@paderborn-baskets.de
PRIORITY:4
SEQUENCE:0
SUMMARY:Heimspiel der Paderborn Baskets
UID:e_100922015_iv18
URL:http://pages.destination.one/de/teutonavigator/streaming/detail/Event/e
 _100922015/heimspiel-der-paderborn-baskets
END:VEVENT
BEGIN:VEVENT
CATEGORIES:Sport/Freizeit
DESCRIPTION:\n\nmehr Informationen unter http://pages.destination.one/de/te
 utonavigator/streaming/detail/Event/e_100922015/heimspiel-der-paderborn-ba
 skets
DTEND;TZID=Europe/Berlin:20260110T223000
DTSTAMP:20260422T144049Z
DTSTART;TZID=Europe/Berlin:20260110T193000
GEO:51.724656;8.752992
LOCATION:Sportzentrum Maspernplatz (Maspernhalle)\, Schützenweg 1b\, Paderb
 orn
ORGANIZER;CN=Paderborn Baskets 91 e.V.:mailto:info@paderborn-baskets.de
PRIORITY:4
SEQUENCE:0
SUMMARY:Heimspiel der Paderborn Baskets
UID:e_100922015_iv19
URL:http://pages.destination.one/de/teutonavigator/streaming/detail/Event/e
 _100922015/heimspiel-der-paderborn-baskets
END:VEVENT
BEGIN:VEVENT
CATEGORIES:Sport/Freizeit
DESCRIPTION:\n\nmehr Informationen unter http://pages.destination.one/de/te
 utonavigator/streaming/detail/Event/e_100922015/heimspiel-der-paderborn-ba
 skets
DTEND;TZID=Europe/Berlin:20260124T223000
DTSTAMP:20260422T144049Z
DTSTART;TZID=Europe/Berlin:20260124T193000
GEO:51.724656;8.752992
LOCATION:Sportzentrum Maspernplatz (Maspernhalle)\, Schützenweg 1b\, Paderb
 orn
ORGANIZER;CN=Paderborn Baskets 91 e.V.:mailto:info@paderborn-baskets.de
PRIORITY:4
SEQUENCE:0
SUMMARY:Heimspiel der Paderborn Baskets
UID:e_100922015_iv20
URL:http://pages.destination.one/de/teutonavigator/streaming/detail/Event/e
 _100922015/heimspiel-der-paderborn-baskets
END:VEVENT
BEGIN:VEVENT
CATEGORIES:Sport/Freizeit
DESCRIPTION:\n\nmehr Informationen unter http://pages.destination.one/de/te
 utonavigator/streaming/detail/Event/e_100922015/heimspiel-der-paderborn-ba
 skets
DTEND;TZID=Europe/Berlin:20260206T223000
DTSTAMP:20260422T144049Z
DTSTART;TZID=Europe/Berlin:20260206T193000
GEO:51.724656;8.752992
LOCATION:Sportzentrum Maspernplatz (Maspernhalle)\, Schützenweg 1b\, Paderb
 orn
ORGANIZER;CN=Paderborn Baskets 91 e.V.:mailto:info@paderborn-baskets.de
PRIORITY:4
SEQUENCE:0
SUMMARY:Heimspiel der Paderborn Baskets
UID:e_100922015_iv21
URL:http://pages.destination.one/de/teutonavigator/streaming/detail/Event/e
 _100922015/heimspiel-der-paderborn-baskets
END:VEVENT
BEGIN:VEVENT
CATEGORIES:Sport/Freizeit
DESCRIPTION:\n\nmehr Informationen unter http://pages.destination.one/de/te
 utonavigator/streaming/detail/Event/e_100922015/heimspiel-der-paderborn-ba
 skets
DTEND;TZID=Europe/Berlin:20260220T223000
DTSTAMP:20260422T144049Z
DTSTART;TZID=Europe/Berlin:20260220T193000
GEO:51.724656;8.752992
LOCATION:Sportzentrum Maspernplatz (Maspernhalle)\, Schützenweg 1b\, Paderb
 orn
ORGANIZER;CN=Paderborn Baskets 91 e.V.:mailto:info@paderborn-baskets.de
PRIORITY:4
SEQUENCE:0
SUMMARY:Heimspiel der Paderborn Baskets
UID:e_100922015_iv22
URL:http://pages.destination.one/de/teutonavigator/streaming/detail/Event/e
 _100922015/heimspiel-der-paderborn-baskets
END:VEVENT
BEGIN:VEVENT
CATEGORIES:Sport/Freizeit
DESCRIPTION:\n\nmehr Informationen unter http://pages.destination.one/de/te
 utonavigator/streaming/detail/Event/e_100922015/heimspiel-der-paderborn-ba
 skets
DTEND;TZID=Europe/Berlin:20260308T223000
DTSTAMP:20260422T144049Z
DTSTART;TZID=Europe/Berlin:20260308T193000
GEO:51.724656;8.752992
LOCATION:Sportzentrum Maspernplatz (Maspernhalle)\, Schützenweg 1b\, Paderb
 orn
ORGANIZER;CN=Paderborn Baskets 91 e.V.:mailto:info@paderborn-baskets.de
PRIORITY:4
SEQUENCE:0
SUMMARY:Heimspiel der Paderborn Baskets
UID:e_100922015_iv23
URL:http://pages.destination.one/de/teutonavigator/streaming/detail/Event/e
 _100922015/heimspiel-der-paderborn-baskets
END:VEVENT
BEGIN:VEVENT
CATEGORIES:Sport/Freizeit
DESCRIPTION:\n\nmehr Informationen unter http://pages.destination.one/de/te
 utonavigator/streaming/detail/Event/e_100922015/heimspiel-der-paderborn-ba
 skets
DTEND;TZID=Europe/Berlin:20260314T223000
DTSTAMP:20260422T144049Z
DTSTART;TZID=Europe/Berlin:20260314T193000
GEO:51.724656;8.752992
LOCATION:Sportzentrum Maspernplatz (Maspernhalle)\, Schützenweg 1b\, Paderb
 orn
ORGANIZER;CN=Paderborn Baskets 91 e.V.:mailto:info@paderborn-baskets.de
PRIORITY:4
SEQUENCE:0
SUMMARY:Heimspiel der Paderborn Baskets
UID:e_100922015_iv24
URL:http://pages.destination.one/de/teutonavigator/streaming/detail/Event/e
 _100922015/heimspiel-der-paderborn-baskets
END:VEVENT
BEGIN:VEVENT
CATEGORIES:Sport/Freizeit
DESCRIPTION:\n\nmehr Informationen unter http://pages.destination.one/de/te
 utonavigator/streaming/detail/Event/e_100922015/heimspiel-der-paderborn-ba
 skets
DTEND;TZID=Europe/Berlin:20260328T223000
DTSTAMP:20260422T144049Z
DTSTART;TZID=Europe/Berlin:20260328T193000
GEO:51.724656;8.752992
LOCATION:Sportzentrum Maspernplatz (Maspernhalle)\, Schützenweg 1b\, Paderb
 orn
ORGANIZER;CN=Paderborn Baskets 91 e.V.:mailto:info@paderborn-baskets.de
PRIORITY:4
SEQUENCE:0
SUMMARY:Heimspiel der Paderborn Baskets
UID:e_100922015_iv25
URL:http://pages.destination.one/de/teutonavigator/streaming/detail/Event/e
 _100922015/heimspiel-der-paderborn-baskets
END:VEVENT
BEGIN:VEVENT
CATEGORIES:Sport/Freizeit
DESCRIPTION:\n\nmehr Informationen unter http://pages.destination.one/de/te
 utonavigator/streaming/detail/Event/e_100922015/heimspiel-der-paderborn-ba
 skets
DTEND;TZID=Europe/Berlin:20260411T223000
DTSTAMP:20260422T144049Z
DTSTART;TZID=Europe/Berlin:20260411T193000
GEO:51.724656;8.752992
LOCATION:Sportzentrum Maspernplatz (Maspernhalle)\, Schützenweg 1b\, Paderb
 orn
ORGANIZER;CN=Paderborn Baskets 91 e.V.:mailto:info@paderborn-baskets.de
PRIORITY:4
SEQUENCE:0
SUMMARY:Heimspiel der Paderborn Baskets
UID:e_100922015_iv26
URL:http://pages.destination.one/de/teutonavigator/streaming/detail/Event/e
 _100922015/heimspiel-der-paderborn-baskets
END:VEVENT
BEGIN:VEVENT
CATEGORIES:Sport/Freizeit
DESCRIPTION:\n\nmehr Informationen unter http://pages.destination.one/de/te
 utonavigator/streaming/detail/Event/e_100922015/heimspiel-der-paderborn-ba
 skets
DTEND;TZID=Europe/Berlin:20260425T223000
DTSTAMP:20260422T144049Z
DTSTART;TZID=Europe/Berlin:20260425T193000
GEO:51.724656;8.752992
LOCATION:Sportzentrum Maspernplatz (Maspernhalle)\, Schützenweg 1b\, Paderb
 orn
ORGANIZER;CN=Paderborn Baskets 91 e.V.:mailto:info@paderborn-baskets.de
PRIORITY:4
SEQUENCE:0
SUMMARY:Heimspiel der Paderborn Baskets
UID:e_100922015_iv27
URL:http://pages.destination.one/de/teutonavigator/streaming/detail/Event/e
 _100922015/heimspiel-der-paderborn-baskets
END:VEVENT
BEGIN:VTIMEZONE
TZID:Europe/Berlin
X-LIC-LOCATION:Europe/Berlin
BEGIN:DAYLIGHT
DTSTART:19700329T020000
RRULE:FREQ=YEARLY;BYDAY=-1SU;BYMONTH=3
TZNAME:CEST
TZOFFSETFROM:+0100
TZOFFSETTO:+0200
END:DAYLIGHT
BEGIN:STANDARD
DTSTART:19701025T030000
RRULE:FREQ=YEARLY;BYDAY=-1SU;BYMONTH=10
TZNAME:CET
TZOFFSETFROM:+0200
TZOFFSETTO:+0100
END:STANDARD
END:VTIMEZONE
END:VCALENDAR
