BEGIN:VCALENDAR
VERSION:2.0
PRODID:-//destination.one//NONSGML destination.meta API//DE
X-WR-CALDESC:A calendar powered by destination.meta
X-WR-CALNAME:teutonavigator Kalender via destination.meta
BEGIN:VEVENT
CATEGORIES:Gesundheit/Wellness
DESCRIPTION:ROMANTISCHES KERZENLICHT // ILLUMINATION // MEDITATIVE MUSIK //
  ENTSPANNENDE KLÄNGEErleben Sie den Zauber der Lichter und gönnen Sie sich
  eine Auszeit vom Alltag!\n\nmehr Informationen unter http://pages.destina
 tion.one/de/teutonavigator/streaming/detail/Event/e_100921889/lichterzaube
 r
DTEND;TZID=Europe/Berlin:20241027T213000
DTSTAMP:20260422T100824Z
DTSTART;TZID=Europe/Berlin:20241027T190000
GEO:52.379573;8.628592
LOCATION:Freizeitbad Atoll\, Trakehner Straße 9\, Espelkamp
ORGANIZER;CN=Atoll Freizeitbad - Aquapark Management GmbH:mailto:info@atoll
 -espelkamp.de
SEQUENCE:0
SUMMARY:Lichterzauber
UID:e_100921889_iv0
URL:http://pages.destination.one/de/teutonavigator/streaming/detail/Event/e
 _100921889/lichterzauber
END:VEVENT
BEGIN:VEVENT
CATEGORIES:Gesundheit/Wellness
DESCRIPTION:ROMANTISCHES KERZENLICHT // ILLUMINATION // MEDITATIVE MUSIK //
  ENTSPANNENDE KLÄNGEErleben Sie den Zauber der Lichter und gönnen Sie sich
  eine Auszeit vom Alltag!\n\nmehr Informationen unter http://pages.destina
 tion.one/de/teutonavigator/streaming/detail/Event/e_100921889/lichterzaube
 r
DTEND;TZID=Europe/Berlin:20241124T213000
DTSTAMP:20260422T100824Z
DTSTART;TZID=Europe/Berlin:20241124T190000
GEO:52.379573;8.628592
LOCATION:Freizeitbad Atoll\, Trakehner Straße 9\, Espelkamp
ORGANIZER;CN=Atoll Freizeitbad - Aquapark Management GmbH:mailto:info@atoll
 -espelkamp.de
SEQUENCE:0
SUMMARY:Lichterzauber
UID:e_100921889_iv1
URL:http://pages.destination.one/de/teutonavigator/streaming/detail/Event/e
 _100921889/lichterzauber
END:VEVENT
BEGIN:VEVENT
CATEGORIES:Gesundheit/Wellness
DESCRIPTION:ROMANTISCHES KERZENLICHT // ILLUMINATION // MEDITATIVE MUSIK //
  ENTSPANNENDE KLÄNGEErleben Sie den Zauber der Lichter und gönnen Sie sich
  eine Auszeit vom Alltag!\n\nmehr Informationen unter http://pages.destina
 tion.one/de/teutonavigator/streaming/detail/Event/e_100921889/lichterzaube
 r
DTEND;TZID=Europe/Berlin:20241229T213000
DTSTAMP:20260422T100824Z
DTSTART;TZID=Europe/Berlin:20241229T190000
GEO:52.379573;8.628592
LOCATION:Freizeitbad Atoll\, Trakehner Straße 9\, Espelkamp
ORGANIZER;CN=Atoll Freizeitbad - Aquapark Management GmbH:mailto:info@atoll
 -espelkamp.de
SEQUENCE:0
SUMMARY:Lichterzauber
UID:e_100921889_iv2
URL:http://pages.destination.one/de/teutonavigator/streaming/detail/Event/e
 _100921889/lichterzauber
END:VEVENT
BEGIN:VEVENT
CATEGORIES:Gesundheit/Wellness
DESCRIPTION:ROMANTISCHES KERZENLICHT // ILLUMINATION // MEDITATIVE MUSIK //
  ENTSPANNENDE KLÄNGEErleben Sie den Zauber der Lichter und gönnen Sie sich
  eine Auszeit vom Alltag!\n\nmehr Informationen unter http://pages.destina
 tion.one/de/teutonavigator/streaming/detail/Event/e_100921889/lichterzaube
 r
DTEND;TZID=Europe/Berlin:20250126T213000
DTSTAMP:20260422T100824Z
DTSTART;TZID=Europe/Berlin:20250126T190000
GEO:52.379573;8.628592
LOCATION:Freizeitbad Atoll\, Trakehner Straße 9\, Espelkamp
ORGANIZER;CN=Atoll Freizeitbad - Aquapark Management GmbH:mailto:info@atoll
 -espelkamp.de
SEQUENCE:0
SUMMARY:Lichterzauber
UID:e_100921889_iv3
URL:http://pages.destination.one/de/teutonavigator/streaming/detail/Event/e
 _100921889/lichterzauber
END:VEVENT
BEGIN:VEVENT
CATEGORIES:Gesundheit/Wellness
DESCRIPTION:ROMANTISCHES KERZENLICHT // ILLUMINATION // MEDITATIVE MUSIK //
  ENTSPANNENDE KLÄNGEErleben Sie den Zauber der Lichter und gönnen Sie sich
  eine Auszeit vom Alltag!\n\nmehr Informationen unter http://pages.destina
 tion.one/de/teutonavigator/streaming/detail/Event/e_100921889/lichterzaube
 r
DTEND;TZID=Europe/Berlin:20250223T213000
DTSTAMP:20260422T100824Z
DTSTART;TZID=Europe/Berlin:20250223T190000
GEO:52.379573;8.628592
LOCATION:Freizeitbad Atoll\, Trakehner Straße 9\, Espelkamp
ORGANIZER;CN=Atoll Freizeitbad - Aquapark Management GmbH:mailto:info@atoll
 -espelkamp.de
SEQUENCE:0
SUMMARY:Lichterzauber
UID:e_100921889_iv4
URL:http://pages.destination.one/de/teutonavigator/streaming/detail/Event/e
 _100921889/lichterzauber
END:VEVENT
BEGIN:VEVENT
CATEGORIES:Gesundheit/Wellness
DESCRIPTION:ROMANTISCHES KERZENLICHT // ILLUMINATION // MEDITATIVE MUSIK //
  ENTSPANNENDE KLÄNGEErleben Sie den Zauber der Lichter und gönnen Sie sich
  eine Auszeit vom Alltag!\n\nmehr Informationen unter http://pages.destina
 tion.one/de/teutonavigator/streaming/detail/Event/e_100921889/lichterzaube
 r
DTEND;TZID=Europe/Berlin:20250330T213000
DTSTAMP:20260422T100824Z
DTSTART;TZID=Europe/Berlin:20250330T190000
GEO:52.379573;8.628592
LOCATION:Freizeitbad Atoll\, Trakehner Straße 9\, Espelkamp
ORGANIZER;CN=Atoll Freizeitbad - Aquapark Management GmbH:mailto:info@atoll
 -espelkamp.de
SEQUENCE:0
SUMMARY:Lichterzauber
UID:e_100921889_iv5
URL:http://pages.destination.one/de/teutonavigator/streaming/detail/Event/e
 _100921889/lichterzauber
END:VEVENT
BEGIN:VEVENT
CATEGORIES:Gesundheit/Wellness
DESCRIPTION:ROMANTISCHES KERZENLICHT // ILLUMINATION // MEDITATIVE MUSIK //
  ENTSPANNENDE KLÄNGEErleben Sie den Zauber der Lichter und gönnen Sie sich
  eine Auszeit vom Alltag!\n\nmehr Informationen unter http://pages.destina
 tion.one/de/teutonavigator/streaming/detail/Event/e_100921889/lichterzaube
 r
DTEND;TZID=Europe/Berlin:20251026T213000
DTSTAMP:20260422T100824Z
DTSTART;TZID=Europe/Berlin:20251026T190000
GEO:52.379573;8.628592
LOCATION:Freizeitbad Atoll\, Trakehner Straße 9\, Espelkamp
ORGANIZER;CN=Atoll Freizeitbad - Aquapark Management GmbH:mailto:info@atoll
 -espelkamp.de
SEQUENCE:0
SUMMARY:Lichterzauber
UID:e_100921889_iv6
URL:http://pages.destination.one/de/teutonavigator/streaming/detail/Event/e
 _100921889/lichterzauber
END:VEVENT
BEGIN:VEVENT
CATEGORIES:Gesundheit/Wellness
DESCRIPTION:ROMANTISCHES KERZENLICHT // ILLUMINATION // MEDITATIVE MUSIK //
  ENTSPANNENDE KLÄNGEErleben Sie den Zauber der Lichter und gönnen Sie sich
  eine Auszeit vom Alltag!\n\nmehr Informationen unter http://pages.destina
 tion.one/de/teutonavigator/streaming/detail/Event/e_100921889/lichterzaube
 r
DTEND;TZID=Europe/Berlin:20251130T213000
DTSTAMP:20260422T100824Z
DTSTART;TZID=Europe/Berlin:20251130T190000
GEO:52.379573;8.628592
LOCATION:Freizeitbad Atoll\, Trakehner Straße 9\, Espelkamp
ORGANIZER;CN=Atoll Freizeitbad - Aquapark Management GmbH:mailto:info@atoll
 -espelkamp.de
SEQUENCE:0
SUMMARY:Lichterzauber
UID:e_100921889_iv7
URL:http://pages.destination.one/de/teutonavigator/streaming/detail/Event/e
 _100921889/lichterzauber
END:VEVENT
BEGIN:VEVENT
CATEGORIES:Gesundheit/Wellness
DESCRIPTION:ROMANTISCHES KERZENLICHT // ILLUMINATION // MEDITATIVE MUSIK //
  ENTSPANNENDE KLÄNGEErleben Sie den Zauber der Lichter und gönnen Sie sich
  eine Auszeit vom Alltag!\n\nmehr Informationen unter http://pages.destina
 tion.one/de/teutonavigator/streaming/detail/Event/e_100921889/lichterzaube
 r
DTEND;TZID=Europe/Berlin:20251228T213000
DTSTAMP:20260422T100824Z
DTSTART;TZID=Europe/Berlin:20251228T190000
GEO:52.379573;8.628592
LOCATION:Freizeitbad Atoll\, Trakehner Straße 9\, Espelkamp
ORGANIZER;CN=Atoll Freizeitbad - Aquapark Management GmbH:mailto:info@atoll
 -espelkamp.de
SEQUENCE:0
SUMMARY:Lichterzauber
UID:e_100921889_iv8
URL:http://pages.destination.one/de/teutonavigator/streaming/detail/Event/e
 _100921889/lichterzauber
END:VEVENT
BEGIN:VEVENT
CATEGORIES:Gesundheit/Wellness
DESCRIPTION:ROMANTISCHES KERZENLICHT // ILLUMINATION // MEDITATIVE MUSIK //
  ENTSPANNENDE KLÄNGEErleben Sie den Zauber der Lichter und gönnen Sie sich
  eine Auszeit vom Alltag!\n\nmehr Informationen unter http://pages.destina
 tion.one/de/teutonavigator/streaming/detail/Event/e_100921889/lichterzaube
 r
DTEND;TZID=Europe/Berlin:20260125T203000
DTSTAMP:20260422T100824Z
DTSTART;TZID=Europe/Berlin:20260125T183000
GEO:52.379573;8.628592
LOCATION:Freizeitbad Atoll\, Trakehner Straße 9\, Espelkamp
ORGANIZER;CN=Atoll Freizeitbad - Aquapark Management GmbH:mailto:info@atoll
 -espelkamp.de
SEQUENCE:0
SUMMARY:Lichterzauber
UID:e_100921889_iv9
URL:http://pages.destination.one/de/teutonavigator/streaming/detail/Event/e
 _100921889/lichterzauber
END:VEVENT
BEGIN:VEVENT
CATEGORIES:Gesundheit/Wellness
DESCRIPTION:ROMANTISCHES KERZENLICHT // ILLUMINATION // MEDITATIVE MUSIK //
  ENTSPANNENDE KLÄNGEErleben Sie den Zauber der Lichter und gönnen Sie sich
  eine Auszeit vom Alltag!\n\nmehr Informationen unter http://pages.destina
 tion.one/de/teutonavigator/streaming/detail/Event/e_100921889/lichterzaube
 r
DTEND;TZID=Europe/Berlin:20260222T203000
DTSTAMP:20260422T100824Z
DTSTART;TZID=Europe/Berlin:20260222T183000
GEO:52.379573;8.628592
LOCATION:Freizeitbad Atoll\, Trakehner Straße 9\, Espelkamp
ORGANIZER;CN=Atoll Freizeitbad - Aquapark Management GmbH:mailto:info@atoll
 -espelkamp.de
SEQUENCE:0
SUMMARY:Lichterzauber
UID:e_100921889_iv10
URL:http://pages.destination.one/de/teutonavigator/streaming/detail/Event/e
 _100921889/lichterzauber
END:VEVENT
BEGIN:VEVENT
CATEGORIES:Gesundheit/Wellness
DESCRIPTION:ROMANTISCHES KERZENLICHT // ILLUMINATION // MEDITATIVE MUSIK //
  ENTSPANNENDE KLÄNGEErleben Sie den Zauber der Lichter und gönnen Sie sich
  eine Auszeit vom Alltag!\n\nmehr Informationen unter http://pages.destina
 tion.one/de/teutonavigator/streaming/detail/Event/e_100921889/lichterzaube
 r
DTEND;TZID=Europe/Berlin:20260329T203000
DTSTAMP:20260422T100824Z
DTSTART;TZID=Europe/Berlin:20260329T183000
GEO:52.379573;8.628592
LOCATION:Freizeitbad Atoll\, Trakehner Straße 9\, Espelkamp
ORGANIZER;CN=Atoll Freizeitbad - Aquapark Management GmbH:mailto:info@atoll
 -espelkamp.de
SEQUENCE:0
SUMMARY:Lichterzauber
UID:e_100921889_iv11
URL:http://pages.destination.one/de/teutonavigator/streaming/detail/Event/e
 _100921889/lichterzauber
END:VEVENT
BEGIN:VEVENT
CATEGORIES:Gesundheit/Wellness
DESCRIPTION:ROMANTISCHES KERZENLICHT // ILLUMINATION // MEDITATIVE MUSIK //
  ENTSPANNENDE KLÄNGEErleben Sie den Zauber der Lichter und gönnen Sie sich
  eine Auszeit vom Alltag!\n\nmehr Informationen unter http://pages.destina
 tion.one/de/teutonavigator/streaming/detail/Event/e_100921889/lichterzaube
 r
DTEND;TZID=Europe/Berlin:20261025T203000
DTSTAMP:20260422T100824Z
DTSTART;TZID=Europe/Berlin:20261025T183000
GEO:52.379573;8.628592
LOCATION:Freizeitbad Atoll\, Trakehner Straße 9\, Espelkamp
ORGANIZER;CN=Atoll Freizeitbad - Aquapark Management GmbH:mailto:info@atoll
 -espelkamp.de
SEQUENCE:0
SUMMARY:Lichterzauber
UID:e_100921889_iv12
URL:http://pages.destination.one/de/teutonavigator/streaming/detail/Event/e
 _100921889/lichterzauber
END:VEVENT
BEGIN:VEVENT
CATEGORIES:Gesundheit/Wellness
DESCRIPTION:ROMANTISCHES KERZENLICHT // ILLUMINATION // MEDITATIVE MUSIK //
  ENTSPANNENDE KLÄNGEErleben Sie den Zauber der Lichter und gönnen Sie sich
  eine Auszeit vom Alltag!\n\nmehr Informationen unter http://pages.destina
 tion.one/de/teutonavigator/streaming/detail/Event/e_100921889/lichterzaube
 r
DTEND;TZID=Europe/Berlin:20261129T203000
DTSTAMP:20260422T100824Z
DTSTART;TZID=Europe/Berlin:20261129T183000
GEO:52.379573;8.628592
LOCATION:Freizeitbad Atoll\, Trakehner Straße 9\, Espelkamp
ORGANIZER;CN=Atoll Freizeitbad - Aquapark Management GmbH:mailto:info@atoll
 -espelkamp.de
SEQUENCE:0
SUMMARY:Lichterzauber
UID:e_100921889_iv13
URL:http://pages.destination.one/de/teutonavigator/streaming/detail/Event/e
 _100921889/lichterzauber
END:VEVENT
BEGIN:VEVENT
CATEGORIES:Gesundheit/Wellness
DESCRIPTION:ROMANTISCHES KERZENLICHT // ILLUMINATION // MEDITATIVE MUSIK //
  ENTSPANNENDE KLÄNGEErleben Sie den Zauber der Lichter und gönnen Sie sich
  eine Auszeit vom Alltag!\n\nmehr Informationen unter http://pages.destina
 tion.one/de/teutonavigator/streaming/detail/Event/e_100921889/lichterzaube
 r
DTEND;TZID=Europe/Berlin:20261227T203000
DTSTAMP:20260422T100824Z
DTSTART;TZID=Europe/Berlin:20261227T183000
GEO:52.379573;8.628592
LOCATION:Freizeitbad Atoll\, Trakehner Straße 9\, Espelkamp
ORGANIZER;CN=Atoll Freizeitbad - Aquapark Management GmbH:mailto:info@atoll
 -espelkamp.de
SEQUENCE:0
SUMMARY:Lichterzauber
UID:e_100921889_iv14
URL:http://pages.destination.one/de/teutonavigator/streaming/detail/Event/e
 _100921889/lichterzauber
END:VEVENT
BEGIN:VTIMEZONE
TZID:Europe/Berlin
X-LIC-LOCATION:Europe/Berlin
BEGIN:DAYLIGHT
DTSTART:19700329T020000
RRULE:FREQ=YEARLY;BYDAY=-1SU;BYMONTH=3
TZNAME:CEST
TZOFFSETFROM:+0100
TZOFFSETTO:+0200
END:DAYLIGHT
BEGIN:STANDARD
DTSTART:19701025T030000
RRULE:FREQ=YEARLY;BYDAY=-1SU;BYMONTH=10
TZNAME:CET
TZOFFSETFROM:+0200
TZOFFSETTO:+0100
END:STANDARD
END:VTIMEZONE
END:VCALENDAR
