BEGIN:VCALENDAR
VERSION:2.0
PRODID:-//destination.one//NONSGML destination.meta API//DE
X-WR-CALDESC:A calendar powered by destination.meta
X-WR-CALNAME:teutonavigator Kalender via destination.meta
BEGIN:VEVENT
CATEGORIES:Ausflug/Exkursion
DESCRIPTION:\n\nmehr Informationen unter http://pages.destination.one/de/te
 utonavigator/streaming/detail/Event/e_100920678/ausflugsfahrt-nach-hameln
DTEND;TZID=Europe/Berlin:20230603T180000
DTSTAMP:20260422T144049Z
DTSTART;TZID=Europe/Berlin:20230603T125000
GEO:51.718022;9.019337
LOCATION:spar-tours\, Groppendiek 17\, Bad Driburg
ORGANIZER;CN=spar-tours:http://https//spar-tours.de
SEQUENCE:0
SUMMARY:Ausflugsfahrt nach Hameln
UID:e_100920678_iv0
URL:http://pages.destination.one/de/teutonavigator/streaming/detail/Event/e
 _100920678/ausflugsfahrt-nach-hameln
END:VEVENT
BEGIN:VEVENT
CATEGORIES:Ausflug/Exkursion
DESCRIPTION:\n\nmehr Informationen unter http://pages.destination.one/de/te
 utonavigator/streaming/detail/Event/e_100920678/ausflugsfahrt-nach-hameln
DTEND;TZID=Europe/Berlin:20230729T235900
DTSTAMP:20260422T144049Z
DTSTART;TZID=Europe/Berlin:20230729T130000
GEO:51.718022;9.019337
LOCATION:spar-tours\, Groppendiek 17\, Bad Driburg
ORGANIZER;CN=spar-tours:http://https//spar-tours.de
SEQUENCE:0
SUMMARY:Ausflugsfahrt nach Hameln
UID:e_100920678_iv1
URL:http://pages.destination.one/de/teutonavigator/streaming/detail/Event/e
 _100920678/ausflugsfahrt-nach-hameln
END:VEVENT
BEGIN:VEVENT
CATEGORIES:Ausflug/Exkursion
DESCRIPTION:\n\nmehr Informationen unter http://pages.destination.one/de/te
 utonavigator/streaming/detail/Event/e_100920678/ausflugsfahrt-nach-hameln
DTEND;TZID=Europe/Berlin:20231021T235900
DTSTAMP:20260422T144049Z
DTSTART;TZID=Europe/Berlin:20231021T130000
GEO:51.718022;9.019337
LOCATION:spar-tours\, Groppendiek 17\, Bad Driburg
ORGANIZER;CN=spar-tours:http://https//spar-tours.de
SEQUENCE:0
SUMMARY:Ausflugsfahrt nach Hameln
UID:e_100920678_iv2
URL:http://pages.destination.one/de/teutonavigator/streaming/detail/Event/e
 _100920678/ausflugsfahrt-nach-hameln
END:VEVENT
BEGIN:VEVENT
CATEGORIES:Ausflug/Exkursion
DESCRIPTION:\n\nmehr Informationen unter http://pages.destination.one/de/te
 utonavigator/streaming/detail/Event/e_100920678/ausflugsfahrt-nach-hameln
DTEND;TZID=Europe/Berlin:20231202T235900
DTSTAMP:20260422T144049Z
DTSTART;TZID=Europe/Berlin:20231202T130000
GEO:51.718022;9.019337
LOCATION:spar-tours\, Groppendiek 17\, Bad Driburg
ORGANIZER;CN=spar-tours:http://https//spar-tours.de
SEQUENCE:0
SUMMARY:Ausflugsfahrt nach Hameln
UID:e_100920678_iv3
URL:http://pages.destination.one/de/teutonavigator/streaming/detail/Event/e
 _100920678/ausflugsfahrt-nach-hameln
END:VEVENT
BEGIN:VEVENT
CATEGORIES:Ausflug/Exkursion
DESCRIPTION:\n\nmehr Informationen unter http://pages.destination.one/de/te
 utonavigator/streaming/detail/Event/e_100920678/ausflugsfahrt-nach-hameln
DTEND;TZID=Europe/Berlin:20240120T180000
DTSTAMP:20260422T144049Z
DTSTART;TZID=Europe/Berlin:20240120T130000
GEO:51.718022;9.019337
LOCATION:spar-tours\, Groppendiek 17\, Bad Driburg
ORGANIZER;CN=spar-tours:http://https//spar-tours.de
SEQUENCE:0
SUMMARY:Ausflugsfahrt nach Hameln
UID:e_100920678_iv4
URL:http://pages.destination.one/de/teutonavigator/streaming/detail/Event/e
 _100920678/ausflugsfahrt-nach-hameln
END:VEVENT
BEGIN:VEVENT
CATEGORIES:Ausflug/Exkursion
DESCRIPTION:\n\nmehr Informationen unter http://pages.destination.one/de/te
 utonavigator/streaming/detail/Event/e_100920678/ausflugsfahrt-nach-hameln
DTEND;TZID=Europe/Berlin:20240302T180000
DTSTAMP:20260422T144049Z
DTSTART;TZID=Europe/Berlin:20240302T130000
GEO:51.718022;9.019337
LOCATION:spar-tours\, Groppendiek 17\, Bad Driburg
ORGANIZER;CN=spar-tours:http://https//spar-tours.de
SEQUENCE:0
SUMMARY:Ausflugsfahrt nach Hameln
UID:e_100920678_iv5
URL:http://pages.destination.one/de/teutonavigator/streaming/detail/Event/e
 _100920678/ausflugsfahrt-nach-hameln
END:VEVENT
BEGIN:VEVENT
CATEGORIES:Ausflug/Exkursion
DESCRIPTION:\n\nmehr Informationen unter http://pages.destination.one/de/te
 utonavigator/streaming/detail/Event/e_100920678/ausflugsfahrt-nach-hameln
DTEND;TZID=Europe/Berlin:20240413T180000
DTSTAMP:20260422T144049Z
DTSTART;TZID=Europe/Berlin:20240413T130000
GEO:51.718022;9.019337
LOCATION:spar-tours\, Groppendiek 17\, Bad Driburg
ORGANIZER;CN=spar-tours:http://https//spar-tours.de
SEQUENCE:0
SUMMARY:Ausflugsfahrt nach Hameln
UID:e_100920678_iv6
URL:http://pages.destination.one/de/teutonavigator/streaming/detail/Event/e
 _100920678/ausflugsfahrt-nach-hameln
END:VEVENT
BEGIN:VEVENT
CATEGORIES:Ausflug/Exkursion
DESCRIPTION:\n\nmehr Informationen unter http://pages.destination.one/de/te
 utonavigator/streaming/detail/Event/e_100920678/ausflugsfahrt-nach-hameln
DTEND;TZID=Europe/Berlin:20240525T180000
DTSTAMP:20260422T144049Z
DTSTART;TZID=Europe/Berlin:20240525T130000
GEO:51.718022;9.019337
LOCATION:spar-tours\, Groppendiek 17\, Bad Driburg
ORGANIZER;CN=spar-tours:http://https//spar-tours.de
SEQUENCE:0
SUMMARY:Ausflugsfahrt nach Hameln
UID:e_100920678_iv7
URL:http://pages.destination.one/de/teutonavigator/streaming/detail/Event/e
 _100920678/ausflugsfahrt-nach-hameln
END:VEVENT
BEGIN:VEVENT
CATEGORIES:Ausflug/Exkursion
DESCRIPTION:\n\nmehr Informationen unter http://pages.destination.one/de/te
 utonavigator/streaming/detail/Event/e_100920678/ausflugsfahrt-nach-hameln
DTEND;TZID=Europe/Berlin:20240706T180000
DTSTAMP:20260422T144049Z
DTSTART;TZID=Europe/Berlin:20240706T130000
GEO:51.718022;9.019337
LOCATION:spar-tours\, Groppendiek 17\, Bad Driburg
ORGANIZER;CN=spar-tours:http://https//spar-tours.de
SEQUENCE:0
SUMMARY:Ausflugsfahrt nach Hameln
UID:e_100920678_iv8
URL:http://pages.destination.one/de/teutonavigator/streaming/detail/Event/e
 _100920678/ausflugsfahrt-nach-hameln
END:VEVENT
BEGIN:VEVENT
CATEGORIES:Ausflug/Exkursion
DESCRIPTION:\n\nmehr Informationen unter http://pages.destination.one/de/te
 utonavigator/streaming/detail/Event/e_100920678/ausflugsfahrt-nach-hameln
DTEND;TZID=Europe/Berlin:20240817T180000
DTSTAMP:20260422T144049Z
DTSTART;TZID=Europe/Berlin:20240817T130000
GEO:51.718022;9.019337
LOCATION:spar-tours\, Groppendiek 17\, Bad Driburg
ORGANIZER;CN=spar-tours:http://https//spar-tours.de
SEQUENCE:0
SUMMARY:Ausflugsfahrt nach Hameln
UID:e_100920678_iv9
URL:http://pages.destination.one/de/teutonavigator/streaming/detail/Event/e
 _100920678/ausflugsfahrt-nach-hameln
END:VEVENT
BEGIN:VEVENT
CATEGORIES:Ausflug/Exkursion
DESCRIPTION:\n\nmehr Informationen unter http://pages.destination.one/de/te
 utonavigator/streaming/detail/Event/e_100920678/ausflugsfahrt-nach-hameln
DTEND;TZID=Europe/Berlin:20240928T180000
DTSTAMP:20260422T144049Z
DTSTART;TZID=Europe/Berlin:20240928T130000
GEO:51.718022;9.019337
LOCATION:spar-tours\, Groppendiek 17\, Bad Driburg
ORGANIZER;CN=spar-tours:http://https//spar-tours.de
SEQUENCE:0
SUMMARY:Ausflugsfahrt nach Hameln
UID:e_100920678_iv10
URL:http://pages.destination.one/de/teutonavigator/streaming/detail/Event/e
 _100920678/ausflugsfahrt-nach-hameln
END:VEVENT
BEGIN:VEVENT
CATEGORIES:Ausflug/Exkursion
DESCRIPTION:\n\nmehr Informationen unter http://pages.destination.one/de/te
 utonavigator/streaming/detail/Event/e_100920678/ausflugsfahrt-nach-hameln
DTEND;TZID=Europe/Berlin:20241221T235900
DTSTAMP:20260422T144049Z
DTSTART;TZID=Europe/Berlin:20241221T130000
GEO:51.718022;9.019337
LOCATION:spar-tours\, Groppendiek 17\, Bad Driburg
ORGANIZER;CN=spar-tours:http://https//spar-tours.de
SEQUENCE:0
SUMMARY:Ausflugsfahrt nach Hameln
UID:e_100920678_iv11
URL:http://pages.destination.one/de/teutonavigator/streaming/detail/Event/e
 _100920678/ausflugsfahrt-nach-hameln
END:VEVENT
BEGIN:VEVENT
CATEGORIES:Ausflug/Exkursion
DESCRIPTION:\n\nmehr Informationen unter http://pages.destination.one/de/te
 utonavigator/streaming/detail/Event/e_100920678/ausflugsfahrt-nach-hameln
DTEND;TZID=Europe/Berlin:20250201T235900
DTSTAMP:20260422T144049Z
DTSTART;TZID=Europe/Berlin:20250201T130000
GEO:51.718022;9.019337
LOCATION:spar-tours\, Groppendiek 17\, Bad Driburg
ORGANIZER;CN=spar-tours:http://https//spar-tours.de
SEQUENCE:0
SUMMARY:Ausflugsfahrt nach Hameln
UID:e_100920678_iv12
URL:http://pages.destination.one/de/teutonavigator/streaming/detail/Event/e
 _100920678/ausflugsfahrt-nach-hameln
END:VEVENT
BEGIN:VEVENT
CATEGORIES:Ausflug/Exkursion
DESCRIPTION:\n\nmehr Informationen unter http://pages.destination.one/de/te
 utonavigator/streaming/detail/Event/e_100920678/ausflugsfahrt-nach-hameln
DTEND;TZID=Europe/Berlin:20250315T235900
DTSTAMP:20260422T144049Z
DTSTART;TZID=Europe/Berlin:20250315T130000
GEO:51.718022;9.019337
LOCATION:spar-tours\, Groppendiek 17\, Bad Driburg
ORGANIZER;CN=spar-tours:http://https//spar-tours.de
SEQUENCE:0
SUMMARY:Ausflugsfahrt nach Hameln
UID:e_100920678_iv13
URL:http://pages.destination.one/de/teutonavigator/streaming/detail/Event/e
 _100920678/ausflugsfahrt-nach-hameln
END:VEVENT
BEGIN:VEVENT
CATEGORIES:Ausflug/Exkursion
DESCRIPTION:\n\nmehr Informationen unter http://pages.destination.one/de/te
 utonavigator/streaming/detail/Event/e_100920678/ausflugsfahrt-nach-hameln
DTEND;TZID=Europe/Berlin:20250426T235900
DTSTAMP:20260422T144049Z
DTSTART;TZID=Europe/Berlin:20250426T130000
GEO:51.718022;9.019337
LOCATION:spar-tours\, Groppendiek 17\, Bad Driburg
ORGANIZER;CN=spar-tours:http://https//spar-tours.de
SEQUENCE:0
SUMMARY:Ausflugsfahrt nach Hameln
UID:e_100920678_iv14
URL:http://pages.destination.one/de/teutonavigator/streaming/detail/Event/e
 _100920678/ausflugsfahrt-nach-hameln
END:VEVENT
BEGIN:VEVENT
CATEGORIES:Ausflug/Exkursion
DESCRIPTION:\n\nmehr Informationen unter http://pages.destination.one/de/te
 utonavigator/streaming/detail/Event/e_100920678/ausflugsfahrt-nach-hameln
DTEND;TZID=Europe/Berlin:20250719T235900
DTSTAMP:20260422T144049Z
DTSTART;TZID=Europe/Berlin:20250719T130000
GEO:51.718022;9.019337
LOCATION:spar-tours\, Groppendiek 17\, Bad Driburg
ORGANIZER;CN=spar-tours:http://https//spar-tours.de
SEQUENCE:0
SUMMARY:Ausflugsfahrt nach Hameln
UID:e_100920678_iv15
URL:http://pages.destination.one/de/teutonavigator/streaming/detail/Event/e
 _100920678/ausflugsfahrt-nach-hameln
END:VEVENT
BEGIN:VEVENT
CATEGORIES:Ausflug/Exkursion
DESCRIPTION:\n\nmehr Informationen unter http://pages.destination.one/de/te
 utonavigator/streaming/detail/Event/e_100920678/ausflugsfahrt-nach-hameln
DTEND;TZID=Europe/Berlin:20250913T235900
DTSTAMP:20260422T144049Z
DTSTART;TZID=Europe/Berlin:20250913T130000
GEO:51.718022;9.019337
LOCATION:spar-tours\, Groppendiek 17\, Bad Driburg
ORGANIZER;CN=spar-tours:http://https//spar-tours.de
SEQUENCE:0
SUMMARY:Ausflugsfahrt nach Hameln
UID:e_100920678_iv16
URL:http://pages.destination.one/de/teutonavigator/streaming/detail/Event/e
 _100920678/ausflugsfahrt-nach-hameln
END:VEVENT
BEGIN:VEVENT
CATEGORIES:Ausflug/Exkursion
DESCRIPTION:\n\nmehr Informationen unter http://pages.destination.one/de/te
 utonavigator/streaming/detail/Event/e_100920678/ausflugsfahrt-nach-hameln
DTEND;TZID=Europe/Berlin:20251025T235900
DTSTAMP:20260422T144049Z
DTSTART;TZID=Europe/Berlin:20251025T130000
GEO:51.718022;9.019337
LOCATION:spar-tours\, Groppendiek 17\, Bad Driburg
ORGANIZER;CN=spar-tours:http://https//spar-tours.de
SEQUENCE:0
SUMMARY:Ausflugsfahrt nach Hameln
UID:e_100920678_iv17
URL:http://pages.destination.one/de/teutonavigator/streaming/detail/Event/e
 _100920678/ausflugsfahrt-nach-hameln
END:VEVENT
BEGIN:VEVENT
CATEGORIES:Ausflug/Exkursion
DESCRIPTION:\n\nmehr Informationen unter http://pages.destination.one/de/te
 utonavigator/streaming/detail/Event/e_100920678/ausflugsfahrt-nach-hameln
DTEND;TZID=Europe/Berlin:20251206T235900
DTSTAMP:20260422T144049Z
DTSTART;TZID=Europe/Berlin:20251206T130000
GEO:51.718022;9.019337
LOCATION:spar-tours\, Groppendiek 17\, Bad Driburg
ORGANIZER;CN=spar-tours:http://https//spar-tours.de
SEQUENCE:0
SUMMARY:Ausflugsfahrt nach Hameln
UID:e_100920678_iv18
URL:http://pages.destination.one/de/teutonavigator/streaming/detail/Event/e
 _100920678/ausflugsfahrt-nach-hameln
END:VEVENT
BEGIN:VEVENT
CATEGORIES:Ausflug/Exkursion
DESCRIPTION:\n\nmehr Informationen unter http://pages.destination.one/de/te
 utonavigator/streaming/detail/Event/e_100920678/ausflugsfahrt-nach-hameln
DTEND;TZID=Europe/Berlin:20260110T235900
DTSTAMP:20260422T144049Z
DTSTART;TZID=Europe/Berlin:20260110T130000
GEO:51.718022;9.019337
LOCATION:spar-tours\, Groppendiek 17\, Bad Driburg
ORGANIZER;CN=spar-tours:http://https//spar-tours.de
SEQUENCE:0
SUMMARY:Ausflugsfahrt nach Hameln
UID:e_100920678_iv19
URL:http://pages.destination.one/de/teutonavigator/streaming/detail/Event/e
 _100920678/ausflugsfahrt-nach-hameln
END:VEVENT
BEGIN:VEVENT
CATEGORIES:Ausflug/Exkursion
DESCRIPTION:\n\nmehr Informationen unter http://pages.destination.one/de/te
 utonavigator/streaming/detail/Event/e_100920678/ausflugsfahrt-nach-hameln
DTEND;TZID=Europe/Berlin:20260117T235900
DTSTAMP:20260422T144049Z
DTSTART;TZID=Europe/Berlin:20260117T130000
GEO:51.718022;9.019337
LOCATION:spar-tours\, Groppendiek 17\, Bad Driburg
ORGANIZER;CN=spar-tours:http://https//spar-tours.de
SEQUENCE:0
SUMMARY:Ausflugsfahrt nach Hameln
UID:e_100920678_iv20
URL:http://pages.destination.one/de/teutonavigator/streaming/detail/Event/e
 _100920678/ausflugsfahrt-nach-hameln
END:VEVENT
BEGIN:VEVENT
CATEGORIES:Ausflug/Exkursion
DESCRIPTION:\n\nmehr Informationen unter http://pages.destination.one/de/te
 utonavigator/streaming/detail/Event/e_100920678/ausflugsfahrt-nach-hameln
DTEND;TZID=Europe/Berlin:20260221T235900
DTSTAMP:20260422T144049Z
DTSTART;TZID=Europe/Berlin:20260221T130000
GEO:51.718022;9.019337
LOCATION:spar-tours\, Groppendiek 17\, Bad Driburg
ORGANIZER;CN=spar-tours:http://https//spar-tours.de
SEQUENCE:0
SUMMARY:Ausflugsfahrt nach Hameln
UID:e_100920678_iv21
URL:http://pages.destination.one/de/teutonavigator/streaming/detail/Event/e
 _100920678/ausflugsfahrt-nach-hameln
END:VEVENT
BEGIN:VEVENT
CATEGORIES:Ausflug/Exkursion
DESCRIPTION:\n\nmehr Informationen unter http://pages.destination.one/de/te
 utonavigator/streaming/detail/Event/e_100920678/ausflugsfahrt-nach-hameln
DTEND;TZID=Europe/Berlin:20260404T235900
DTSTAMP:20260422T144049Z
DTSTART;TZID=Europe/Berlin:20260404T130000
GEO:51.718022;9.019337
LOCATION:spar-tours\, Groppendiek 17\, Bad Driburg
ORGANIZER;CN=spar-tours:http://https//spar-tours.de
SEQUENCE:0
SUMMARY:Ausflugsfahrt nach Hameln
UID:e_100920678_iv22
URL:http://pages.destination.one/de/teutonavigator/streaming/detail/Event/e
 _100920678/ausflugsfahrt-nach-hameln
END:VEVENT
BEGIN:VEVENT
CATEGORIES:Ausflug/Exkursion
DESCRIPTION:\n\nmehr Informationen unter http://pages.destination.one/de/te
 utonavigator/streaming/detail/Event/e_100920678/ausflugsfahrt-nach-hameln
DTEND;TZID=Europe/Berlin:20260516T235900
DTSTAMP:20260422T144049Z
DTSTART;TZID=Europe/Berlin:20260516T130000
GEO:51.718022;9.019337
LOCATION:spar-tours\, Groppendiek 17\, Bad Driburg
ORGANIZER;CN=spar-tours:http://https//spar-tours.de
SEQUENCE:0
SUMMARY:Ausflugsfahrt nach Hameln
UID:e_100920678_iv23
URL:http://pages.destination.one/de/teutonavigator/streaming/detail/Event/e
 _100920678/ausflugsfahrt-nach-hameln
END:VEVENT
BEGIN:VTIMEZONE
TZID:Europe/Berlin
X-LIC-LOCATION:Europe/Berlin
BEGIN:DAYLIGHT
DTSTART:19700329T020000
RRULE:FREQ=YEARLY;BYDAY=-1SU;BYMONTH=3
TZNAME:CEST
TZOFFSETFROM:+0100
TZOFFSETTO:+0200
END:DAYLIGHT
BEGIN:STANDARD
DTSTART:19701025T030000
RRULE:FREQ=YEARLY;BYDAY=-1SU;BYMONTH=10
TZNAME:CET
TZOFFSETFROM:+0200
TZOFFSETTO:+0100
END:STANDARD
END:VTIMEZONE
END:VCALENDAR
