BEGIN:VCALENDAR
VERSION:2.0
PRODID:-//destination.one//NONSGML destination.meta API//DE
X-WR-CALDESC:A calendar powered by destination.meta
X-WR-CALNAME:teutonavigator Kalender via destination.meta
BEGIN:VEVENT
CATEGORIES:Markt
DESCRIPTION:\n\nmehr Informationen unter http://pages.destination.one/de/te
 utonavigator/streaming/detail/Event/e_100903312/wochenmarkt-verl
DTEND;TZID=Europe/Berlin:20240907T180000
DTSTAMP:20260421T174140Z
DTSTART;TZID=Europe/Berlin:20240907T090000
GEO:51.881203;8.509061
LOCATION:Marktplatz\, Bahnhofstraße\, Verl
ORGANIZER;CN=Stadt Verl:http://www.verl.de/
RRULE:FREQ=WEEKLY;BYDAY=FR
SEQUENCE:0
SUMMARY:Wochenmarkt Verl
UID:e_100903312_iv0
URL:http://pages.destination.one/de/teutonavigator/streaming/detail/Event/e
 _100903312/wochenmarkt-verl
END:VEVENT
BEGIN:VTIMEZONE
TZID:Europe/Berlin
X-LIC-LOCATION:Europe/Berlin
BEGIN:DAYLIGHT
DTSTART:19700329T020000
RRULE:FREQ=YEARLY;BYDAY=-1SU;BYMONTH=3
TZNAME:CEST
TZOFFSETFROM:+0100
TZOFFSETTO:+0200
END:DAYLIGHT
BEGIN:STANDARD
DTSTART:19701025T030000
RRULE:FREQ=YEARLY;BYDAY=-1SU;BYMONTH=10
TZNAME:CET
TZOFFSETFROM:+0200
TZOFFSETTO:+0100
END:STANDARD
END:VTIMEZONE
END:VCALENDAR
